Workbook

Sheet Prime
A1: Vendor Name | E1: LINE ITEM BUDGET
A2: Address
A3: Address | H3: Title of Project: | R3: Title of Project: | S3: =I3 -> 0 | AB3: Title of Project: | AC3: =I3 -> 0 | AL3: Title of Project: | AM3: =S3 -> 0
A4: email
A5: Phone | H5: RFP Number: | R5: RFP Number: | S5: =I5 -> 0 | AB5: RFP Number: | AC5: =S5 -> 0 | AL5: RFP Number: | AM5: =AC5 -> 0
A7: (a) | B7: (b) | C7: (c) | D7: (d) | E7: (e) | F7: (f) | G7: (g) | H7: (h) | I7: (i) | J7: (j) | K7: (k) | L7: (l) | M7: (m) | N7: (n) | O7: (o) | P7: (p) | Q7: (q) | R7: (r) | S7: (s) | T7: (t) | U7: (u) | V7: (v) | W7: (w) | X7: (x) | Y7: (y) | Z7: (z) | AA7: (aa) | AB7: (ab) | AC7: (ac) | AD7: (ad) | AE7: (ae) | AF7: (af) | AG7: (ag) | AH7: (ah) | AI7: (ai) | AJ7: (aj) | AK7: (ak) | AL7: (al) | AM7: (am) | AN7: (an) | AO7: (ao) | AP7: (ap)
A8: Cost Categories | B8: Maximum Hourly Rate | C8: Task 1 | E8: Task 2 | G8: Task 3 | I8: Task 4 | K8: Task 5 | M8: Task 6 | O8: Task 7 | Q8: Task 8 | S8: Task 9 | U8: Task 10 | W8: Task 11 | Y8: Task 12 | AA8: Task 13 | AC8: Task 14 | AE8: Task 15 | AG8: Task 16 | AI8: Task 17 | AK8: Task 18 | AM8: Task 19 | AO8: Task 20 | AQ8: Grand Total (All Tasks)
C9: Task Name | E9: Task Name | G9: Task Name | I9: Task Name | K9: Task Name | M9: Task Name | O9: Task Name | Q9: Task Name | S9: Task Name | U9: Task Name | W9: Task Name | Y9: Task Name | AA9: Task Name | AC9: Task Name | AE9: Task Name | AG9: Task Name | AI9: Task Name | AK9: Task Name | AM9: Task Name | AO9: Task Name
C10: Hours | D10: Amount | E10: Hours | F10: Amount | G10: Hours | H10: Amount | I10: Hours | J10: Amount | K10: Hours | L10: Amount | M10: Hours | N10: Amount | O10: Hours | P10: Amount | Q10: Hours | R10: Amount | S10: Hours | T10: Amount | U10: Hours | V10: Amount | W10: Hours | X10: Amount | Y10: Hours | Z10: Amount | AA10: Hours | AB10: Amount | AC10: Hours | AD10: Amount | AE10: Hours | AF10: Amount | AG10: Hours | AH10: Amount | AI10: Hours | AJ10: Amount | AK10: Hours | AL10: Amount | AM10: Hours | AN10: Amount | AO10: Hours | AP10: Amount | AQ10: Hours | AR10: Amount
A11: Direct Labor Classification(s)
A12: Personnel Classification | C12: 0 | D12: =B12*C12 -> 0 | E12: 0 | F12: =$B12*E12 -> 0 | G12: 0 | H12: =$B12*G12 -> 0 | I12: 0 | J12: =$B12*I12 -> 0 | K12: 0 | L12: =$B12*K12 -> 0 | M12: 0 | N12: =$B12*M12 -> 0 | O12: 0 | P12: =$B12*O12 -> 0 | Q12: 0 | R12: =$B12*Q12 -> 0 | S12: 0 | T12: =$B12*S12 -> 0 | U12: 0 | V12: =$B12*U12 -> 0 | W12: 0 | X12: =$B12*W12 -> 0 | Y12: 0 | Z12: =$B12*Y12 -> 0 | AA12: 0 | AB12: =$B12*AA12 -> 0 | AC12: 0 | AD12: =$B12*AC12 -> 0 | AE12: 0 | AF12: =$B12*AE12 -> 0 | AG12: 0 | AH12: =$B12*AG12 -> 0 | AI12: 0 | AJ12: =$B12*AI12 -> 0 | AK12: 0 | AL12: =$B12*AK12 -> 0 | AM12: 0 | AN12: =$B12*AM12 -> 0 | AO12: 0 | AP12: =$B12*AO12 -> 0 | AQ12: =C12+E12+G12+I12+K12+M12+O12+Q12+S12+U12+W12+Y12+AA12+AC12+AE12+AG12+AI12+AK12+AM12+AO12 -> 0 | AR12: =D12+F12+H12+J12+L12+N12+P12+R12+T12+V12+X12+Z12+AB12+AD12+AF12+AH12+AJ12+AL12+AN12+AP12 -> 0
A13: Personnel Classification | C13: 0 | D13: =B13*C13 -> 0 | E13: 0 | F13: =$B13*E13 -> 0 | G13: 0 | H13: =$B13*G13 -> 0 | I13: 0 | J13: =$B13*I13 -> 0 | K13: 0 | L13: =$B13*K13 -> 0 | M13: 0 | N13: =$B13*M13 -> 0 | O13: 0 | P13: =$B13*O13 -> 0 | Q13: 0 | R13: =$B13*Q13 -> 0 | S13: 0 | T13: =$B13*S13 -> 0 | U13: 0 | V13: =$B13*U13 -> 0 | W13: 0 | X13: =$B13*W13 -> 0 | Y13: 0 | Z13: =$B13*Y13 -> 0 | AA13: 0 | AB13: =$B13*AA13 -> 0 | AC13: 0 | AD13: =$B13*AC13 -> 0 | AE13: 0 | AF13: =$B13*AE13 -> 0 | AG13: 0 | AH13: =$B13*AG13 -> 0 | AI13: 0 | AJ13: =$B13*AI13 -> 0 | AK13: 0 | AL13: =$B13*AK13 -> 0 | AM13: 0 | AN13: =$B13*AM13 -> 0 | AO13: 0 | AP13: =$B13*AO13 -> 0 | AQ13: =C13+E13+G13+I13+K13+M13+O13+Q13+S13+U13+W13+Y13+AA13+AC13+AE13+AG13+AI13+AK13+AM13+AO13 -> 0 | AR13: =D13+F13+H13+J13+L13+N13+P13+R13+T13+V13+X13+Z13+AB13+AD13+AF13+AH13+AJ13+AL13+AN13+AP13 -> 0
A14: Personnel Classification | C14: 0 | D14: =B14*C14 -> 0 | E14: 0 | F14: =$B14*E14 -> 0 | G14: 0 | H14: =$B14*G14 -> 0 | I14: 0 | J14: =$B14*I14 -> 0 | K14: 0 | L14: =$B14*K14 -> 0 | M14: 0 | N14: =$B14*M14 -> 0 | O14: 0 | P14: =$B14*O14 -> 0 | Q14: 0 | R14: =$B14*Q14 -> 0 | S14: 0 | T14: =$B14*S14 -> 0 | U14: 0 | V14: =$B14*U14 -> 0 | W14: 0 | X14: =$B14*W14 -> 0 | Y14: 0 | Z14: =$B14*Y14 -> 0 | AA14: 0 | AB14: =$B14*AA14 -> 0 | AC14: 0 | AD14: =$B14*AC14 -> 0 | AE14: 0 | AF14: =$B14*AE14 -> 0 | AG14: 0 | AH14: =$B14*AG14 -> 0 | AI14: 0 | AJ14: =$B14*AI14 -> 0 | AK14: 0 | AL14: =$B14*AK14 -> 0 | AM14: 0 | AN14: =$B14*AM14 -> 0 | AO14: 0 | AP14: =$B14*AO14 -> 0 | AQ14: =C14+E14+G14+I14+K14+M14+O14+Q14+S14+U14+W14+Y14+AA14+AC14+AE14+AG14+AI14+AK14+AM14+AO14 -> 0 | AR14: =D14+F14+H14+J14+L14+N14+P14+R14+T14+V14+X14+Z14+AB14+AD14+AF14+AH14+AJ14+AL14+AN14+AP14 -> 0
A15: Personnel Classification | C15: 0 | D15: =B15*C15 -> 0 | E15: 0 | F15: =$B15*E15 -> 0 | G15: 0 | H15: =$B15*G15 -> 0 | I15: 0 | J15: =$B15*I15 -> 0 | K15: 0 | L15: =$B15*K15 -> 0 | M15: 0 | N15: =$B15*M15 -> 0 | O15: 0 | P15: =$B15*O15 -> 0 | Q15: 0 | R15: =$B15*Q15 -> 0 | S15: 0 | T15: =$B15*S15 -> 0 | U15: 0 | V15: =$B15*U15 -> 0 | W15: 0 | X15: =$B15*W15 -> 0 | Y15: 0 | Z15: =$B15*Y15 -> 0 | AA15: 0 | AB15: =$B15*AA15 -> 0 | AC15: 0 | AD15: =$B15*AC15 -> 0 | AE15: 0 | AF15: =$B15*AE15 -> 0 | AG15: 0 | AH15: =$B15*AG15 -> 0 | AI15: 0 | AJ15: =$B15*AI15 -> 0 | AK15: 0 | AL15: =$B15*AK15 -> 0 | AM15: 0 | AN15: =$B15*AM15 -> 0 | AO15: 0 | AP15: =$B15*AO15 -> 0 | AQ15: =C15+E15+G15+I15+K15+M15+O15+Q15+S15+U15+W15+Y15+AA15+AC15+AE15+AG15+AI15+AK15+AM15+AO15 -> 0 | AR15: =D15+F15+H15+J15+L15+N15+P15+R15+T15+V15+X15+Z15+AB15+AD15+AF15+AH15+AJ15+AL15+AN15+AP15 -> 0
A16: Personnel Classification | C16: 0 | D16: =B16*C16 -> 0 | E16: 0 | F16: =$B16*E16 -> 0 | G16: 0 | H16: =$B16*G16 -> 0 | I16: 0 | J16: =$B16*I16 -> 0 | K16: 0 | L16: =$B16*K16 -> 0 | M16: 0 | N16: =$B16*M16 -> 0 | O16: 0 | P16: =$B16*O16 -> 0 | Q16: 0 | R16: =$B16*Q16 -> 0 | S16: 0 | T16: =$B16*S16 -> 0 | U16: 0 | V16: =$B16*U16 -> 0 | W16: 0 | X16: =$B16*W16 -> 0 | Y16: 0 | Z16: =$B16*Y16 -> 0 | AA16: 0 | AB16: =$B16*AA16 -> 0 | AC16: 0 | AD16: =$B16*AC16 -> 0 | AE16: 0 | AF16: =$B16*AE16 -> 0 | AG16: 0 | AH16: =$B16*AG16 -> 0 | AI16: 0 | AJ16: =$B16*AI16 -> 0 | AK16: 0 | AL16: =$B16*AK16 -> 0 | AM16: 0 | AN16: =$B16*AM16 -> 0 | AO16: 0 | AP16: =$B16*AO16 -> 0 | AQ16: =C16+E16+G16+I16+K16+M16+O16+Q16+S16+U16+W16+Y16+AA16+AC16+AE16+AG16+AI16+AK16+AM16+AO16 -> 0 | AR16: =D16+F16+H16+J16+L16+N16+P16+R16+T16+V16+X16+Z16+AB16+AD16+AF16+AH16+AJ16+AL16+AN16+AP16 -> 0
A17: Personnel Classification | C17: 0 | D17: =B17*C17 -> 0 | E17: 0 | F17: =$B17*E17 -> 0 | G17: 0 | H17: =$B17*G17 -> 0 | I17: 0 | J17: =$B17*I17 -> 0 | K17: 0 | L17: =$B17*K17 -> 0 | M17: 0 | N17: =$B17*M17 -> 0 | O17: 0 | P17: =$B17*O17 -> 0 | Q17: 0 | R17: =$B17*Q17 -> 0 | S17: 0 | T17: =$B17*S17 -> 0 | U17: 0 | V17: =$B17*U17 -> 0 | W17: 0 | X17: =$B17*W17 -> 0 | Y17: 0 | Z17: =$B17*Y17 -> 0 | AA17: 0 | AB17: =$B17*AA17 -> 0 | AC17: 0 | AD17: =$B17*AC17 -> 0 | AE17: 0 | AF17: =$B17*AE17 -> 0 | AG17: 0 | AH17: =$B17*AG17 -> 0 | AI17: 0 | AJ17: =$B17*AI17 -> 0 | AK17: 0 | AL17: =$B17*AK17 -> 0 | AM17: 0 | AN17: =$B17*AM17 -> 0 | AO17: 0 | AP17: =$B17*AO17 -> 0 | AQ17: =C17+E17+G17+I17+K17+M17+O17+Q17+S17+U17+W17+Y17+AA17+AC17+AE17+AG17+AI17+AK17+AM17+AO17 -> 0 | AR17: =D17+F17+H17+J17+L17+N17+P17+R17+T17+V17+X17+Z17+AB17+AD17+AF17+AH17+AJ17+AL17+AN17+AP17 -> 0
A18: Personnel Classification | C18: 0 | D18: =B18*C18 -> 0 | E18: 0 | F18: =$B18*E18 -> 0 | G18: 0 | H18: =$B18*G18 -> 0 | I18: 0 | J18: =$B18*I18 -> 0 | K18: 0 | L18: =$B18*K18 -> 0 | M18: 0 | N18: =$B18*M18 -> 0 | O18: 0 | P18: =$B18*O18 -> 0 | Q18: 0 | R18: =$B18*Q18 -> 0 | S18: 0 | T18: =$B18*S18 -> 0 | U18: 0 | V18: =$B18*U18 -> 0 | W18: 0 | X18: =$B18*W18 -> 0 | Y18: 0 | Z18: =$B18*Y18 -> 0 | AA18: 0 | AB18: =$B18*AA18 -> 0 | AC18: 0 | AD18: =$B18*AC18 -> 0 | AE18: 0 | AF18: =$B18*AE18 -> 0 | AG18: 0 | AH18: =$B18*AG18 -> 0 | AI18: 0 | AJ18: =$B18*AI18 -> 0 | AK18: 0 | AL18: =$B18*AK18 -> 0 | AM18: 0 | AN18: =$B18*AM18 -> 0 | AO18: 0 | AP18: =$B18*AO18 -> 0 | AQ18: =C18+E18+G18+I18+K18+M18+O18+Q18+S18+U18+W18+Y18+AA18+AC18+AE18+AG18+AI18+AK18+AM18+AO18 -> 0 | AR18: =D18+F18+H18+J18+L18+N18+P18+R18+T18+V18+X18+Z18+AB18+AD18+AF18+AH18+AJ18+AL18+AN18+AP18 -> 0
A19: Personnel Classification | C19: 0 | D19: =B19*C19 -> 0 | E19: 0 | F19: =$B19*E19 -> 0 | G19: 0 | H19: =$B19*G19 -> 0 | I19: 0 | J19: =$B19*I19 -> 0 | K19: 0 | L19: =$B19*K19 -> 0 | M19: 0 | N19: =$B19*M19 -> 0 | O19: 0 | P19: =$B19*O19 -> 0 | Q19: 0 | R19: =$B19*Q19 -> 0 | S19: 0 | T19: =$B19*S19 -> 0 | U19: 0 | V19: =$B19*U19 -> 0 | W19: 0 | X19: =$B19*W19 -> 0 | Y19: 0 | Z19: =$B19*Y19 -> 0 | AA19: 0 | AB19: =$B19*AA19 -> 0 | AC19: 0 | AD19: =$B19*AC19 -> 0 | AE19: 0 | AF19: =$B19*AE19 -> 0 | AG19: 0 | AH19: =$B19*AG19 -> 0 | AI19: 0 | AJ19: =$B19*AI19 -> 0 | AK19: 0 | AL19: =$B19*AK19 -> 0 | AM19: 0 | AN19: =$B19*AM19 -> 0 | AO19: 0 | AP19: =$B19*AO19 -> 0 | AQ19: =C19+E19+G19+I19+K19+M19+O19+Q19+S19+U19+W19+Y19+AA19+AC19+AE19+AG19+AI19+AK19+AM19+AO19 -> 0 | AR19: =D19+F19+H19+J19+L19+N19+P19+R19+T19+V19+X19+Z19+AB19+AD19+AF19+AH19+AJ19+AL19+AN19+AP19 -> 0
A20: Personnel Classification | C20: 0 | D20: =B20*C20 -> 0 | E20: 0 | F20: =$B20*E20 -> 0 | G20: 0 | H20: =$B20*G20 -> 0 | I20: 0 | J20: =$B20*I20 -> 0 | K20: 0 | L20: =$B20*K20 -> 0 | M20: 0 | N20: =$B20*M20 -> 0 | O20: 0 | P20: =$B20*O20 -> 0 | Q20: 0 | R20: =$B20*Q20 -> 0 | S20: 0 | T20: =$B20*S20 -> 0 | U20: 0 | V20: =$B20*U20 -> 0 | W20: 0 | X20: =$B20*W20 -> 0 | Y20: 0 | Z20: =$B20*Y20 -> 0 | AA20: 0 | AB20: =$B20*AA20 -> 0 | AC20: 0 | AD20: =$B20*AC20 -> 0 | AE20: 0 | AF20: =$B20*AE20 -> 0 | AG20: 0 | AH20: =$B20*AG20 -> 0 | AI20: 0 | AJ20: =$B20*AI20 -> 0 | AK20: 0 | AL20: =$B20*AK20 -> 0 | AM20: 0 | AN20: =$B20*AM20 -> 0 | AO20: 0 | AP20: =$B20*AO20 -> 0 | AQ20: =C20+E20+G20+I20+K20+M20+O20+Q20+S20+U20+W20+Y20+AA20+AC20+AE20+AG20+AI20+AK20+AM20+AO20 -> 0 | AR20: =D20+F20+H20+J20+L20+N20+P20+R20+T20+V20+X20+Z20+AB20+AD20+AF20+AH20+AJ20+AL20+AN20+AP20 -> 0
A21: Personnel Classification | C21: 0 | D21: =B21*C21 -> 0 | E21: 0 | F21: =$B21*E21 -> 0 | G21: 0 | H21: =$B21*G21 -> 0 | I21: 0 | J21: =$B21*I21 -> 0 | K21: 0 | L21: =$B21*K21 -> 0 | M21: 0 | N21: =$B21*M21 -> 0 | O21: 0 | P21: =$B21*O21 -> 0 | Q21: 0 | R21: =$B21*Q21 -> 0 | S21: 0 | T21: =$B21*S21 -> 0 | U21: 0 | V21: =$B21*U21 -> 0 | W21: 0 | X21: =$B21*W21 -> 0 | Y21: 0 | Z21: =$B21*Y21 -> 0 | AA21: 0 | AB21: =$B21*AA21 -> 0 | AC21: 0 | AD21: =$B21*AC21 -> 0 | AE21: 0 | AF21: =$B21*AE21 -> 0 | AG21: 0 | AH21: =$B21*AG21 -> 0 | AI21: 0 | AJ21: =$B21*AI21 -> 0 | AK21: 0 | AL21: =$B21*AK21 -> 0 | AM21: 0 | AN21: =$B21*AM21 -> 0 | AO21: 0 | AP21: =$B21*AO21 -> 0 | AQ21: =C21+E21+G21+I21+K21+M21+O21+Q21+S21+U21+W21+Y21+AA21+AC21+AE21+AG21+AI21+AK21+AM21+AO21 -> 0 | AR21: =D21+F21+H21+J21+L21+N21+P21+R21+T21+V21+X21+Z21+AB21+AD21+AF21+AH21+AJ21+AL21+AN21+AP21 -> 0
A22: Personnel Classification | C22: 0 | D22: =B22*C22 -> 0 | E22: 0 | F22: =$B22*E22 -> 0 | G22: 0 | H22: =$B22*G22 -> 0 | I22: 0 | J22: =$B22*I22 -> 0 | K22: 0 | L22: =$B22*K22 -> 0 | M22: 0 | N22: =$B22*M22 -> 0 | O22: 0 | P22: =$B22*O22 -> 0 | Q22: 0 | R22: =$B22*Q22 -> 0 | S22: 0 | T22: =$B22*S22 -> 0 | U22: 0 | V22: =$B22*U22 -> 0 | W22: 0 | X22: =$B22*W22 -> 0 | Y22: 0 | Z22: =$B22*Y22 -> 0 | AA22: 0 | AB22: =$B22*AA22 -> 0 | AC22: 0 | AD22: =$B22*AC22 -> 0 | AE22: 0 | AF22: =$B22*AE22 -> 0 | AG22: 0 | AH22: =$B22*AG22 -> 0 | AI22: 0 | AJ22: =$B22*AI22 -> 0 | AK22: 0 | AL22: =$B22*AK22 -> 0 | AM22: 0 | AN22: =$B22*AM22 -> 0 | AO22: 0 | AP22: =$B22*AO22 -> 0 | AQ22: =C22+E22+G22+I22+K22+M22+O22+Q22+S22+U22+W22+Y22+AA22+AC22+AE22+AG22+AI22+AK22+AM22+AO22 -> 0 | AR22: =D22+F22+H22+J22+L22+N22+P22+R22+T22+V22+X22+Z22+AB22+AD22+AF22+AH22+AJ22+AL22+AN22+AP22 -> 0
A23: Personnel Classification | C23: 0 | D23: =B23*C23 -> 0 | E23: 0 | F23: =$B23*E23 -> 0 | G23: 0 | H23: =$B23*G23 -> 0 | I23: 0 | J23: =$B23*I23 -> 0 | K23: 0 | L23: =$B23*K23 -> 0 | M23: 0 | N23: =$B23*M23 -> 0 | O23: 0 | P23: =$B23*O23 -> 0 | Q23: 0 | R23: =$B23*Q23 -> 0 | S23: 0 | T23: =$B23*S23 -> 0 | U23: 0 | V23: =$B23*U23 -> 0 | W23: 0 | X23: =$B23*W23 -> 0 | Y23: 0 | Z23: =$B23*Y23 -> 0 | AA23: 0 | AB23: =$B23*AA23 -> 0 | AC23: 0 | AD23: =$B23*AC23 -> 0 | AE23: 0 | AF23: =$B23*AE23 -> 0 | AG23: 0 | AH23: =$B23*AG23 -> 0 | AI23: 0 | AJ23: =$B23*AI23 -> 0 | AK23: 0 | AL23: =$B23*AK23 -> 0 | AM23: 0 | AN23: =$B23*AM23 -> 0 | AO23: 0 | AP23: =$B23*AO23 -> 0 | AQ23: =C23+E23+G23+I23+K23+M23+O23+Q23+S23+U23+W23+Y23+AA23+AC23+AE23+AG23+AI23+AK23+AM23+AO23 -> 0 | AR23: =D23+F23+H23+J23+L23+N23+P23+R23+T23+V23+X23+Z23+AB23+AD23+AF23+AH23+AJ23+AL23+AN23+AP23 -> 0
... A36: Personnel Classification | C36: 0 | D36: =B36*C36 -> 0 | E36: 0 | F36: =$B36*E36 -> 0 | G36: 0 | H36: =$B36*G36 -> 0 | I36: 0 | J36: =$B36*I36 -> 0 | K36: 0 | L36: =$B36*K36 -> 0 | M36: 0 | N36: =$B36*M36 -> 0 | O36: 0 | P36: =$B36*O36 -> 0 | Q36: 0 | R36: =$B36*Q36 -> 0 | S36: 0 | T36: =$B36*S36 -> 0 | U36: 0 | V36: =$B36*U36 -> 0 | W36: 0 | X36: =$B36*W36 -> 0 | Y36: 0 | Z36: =$B36*Y36 -> 0 | AA36: 0 | AB36: =$B36*AA36 -> 0 | AC36: 0 | AD36: =$B36*AC36 -> 0 | AE36: 0 | AF36: =$B36*AE36 -> 0 | AG36: 0 | AH36: =$B36*AG36 -> 0 | AI36: 0 | AJ36: =$B36*AI36 -> 0 | AK36: 0 | AL36: =$B36*AK36 -> 0 | AM36: 0 | AN36: =$B36*AM36 -> 0 | AO36: 0 | AP36: =$B36*AO36 -> 0 | AQ36: =C36+E36+G36+I36+K36+M36+O36+Q36+S36+U36+W36+Y36+AA36+AC36+AE36+AG36+AI36+AK36+AM36+AO36 -> 0 | AR36: =D36+F36+H36+J36+L36+N36+P36+R36+T36+V36+X36+Z36+AB36+AD36+AF36+AH36+AJ36+AL36+AN36+AP36 -> 0
A37: Subtotal - Direct Labor | C37: =SUM(C11:C36) -> 0 | D37: =SUM(D11:D36) -> 0 | E37: =SUM(E11:E36) -> 0 | F37: =SUM(F11:F36) -> 0 | G37: =SUM(G11:G36) -> 0 | H37: =SUM(H11:H36) -> 0 | I37: =SUM(I11:I36) -> 0 | J37: =SUM(J11:J36) -> 0 | ... AR37: =SUM(AR11:AR36) -> 0
A38: Overhead & Fringe (inc. G & A)
A39: Overhead | B39: 0 | D39: =D37*$B39 -> 0 | F39: =F37*$B39 -> 0 | H39: =H37*$B39 -> 0 | J39: =J37*$B39 -> 0 | L39: =L37*$B39 -> 0 | N39: =N37*$B39 -> 0 | P39: =P37*$B39 -> 0 | R39: =R37*$B39 -> 0 | T39: =T37*$B39 -> 0 | V39: =V37*$B39 -> 0 | X39: =X37*$B39 -> 0 | Z39: =Z37*$B39 -> 0 | AB39: =AB37*$B39 -> 0 | AD39: =AD37*$B39 -> 0 | AF39: =AF37*$B39 -> 0 | AH39: =AH37*$B39 -> 0 | AJ39: =AJ37*$B39 -> 0 | AL39: =AL37*$B39 -> 0 | AN39: =AN37*$B39 -> 0 | AP39: =AP37*$B39 -> 0 | AR39: =D39+F39+H39+J39+L39+N39+P39+R39+T39+V39+X39+Z39+AB39+AD39+AF39+AH39+AJ39+AL39+AN39+AP39 -> 0
A40: Fringe | B40: 0 | D40: =$B40*D37 -> 0 | F40: =$B40*F37 -> 0 | H40: =$B40*H37 -> 0 | J40: =$B40*J37 -> 0 | L40: =$B40*L37 -> 0 | N40: =$B40*N37 -> 0 | P40: =$B40*P37 -> 0 | R40: =$B40*R37 -> 0 | T40: =$B40*T37 -> 0 | V40: =$B40*V37 -> 0 | X40: =$B40*X37 -> 0 | Z40: =$B40*Z37 -> 0 | AB40: =$B40*AB37 -> 0 | AD40: =$B40*AD37 -> 0 | AF40: =$B40*AF37 -> 0 | AH40: =$B40*AH37 -> 0 | AJ40: =$B40*AJ37 -> 0 | AL40: =$B40*AL37 -> 0 | AN40: =$B40*AN37 -> 0 | AP40: =$B40*AP37 -> 0 | AR40: =D40+F40+H40+J40+L40+N40+P40+R40+T40+V40+X40+Z40+AB40+AD40+AF40+AH40+AJ40+AL40+AN40+AP40 -> 0
AR41: =D41+F41+H41+J41+L41+N41+P41+R41+T41+V41+X41+Z41+AB41+AD41+AF41+AH41+AJ41+AL41+AN41+AP41 -> 0
A42: Subtotal - Overhead & Fringe (inc. G & A) | D42: =SUM(D38:D41) -> 0 | F42: =SUM(F38:F41) -> 0 | H42: =SUM(H38:H41) -> 0 | J42: =SUM(J38:J41) -> 0 | L42: =SUM(L38:L41) -> 0 | N42: =SUM(N38:N41) -> 0 | P42: =SUM(P38:P41) -> 0 | R42: =SUM(R38:R41) -> 0 | T42: =SUM(T38:T41) -> 0 | V42: =SUM(V38:V41) -> 0 | X42: =SUM(X38:X41) -> 0 | Z42: =SUM(Z38:Z41) -> 0 | AB42: =SUM(AB38:AB41) -> 0 | AD42: =SUM(AD38:AD41) -> 0 | AF42: =SUM(AF38:AF41) -> 0 | AH42: =SUM(AH38:AH41) -> 0 | AJ42: =SUM(AJ38:AJ41) -> 0 | AL42: =SUM(AL38:AL41) -> 0 | AN42: =SUM(AN38:AN41) -> 0 | AP42: =SUM(AP38:AP41) -> 0 | AR42: =SUM(AR38:AR41) -> 0
A43: Fixed Fee
A44: Fixed Fee | B44: 0 | D44: =$B44*(D37+D42) -> 0 | F44: =$B44*(F37+F42) -> 0 | H44: =$B44*(H37+H42) -> 0 | J44: =$B44*(J37+J42) -> 0 | L44: =$B44*(L37+L42) -> 0 | N44: =$B44*(N37+N42) -> 0 | P44: =$B44*(P37+P42) -> 0 | R44: =$B44*(R37+R42) -> 0 | T44: =$B44*(T37+T42) -> 0 | V44: =$B44*(V37+V42) -> 0 | X44: =$B44*(X37+X42) -> 0 | Z44: =$B44*(Z37+Z42) -> 0 | AB44: =$B44*(AB37+AB42) -> 0 | AD44: =$B44*(AD37+AD42) -> 0 | AF44: =$B44*(AF37+AF42) -> 0 | AH44: =$B44*(AH37+AH42) -> 0 | AJ44: =$B44*(AJ37+AJ42) -> 0 | AL44: =$B44*(AL37+AL42) -> 0 | AN44: =$B44*(AN37+AN42) -> 0 | AP44: =$B44*(AP37+AP42) -> 0 | AR44: =D44+F44+H44+J44+L44+N44+P44+R44+T44+V44+X44+Z44+AB44+AD44+AF44 -> 0
A45: Other Direct Costs (ODC's)
A46: Travel | D46: 0 | F46: 0 | H46: 0 | J46: 0 | L46: 0 | N46: 0 | P46: 0 | R46: 0 | T46: 0 | V46: 0 | X46: 0 | Z46: 0 | AB46: 0 | AD46: 0 | AF46: 0 | AH46: 0 | AJ46: 0 | AL46: 0 | AN46: 0 | AP46: 0 | AR46: =D46+F46+H46+J46+L46+N46+P46+R46+T46+V46+X46+Z46+AB46+AD46+AF46+AH46+AJ46+AL46+AN46+AP46 -> 0
A47: Printing - Directly Chargeable only | D47: 0 | F47: 0 | H47: 0 | J47: 0 | L47: 0 | N47: 0 | P47: 0 | R47: 0 | T47: 0 | V47: 0 | X47: 0 | Z47: 0 | AB47: 0 | AD47: 0 | AF47: 0 | AH47: 0 | AJ47: 0 | AL47: 0 | AN47: 0 | AP47: 0 | AR47: =D47+F47+H47+J47+L47+N47+P47+R47+T47+V47+X47+Z47+AB47+AD47+AF47+AH47+AJ47+AL47+AN47+AP47 -> 0
A48: Supplies & Materials - Directly Chargeable only | D48: 0 | F48: 0 | H48: 0 | J48: 0 | L48: 0 | N48: 0 | P48: 0 | R48: 0 | T48: 0 | V48: 0 | X48: 0 | Z48: 0 | AB48: 0 | AD48: 0 | AF48: 0 | AH48: 0 | AJ48: 0 | AL48: 0 | AN48: 0 | AP48: 0 | AR48: =D48+F48+H48+J48+L48+N48+P48+R48+T48+V48+X48+Z48+AB48+AD48+AF48+AH48+AJ48+AL48+AN48+AP48 -> 0
A49: ODC Description | D49: 0 | F49: 0 | H49: 0 | J49: 0 | L49: 0 | N49: 0 | P49: 0 | R49: 0 | T49: 0 | V49: 0 | X49: 0 | Z49: 0 | AB49: 0 | AD49: 0 | AF49: 0 | AH49: 0 | AJ49: 0 | AL49: 0 | AN49: 0 | AP49: 0 | AR49: =D49+F49+H49+J49+L49+N49+P49+R49+T49+V49+X49+Z49+AB49+AD49+AF49+AH49+AJ49+AL49+AN49+AP49 -> 0
A50: ODC Description | D50: 0 | F50: 0 | H50: 0 | J50: 0 | L50: 0 | N50: 0 | P50: 0 | R50: 0 | T50: 0 | V50: 0 | X50: 0 | Z50: 0 | AB50: 0 | AD50: 0 | AF50: 0 | AH50: 0 | AJ50: 0 | AL50: 0 | AN50: 0 | AP50: 0 | AR50: =D50+F50+H50+J50+L50+N50+P50+R50+T50+V50+X50+Z50+AB50+AD50+AF50+AH50+AJ50+AL50+AN50+AP50 -> 0
A51: ODC Description | D51: 0 | F51: 0 | H51: 0 | J51: 0 | L51: 0 | N51: 0 | P51: 0 | R51: 0 | T51: 0 | V51: 0 | X51: 0 | Z51: 0 | AB51: 0 | AD51: 0 | AF51: 0 | AH51: 0 | AJ51: 0 | AL51: 0 | AN51: 0 | AP51: 0 | AR51: =D51+F51+H51+J51+L51+N51+P51+R51+T51+V51+X51+Z51+AB51+AD51+AF51+AH51+AJ51+AL51+AN51+AP51 -> 0
A52: ODC Description | D52: 0 | F52: 0 | H52: 0 | J52: 0 | L52: 0 | N52: 0 | P52: 0 | R52: 0 | T52: 0 | V52: 0 | X52: 0 | Z52: 0 | AB52: 0 | AD52: 0 | AF52: 0 | AH52: 0 | AJ52: 0 | AL52: 0 | AN52: 0 | AP52: 0 | AR52: =D52+F52+H52+J52+L52+N52+P52+R52+T52+V52+X52+Z52+AB52+AD52+AF52+AH52+AJ52+AL52+AN52+AP52 -> 0
A53: ODC Description | D53: 0 | F53: 0 | H53: 0 | J53: 0 | L53: 0 | N53: 0 | P53: 0 | R53: 0 | T53: 0 | V53: 0 | X53: 0 | Z53: 0 | AB53: 0 | AD53: 0 | AF53: 0 | AH53: 0 | AJ53: 0 | AL53: 0 | AN53: 0 | AP53: 0 | AR53: =D53+F53+H53+J53+L53+N53+P53+R53+T53+V53+X53+Z53+AB53+AD53+AF53+AH53+AJ53+AL53+AN53+AP53 -> 0
A54: ODC Description | D54: 0 | F54: 0 | H54: 0 | J54: 0 | L54: 0 | N54: 0 | P54: 0 | R54: 0 | T54: 0 | V54: 0 | X54: 0 | Z54: 0 | AB54: 0 | AD54: 0 | AF54: 0 | AH54: 0 | AJ54: 0 | AL54: 0 | AN54: 0 | AP54: 0 | AR54: =D54+F54+H54+J54+L54+N54+P54+R54+T54+V54+X54+Z54+AB54+AD54+AF54+AH54+AJ54+AL54+AN54+AP54 -> 0
A55: ODC Description | D55: 0 | F55: 0 | H55: 0 | J55: 0 | L55: 0 | N55: 0 | P55: 0 | R55: 0 | T55: 0 | V55: 0 | X55: 0 | Z55: 0 | AB55: 0 | AD55: 0 | AF55: 0 | AH55: 0 | AJ55: 0 | AL55: 0 | AN55: 0 | AP55: 0 | AR55: =D55+F55+H55+J55+L55+N55+P55+R55+T55+V55+X55+Z55+AB55+AD55+AF55+AH55+AJ55+AL55+AN55+AP55 -> 0
A56: ODC Description | D56: 0 | F56: 0 | H56: 0 | J56: 0 | L56: 0 | N56: 0 | P56: 0 | R56: 0 | T56: 0 | V56: 0 | X56: 0 | Z56: 0 | AB56: 0 | AD56: 0 | AF56: 0 | AH56: 0 | AJ56: 0 | AL56: 0 | AN56: 0 | AP56: 0 | AR56: =D56+F56+H56+J56+L56+N56+P56+R56+T56+V56+X56+Z56+AB56+AD56+AF56+AH56+AJ56+AL56+AN56+AP56 -> 0
A57: ODC Description | D57: 0 | F57: 0 | H57: 0 | J57: 0 | L57: 0 | N57: 0 | P57: 0 | R57: 0 | T57: 0 | V57: 0 | X57: 0 | Z57: 0 | AB57: 0 | AD57: 0 | AF57: 0 | AH57: 0 | AJ57: 0 | AL57: 0 | AN57: 0 | AP57: 0 | AR57: =D57+F57+H57+J57+L57+N57+P57+R57+T57+V57+X57+Z57+AB57+AD57+AF57+AH57+AJ57+AL57+AN57+AP57 -> 0
... A65: ODC Description | D65: 0 | F65: 0 | H65: 0 | J65: 0 | L65: 0 | N65: 0 | P65: 0 | R65: 0 | T65: 0 | V65: 0 | X65: 0 | Z65: 0 | AB65: 0 | AD65: 0 | AF65: 0 | AH65: 0 | AJ65: 0 | AL65: 0 | AN65: 0 | AP65: 0 | AR65: =D65+F65+H65+J65+L65+N65+P65+R65+T65+V65+X65+Z65+AB65+AD65+AF65+AH65+AJ65+AL65+AN65+AP65 -> 0
A66: Subtotal - ODC's | D66: =SUM(D45:D65) -> 0 | F66: =SUM(F45:F65) -> 0 | H66: =SUM(H45:H65) -> 0 | J66: =SUM(J45:J65) -> 0 | L66: =SUM(L45:L65) -> 0 | N66: =SUM(N45:N65) -> 0 | P66: =SUM(P45:P65) -> 0 | R66: =SUM(R45:R65) -> 0 | T66: =SUM(T45:T65) -> 0 | V66: =SUM(V45:V65) -> 0 | X66: =SUM(X45:X65) -> 0 | Z66: =SUM(Z45:Z65) -> 0 | AB66: =SUM(AB45:AB65) -> 0 | AD66: =SUM(AD45:AD65) -> 0 | AF66: =SUM(AF45:AF65) -> 0 | AH66: =SUM(AH45:AH65) -> 0 | AJ66: =SUM(AJ45:AJ65) -> 0 | AL66: =SUM(AL45:AL65) -> 0 | AN66: =SUM(AN45:AN65) -> 0 | AP66: =SUM(AP45:AP65) -> 0 | AR66: =SUM(AR45:AR65) -> 0
A67: Subconsultant(s)
A68: ='Sub 1'!A1 -> Sub 1 | C68: ='Sub 1'!C72 -> 0 | D68: ='Sub 1'!D72 -> 0 | E68: ='Sub 1'!E72 -> 0 | F68: ='Sub 1'!F72 -> 0 | G68: ='Sub 1'!G72 -> 0 | H68: ='Sub 1'!H72 -> 0 | I68: ='Sub 1'!I72 -> 0 | J68: ='Sub 1'!J72 -> 0 | ... AP68: ='Sub 1'!AP72 -> 0 | AQ68: =C68+E68+G68+I68+K68+M68+O68+Q68+S68+U68+W68+Y68+AA68+AC68+AE68+AG68+AI68+AK68+AM68+AO68 -> 0 | AR68: =D68+F68+H68+J68+L68+N68+P68+R68+T68+V68+X68+Z68+AB68+AD68+AF68+AH68+AJ68+AL68+AN68+AP68 -> 0
A69: ='Sub 2'!A1 -> Sub 2 | C69: ='Sub 2'!C72 -> 0 | D69: ='Sub 2'!D72 -> 0 | E69: ='Sub 2'!E72 -> 0 | F69: ='Sub 2'!F72 -> 0 | G69: ='Sub 2'!G72 -> 0 | H69: ='Sub 2'!H72 -> 0 | I69: ='Sub 2'!I72 -> 0 | J69: ='Sub 2'!J72 -> 0 | ... AP69: ='Sub 2'!AP72 -> 0 | AQ69: =C69+E69+G69+I69+K69+M69+O69+Q69+S69+U69+W69+Y69+AA69+AC69+AE69+AG69+AI69+AK69+AM69+AO69 -> 0 | AR69: =D69+F69+H69+J69+L69+N69+P69+R69+T69+V69+X69+Z69+AB69+AD69+AF69+AH69+AJ69+AL69+AN69+AP69 -> 0
A70: ='Sub 3'!A1 -> Sub 3 | C70: ='Sub 3'!C72 -> 0 | D70: ='Sub 3'!D72 -> 0 | E70: ='Sub 3'!E72 -> 0 | F70: ='Sub 3'!F72 -> 0 | G70: ='Sub 3'!G72 -> 0 | H70: ='Sub 3'!H72 -> 0 | I70: ='Sub 3'!I72 -> 0 | J70: ='Sub 3'!J72 -> 0 | ... AP70: ='Sub 3'!AP72 -> 0 | AQ70: =C70+E70+G70+I70+K70+M70+O70+Q70+S70+U70+W70+Y70+AA70+AC70+AE70+AG70+AI70+AK70+AM70+AO70 -> 0 | AR70: =D70+F70+H70+J70+L70+N70+P70+R70+T70+V70+X70+Z70+AB70+AD70+AF70+AH70+AJ70+AL70+AN70+AP70 -> 0
A71: ='Sub 4'!A1 -> Sub 4 | C71: ='Sub 4'!C72 -> 0 | D71: ='Sub 4'!D72 -> 0 | E71: ='Sub 4'!E72 -> 0 | F71: ='Sub 4'!F72 -> 0 | G71: ='Sub 4'!G72 -> 0 | H71: ='Sub 4'!H72 -> 0 | I71: ='Sub 4'!I72 -> 0 | J71: ='Sub 4'!J72 -> 0 | ... AP71: ='Sub 4'!AP72 -> 0 | AQ71: =C71+E71+G71+I71+K71+M71+O71+Q71+S71+U71+W71+Y71+AA71+AC71+AE71+AG71+AI71+AK71+AM71+AO71 -> 0 | AR71: =D71+F71+H71+J71+L71+N71+P71+R71+T71+V71+X71+Z71+AB71+AD71+AF71+AH71+AJ71+AL71+AN71+AP71 -> 0
A72: ='Sub 5'!A1 -> Sub 5 | C72: ='Sub 5'!C72 -> 0 | D72: ='Sub 5'!D72 -> 0 | E72: ='Sub 5'!E72 -> 0 | F72: ='Sub 5'!F72 -> 0 | G72: ='Sub 5'!G72 -> 0 | H72: ='Sub 5'!H72 -> 0 | I72: ='Sub 5'!I72 -> 0 | J72: ='Sub 5'!J72 -> 0 | ... AP72: ='Sub 5'!AP72 -> 0 | AQ72: =C72+E72+G72+I72+K72+M72+O72+Q72+S72+U72+W72+Y72+AA72+AC72+AE72+AG72+AI72+AK72+AM72+AO72 -> 0 | AR72: =D72+F72+H72+J72+L72+N72+P72+R72+T72+V72+X72+Z72+AB72+AD72+AF72+AH72+AJ72+AL72+AN72+AP72 -> 0
A73: ='Sub 6'!A1 -> Sub 6 | C73: ='Sub 6'!C72 -> 0 | D73: ='Sub 6'!D72 -> 0 | E73: ='Sub 6'!E72 -> 0 | F73: ='Sub 6'!F72 -> 0 | G73: ='Sub 6'!G72 -> 0 | H73: ='Sub 6'!H72 -> 0 | I73: ='Sub 6'!I72 -> 0 | J73: ='Sub 6'!J72 -> 0 | ... AP73: ='Sub 6'!AP72 -> 0 | AQ73: =C73+E73+G73+I73+K73+M73+O73+Q73+S73+U73+W73+Y73+AA73+AC73+AE73+AG73+AI73+AK73+AM73+AO73 -> 0 | AR73: =D73+F73+H73+J73+L73+N73+P73+R73+T73+V73+X73+Z73+AB73+AD73+AF73+AH73+AJ73+AL73+AN73+AP73 -> 0
A74: ='Sub 7'!A1 -> Sub 7 | C74: ='Sub 7'!C72 -> 0 | D74: ='Sub 7'!D72 -> 0 | E74: ='Sub 7'!E72 -> 0 | F74: ='Sub 7'!F72 -> 0 | G74: ='Sub 7'!G72 -> 0 | H74: ='Sub 7'!H72 -> 0 | I74: ='Sub 7'!I72 -> 0 | J74: ='Sub 7'!J72 -> 0 | ... AP74: ='Sub 7'!AP72 -> 0 | AQ74: =C74+E74+G74+I74+K74+M74+O74+Q74+S74+U74+W74+Y74+AA74+AC74+AE74+AG74+AI74+AK74+AM74+AO74 -> 0 | AR74: =D74+F74+H74+J74+L74+N74+P74+R74+T74+V74+X74+Z74+AB74+AD74+AF74+AH74+AJ74+AL74+AN74+AP74 -> 0
A75: ='Sub 8'!A1 -> Sub 8 | C75: ='Sub 8'!C72 -> 0 | D75: ='Sub 8'!D72 -> 0 | E75: ='Sub 8'!E72 -> 0 | F75: ='Sub 8'!F72 -> 0 | G75: ='Sub 8'!G72 -> 0 | H75: ='Sub 8'!H72 -> 0 | I75: ='Sub 8'!I72 -> 0 | J75: ='Sub 8'!J72 -> 0 | ... AP75: ='Sub 8'!AP72 -> 0 | AQ75: =C75+E75+G75+I75+K75+M75+O75+Q75+S75+U75+W75+Y75+AA75+AC75+AE75+AG75+AI75+AK75+AM75+AO75 -> 0 | AR75: =D75+F75+H75+J75+L75+N75+P75+R75+T75+V75+X75+Z75+AB75+AD75+AF75+AH75+AJ75+AL75+AN75+AP75 -> 0
A76: ='Sub 9'!A1 -> Sub 9 | C76: ='Sub 9'!C72 -> 0 | D76: ='Sub 9'!D72 -> 0 | E76: ='Sub 9'!E72 -> 0 | F76: ='Sub 9'!F72 -> 0 | G76: ='Sub 9'!G72 -> 0 | H76: ='Sub 9'!H72 -> 0 | I76: ='Sub 9'!I72 -> 0 | J76: ='Sub 9'!J72 -> 0 | ... AP76: ='Sub 9'!AP72 -> 0 | AQ76: =C76+E76+G76+I76+K76+M76+O76+Q76+S76+U76+W76+Y76+AA76+AC76+AE76+AG76+AI76+AK76+AM76+AO76 -> 0 | AR76: =D76+F76+H76+J76+L76+N76+P76+R76+T76+V76+X76+Z76+AB76+AD76+AF76+AH76+AJ76+AL76+AN76+AP76 -> 0
A77: ='Sub 10'!A1 -> Sub 10 | C77: ='Sub 10'!C$72 -> 0 | D77: ='Sub 10'!D$72 -> 0 | E77: ='Sub 10'!E72 -> 0 | F77: ='Sub 10'!F72 -> 0 | G77: ='Sub 10'!G72 -> 0 | H77: ='Sub 10'!H72 -> 0 | I77: ='Sub 10'!I72 -> 0 | J77: ='Sub 10'!J72 -> 0 | K77: ='Sub 10'!K72 -> 0 | L77: ='Sub 10'!L72 -> 0 | ... AP77: ='Sub 10'!AP72 -> 0 | AQ77: =C77+E77+G77+I77+K77+M77+O77+Q77+S77+U77+W77+Y77+AA77+AC77+AE77+AG77+AI77+AK77+AM77+AO77 -> 0 | AR77: =D77+F77+H77+J77+L77+N77+P77+R77+T77+V77+X77+Z77+AB77+AD77+AF77+AH77+AJ77+AL77+AN77+AP77 -> 0
A78: ='Sub 11'!A1 -> Sub 11 | C78: ='Sub 11'!C$72 -> 0 | D78: ='Sub 11'!D$72 -> 0 | E78: ='Sub 11'!E$72 -> 0 | F78: ='Sub 11'!F$72 -> 0 | G78: ='Sub 11'!G$72 -> 0 | H78: ='Sub 11'!H$72 -> 0 | I78: ='Sub 11'!I$72 -> 0 | J78: ='Sub 11'!J$72 -> 0 | ... AP78: ='Sub 11'!AP$72 -> 0 | AQ78: =C78+E78+G78+I78+K78+M78+O78+Q78+S78+U78+W78+Y78+AA78+AC78+AE78+AG78+AI78+AK78+AM78+AO78 -> 0 | AR78: =D78+F78+H78+J78+L78+N78+P78+R78+T78+V78+X78+Z78+AB78+AD78+AF78+AH78+AJ78+AL78+AN78+AP78 -> 0
A79: ='Sub 12'!A1 -> Sub 12 | C79: ='Sub 12'!C$72 -> 0 | D79: ='Sub 12'!D$72 -> 0 | E79: ='Sub 12'!E$72 -> 0 | F79: ='Sub 12'!F$72 -> 0 | G79: ='Sub 12'!G$72 -> 0 | H79: ='Sub 12'!H$72 -> 0 | I79: ='Sub 12'!I$72 -> 0 | J79: ='Sub 12'!J$72 -> 0 | ... AP79: ='Sub 12'!AP$72 -> 0 | AQ79: =C79+E79+G79+I79+K79+M79+O79+Q79+S79+U79+W79+Y79+AA79+AC79+AE79+AG79+AI79+AK79+AM79+AO79 -> 0 | AR79: =D79+F79+H79+J79+L79+N79+P79+R79+T79+V79+X79+Z79+AB79+AD79+AF79+AH79+AJ79+AL79+AN79+AP79 -> 0
A80: ='Sub 13'!A1 -> Sub 13 | C80: ='Sub 13'!C$72 -> 0 | D80: ='Sub 13'!D$72 -> 0 | E80: ='Sub 13'!E$72 -> 0 | F80: ='Sub 13'!F$72 -> 0 | G80: ='Sub 13'!G$72 -> 0 | H80: ='Sub 13'!H$72 -> 0 | I80: ='Sub 13'!I$72 -> 0 | J80: ='Sub 13'!J$72 -> 0 | ... AP80: ='Sub 13'!AP$72 -> 0 | AQ80: =C80+E80+G80+I80+K80+M80+O80+Q80+S80+U80+W80+Y80+AA80+AC80+AE80+AG80+AI80+AK80+AM80+AO80 -> 0 | AR80: =D80+F80+H80+J80+L80+N80+P80+R80+T80+V80+X80+Z80+AB80+AD80+AF80+AH80+AJ80+AL80+AN80+AP80 -> 0
A81: ='Sub 14'!A1 -> Sub 14 | C81: ='Sub 14'!C$72 -> 0 | D81: ='Sub 14'!D$72 -> 0 | E81: ='Sub 14'!E$72 -> 0 | F81: ='Sub 14'!F$72 -> 0 | G81: ='Sub 14'!G$72 -> 0 | H81: ='Sub 14'!H$72 -> 0 | I81: ='Sub 14'!I$72 -> 0 | J81: ='Sub 14'!J$72 -> 0 | ... AP81: ='Sub 14'!AP$72 -> 0 | AQ81: =C81+E81+G81+I81+K81+M81+O81+Q81+S81+U81+W81+Y81+AA81+AC81+AE81+AG81+AI81+AK81+AM81+AO81 -> 0 | AR81: =D81+F81+H81+J81+L81+N81+P81+R81+T81+V81+X81+Z81+AB81+AD81+AF81+AH81+AJ81+AL81+AN81+AP81 -> 0
A82: ='Sub 15'!A1 -> Sub 15 | C82: ='Sub 15'!C$72 -> 0 | D82: ='Sub 15'!D$72 -> 0 | E82: ='Sub 15'!E$72 -> 0 | F82: ='Sub 15'!F$72 -> 0 | G82: ='Sub 15'!G$72 -> 0 | H82: ='Sub 15'!H$72 -> 0 | I82: ='Sub 15'!I$72 -> 0 | J82: ='Sub 15'!J$72 -> 0 | ... AP82: ='Sub 15'!AP$72 -> 0 | AQ82: =C82+E82+G82+I82+K82+M82+O82+Q82+S82+U82+W82+Y82+AA82+AC82+AE82+AG82+AI82+AK82+AM82+AO82 -> 0 | AR82: =D82+F82+H82+J82+L82+N82+P82+R82+T82+V82+X82+Z82+AB82+AD82+AF82+AH82+AJ82+AL82+AN82+AP82 -> 0
A83: ='Sub 16'!A1 -> Sub 16 | C83: ='Sub 16'!C$72 -> 0 | D83: ='Sub 16'!D$72 -> 0 | E83: ='Sub 16'!E$72 -> 0 | F83: ='Sub 16'!F$72 -> 0 | G83: ='Sub 16'!G$72 -> 0 | H83: ='Sub 16'!H$72 -> 0 | I83: ='Sub 16'!I$72 -> 0 | J83: ='Sub 16'!J$72 -> 0 | ... AP83: ='Sub 16'!AP$72 -> 0 | AQ83: =C83+E83+G83+I83+K83+M83+O83+Q83+S83+U83+W83+Y83+AA83+AC83+AE83+AG83+AI83+AK83+AM83+AO83 -> 0 | AR83: =D83+F83+H83+J83+L83+N83+P83+R83+T83+V83+X83+Z83+AB83+AD83+AF83+AH83+AJ83+AL83+AN83+AP83 -> 0
A84: ='Sub 17'!A1 -> Sub 17 | C84: ='Sub 17'!C$72 -> 0 | D84: ='Sub 17'!D$72 -> 0 | E84: ='Sub 17'!E$72 -> 0 | F84: ='Sub 17'!F$72 -> 0 | G84: ='Sub 17'!G$72 -> 0 | H84: ='Sub 17'!H$72 -> 0 | I84: ='Sub 17'!I$72 -> 0 | J84: ='Sub 17'!J$72 -> 0 | ... AP84: ='Sub 17'!AP$72 -> 0 | AQ84: =C84+E84+G84+I84+K84+M84+O84+Q84+S84+U84+W84+Y84+AA84+AC84+AE84+AG84+AI84+AK84+AM84+AO84 -> 0 | AR84: =D84+F84+H84+J84+L84+N84+P84+R84+T84+V84+X84+Z84+AB84+AD84+AF84+AH84+AJ84+AL84+AN84+AP84 -> 0
A85: ='Sub 18'!A1 -> Sub 18 | C85: ='Sub 18'!C$72 -> 0 | D85: ='Sub 18'!D$72 -> 0 | E85: ='Sub 18'!E$72 -> 0 | F85: ='Sub 18'!F$72 -> 0 | G85: ='Sub 18'!G$72 -> 0 | H85: ='Sub 18'!H$72 -> 0 | I85: ='Sub 18'!I$72 -> 0 | J85: ='Sub 18'!J$72 -> 0 | ... AP85: ='Sub 18'!AP$72 -> 0 | AQ85: =C85+E85+G85+I85+K85+M85+O85+Q85+S85+U85+W85+Y85+AA85+AC85+AE85+AG85+AI85+AK85+AM85+AO85 -> 0 | AR85: =D85+F85+H85+J85+L85+N85+P85+R85+T85+V85+X85+Z85+AB85+AD85+AF85+AH85+AJ85+AL85+AN85+AP85 -> 0
A86: ='Sub 19'!A1 -> Sub 19 | C86: ='Sub 19'!C$72 -> 0 | D86: ='Sub 19'!D$72 -> 0 | E86: ='Sub 19'!E$72 -> 0 | F86: ='Sub 19'!F$72 -> 0 | G86: ='Sub 19'!G$72 -> 0 | H86: ='Sub 19'!H$72 -> 0 | I86: ='Sub 19'!I$72 -> 0 | J86: ='Sub 19'!J$72 -> 0 | ... AP86: ='Sub 19'!AP$72 -> 0 | AQ86: =C86+E86+G86+I86+K86+M86+O86+Q86+S86+U86+W86+Y86+AA86+AC86+AE86+AG86+AI86+AK86+AM86+AO86 -> 0 | AR86: =D86+F86+H86+J86+L86+N86+P86+R86+T86+V86+X86+Z86+AB86+AD86+AF86+AH86+AJ86+AL86+AN86+AP86 -> 0
A87: ='Sub 20'!A1 -> Sub 20 | C87: ='Sub 20'!C$72 -> 0 | D87: ='Sub 20'!D$72 -> 0 | E87: ='Sub 20'!E$72 -> 0 | F87: ='Sub 20'!F$72 -> 0 | G87: ='Sub 20'!G$72 -> 0 | H87: ='Sub 20'!H$72 -> 0 | I87: ='Sub 20'!I$72 -> 0 | J87: ='Sub 20'!J$72 -> 0 | ... AP87: ='Sub 20'!AP$72 -> 0 | AQ87: =C87+E87+G87+I87+K87+M87+O87+Q87+S87+U87+W87+Y87+AA87+AC87+AE87+AG87+AI87+AK87+AM87+AO87 -> 0 | AR87: =D87+F87+H87+J87+L87+N87+P87+R87+T87+V87+X87+Z87+AB87+AD87+AF87+AH87+AJ87+AL87+AN87+AP87 -> 0
A88: Subtotal - Subconsultant(s) | C88: =SUM(C67:C87) -> 0 | D88: =SUM(D67:D87) -> 0 | E88: =SUM(E67:E87) -> 0 | F88: =SUM(F67:F87) -> 0 | G88: =SUM(G67:G87) -> 0 | H88: =SUM(H67:H87) -> 0 | I88: =SUM(I67:I87) -> 0 | J88: =SUM(J67:J87) -> 0 | ... AR88: =SUM(AR67:AR87) -> 0
A90: GRAND TOTAL | C90: =C37+C42+C44+C66+C88 -> 0 | D90: =D37+D42+D44+D66+D88 -> 0 | E90: =E37+E42+E44+E66+E88 -> 0 | F90: =F37+F42+F44+F66+F88 -> 0 | G90: =G37+G42+G44+G66+G88 -> 0 | H90: =H37+H42+H44+H66+H88 -> 0 | I90: =I37+I42+I44+I66+I88 -> 0 | J90: =J37+J42+J44+J66+J88 -> 0 | ... AR90: =AR37+AR42+AR44+AR66+AR88 -> 0
A91: Check Totals | C91: =SUM(C12:C36)+SUM(C68:C87) -> 0 | D91: =SUM(D12:D36)+SUM(D39:D41)+D44+SUM(D46:D65)+SUM(D68:D87) -> 0 | E91: =SUM(E12:E36)+SUM(E68:E87) -> 0 | F91: =SUM(F12:F36)+SUM(F39:F41)+F44+SUM(F46:F65)+SUM(F68:F87) -> 0 | G91: =SUM(G12:G36)+SUM(G68:G87) -> 0 | H91: =SUM(H12:H36)+SUM(H39:H41)+H44+SUM(H46:H65)+SUM(H68:H87) -> 0 | I91: =SUM(I12:I36)+SUM(I68:I87) -> 0 | J91: =SUM(J12:J36)+SUM(J39:J41)+J44+SUM(J46:J65)+SUM(J68:J87) -> 0 | K91: =SUM(K12:K36)+SUM(K68:K87) -> 0 | L91: =SUM(L12:L36)+SUM(L39:L41)+L44+SUM(L46:L65)+SUM(L68:L87) -> 0 | M91: =SUM(M12:M36)+SUM(M68:M87) -> 0 | N91: =SUM(N12:N36)+SUM(N39:N41)+N44+SUM(N46:N65)+SUM(N68:N87) -> 0 | O91: =SUM(O12:O36)+SUM(O68:O87) -> 0 | P91: =SUM(P12:P36)+SUM(P39:P41)+P44+SUM(P46:P65)+SUM(P68:P87) -> 0 | Q91: =SUM(Q12:Q36)+SUM(Q68:Q87) -> 0 | R91: =SUM(R12:R36)+SUM(R39:R41)+R44+SUM(R46:R65)+SUM(R68:R87) -> 0 | S91: =SUM(S12:S36)+SUM(S68:S87) -> 0 | T91: =SUM(T12:T36)+SUM(T39:T41)+T44+SUM(T46:T65)+SUM(T68:T87) -> 0 | U91: =SUM(U12:U36)+SUM(U68:U87) -> 0 | V91: =SUM(V12:V36)+SUM(V39:V41)+V44+SUM(V46:V65)+SUM(V68:V87) -> 0 | W91: =SUM(W12:W36)+SUM(W68:W87) -> 0 | X91: =SUM(X12:X36)+SUM(X39:X41)+X44+SUM(X46:X65)+SUM(X68:X87) -> 0 | Y91: =SUM(Y12:Y36)+SUM(Y68:Y87) -> 0 | Z91: =SUM(Z12:Z36)+SUM(Z39:Z41)+Z44+SUM(Z46:Z65)+SUM(Z68:Z87) -> 0 | AA91: =SUM(AA12:AA36)+SUM(AA68:AA87) -> 0 | AB91: =SUM(AB12:AB36)+SUM(AB39:AB41)+AB44+SUM(AB46:AB65)+SUM(AB68:AB87) -> 0 | AC91: =SUM(AC12:AC36)+SUM(AC68:AC87) -> 0 | AD91: =SUM(AD12:AD36)+SUM(AD39:AD41)+AD44+SUM(AD46:AD65)+SUM(AD68:AD87) -> 0 | AE91: =SUM(AE12:AE36)+SUM(AE68:AE87) -> 0 | AF91: =SUM(AF12:AF36)+SUM(AF39:AF41)+AF44+SUM(AF46:AF65)+SUM(AF68:AF87) -> 0 | AG91: =SUM(AG12:AG36)+SUM(AG68:AG87) -> 0 | AH91: =SUM(AH12:AH36)+SUM(AH39:AH41)+AH44+SUM(AH46:AH65)+SUM(AH68:AH87) -> 0 | AI91: =SUM(AI12:AI36)+SUM(AI68:AI87) -> 0 | AJ91: =SUM(AJ12:AJ36)+SUM(AJ39:AJ41)+AJ44+SUM(AJ46:AJ65)+SUM(AJ68:AJ87) -> 0 | AK91: =SUM(AK12:AK36)+SUM(AK68:AK87) -> 0 | AL91: =SUM(AL12:AL36)+SUM(AL39:AL41)+AL44+SUM(AL46:AL65)+SUM(AL68:AL87) -> 0 | AM91: =SUM(AM12:AM36)+SUM(AM68:AM87) -> 0 | AN91: =SUM(AN12:AN36)+SUM(AN39:AN41)+AN44+SUM(AN46:AN65)+SUM(AN68:AN87) -> 0 | AO91: =SUM(AO12:AO36)+SUM(AO68:AO87) -> 0 | AP91: =SUM(AP12:AP36)+SUM(AP39:AP41)+AP44+SUM(AP46:AP65)+SUM(AP68:AP87) -> 0 | AQ91: =C91+E91+G91+I91+K91+M91+O91+Q91+S91+U91+W91+Y91+AA91+AC91+AE91+AG91+AI91+AK91+AM91+AO91 -> 0 | AR91: =D91+F91+H91+J91+L91+N91+P91+R91+T91+V91+X91+Z91+AB91+AD91+AF91+AH91+AJ91+AL91+AN91+AP91 -> 0
V92: Variance | AR92: =AR90-AR91 -> 0

Sheet Sub 1
A1: Sub 1 | E1: LINE ITEM BUDGET
A2: Address
A3: Address | H3: Title of Project: | R3: Title of Project: | S3: =I3 -> 0 | AB3: Title of Project: | AC3: =I3 -> 0 | AL3: Title of Project: | AM3: =S3 -> 0
A4: email
A5: Phone | H5: RFP Number: | R5: RFP Number: | S5: =I5 -> 0 | AB5: RFP Number: | AC5: =S5 -> 0 | AL5: RFP Number: | AM5: =AC5 -> 0
A7: (a) | B7: (b) | C7: (c) | D7: (d) | E7: (e) | F7: (f) | G7: (g) | H7: (h) | I7: (i) | J7: (j) | K7: (k) | L7: (l) | M7: (m) | N7: (n) | O7: (o) | P7: (p) | Q7: (q) | R7: (r) | S7: (s) | T7: (t) | U7: (u) | V7: (v) | W7: (w) | X7: (x) | Y7: (y) | Z7: (z) | AA7: (aa) | AB7: (ab) | AC7: (ac) | AD7: (ad) | AE7: (ae) | AF7: (af) | AG7: (ag) | AH7: (ah) | AI7: (ai) | AJ7: (aj) | AK7: (ak) | AL7: (al) | AM7: (am) | AN7: (an) | AO7: (ao) | AP7: (ap)
A8: Cost Categories | B8: Maximum Hourly Rate | C8: Task 1 | E8: Task 2 | G8: Task 3 | I8: Task 4 | K8: Task 5 | M8: Task 6 | O8: Task 7 | Q8: Task 8 | S8: Task 9 | U8: Task 10 | W8: Task 11 | Y8: Task 12 | AA8: Task 13 | AC8: Task 14 | AE8: Task 15 | AG8: Task 16 | AI8: Task 17 | AK8: Task 18 | AM8: Task 19 | AO8: Task 20 | AQ8: Grand Total (All Tasks)
C9: Task Name | E9: Task Name | G9: Task Name | I9: Task Name | K9: Task Name | M9: Task Name | O9: Task Name | Q9: Task Name | S9: Task Name | U9: Task Name | W9: Task Name | Y9: Task Name | AA9: Task Name | AC9: Task Name | AE9: Task Name | AG9: Task Name | AI9: Task Name | AK9: Task Name | AM9: Task Name | AO9: Task Name
C10: Hours | D10: Amount | E10: Hours | F10: Amount | G10: Hours | H10: Amount | I10: Hours | J10: Amount | K10: Hours | L10: Amount | M10: Hours | N10: Amount | O10: Hours | P10: Amount | Q10: Hours | R10: Amount | S10: Hours | T10: Amount | U10: Hours | V10: Amount | W10: Hours | X10: Amount | Y10: Hours | Z10: Amount | AA10: Hours | AB10: Amount | AC10: Hours | AD10: Amount | AE10: Hours | AF10: Amount | AG10: Hours | AH10: Amount | AI10: Hours | AJ10: Amount | AK10: Hours | AL10: Amount | AM10: Hours | AN10: Amount | AO10: Hours | AP10: Amount | AQ10: Hours | AR10: Amount
A11: Direct Labor Classification(s)
A12: Personnel Classification | C12: 0 | D12: =B12*C12 -> 0 | E12: 0 | F12: =$B12*E12 -> 0 | G12: 0 | H12: =$B12*G12 -> 0 | I12: 0 | J12: =$B12*I12 -> 0 | K12: 0 | L12: =$B12*K12 -> 0 | M12: 0 | N12: =$B12*M12 -> 0 | O12: 0 | P12: =$B12*O12 -> 0 | Q12: 0 | R12: =$B12*Q12 -> 0 | S12: 0 | T12: =$B12*S12 -> 0 | U12: 0 | V12: =$B12*U12 -> 0 | W12: 0 | X12: =$B12*W12 -> 0 | Y12: 0 | Z12: =$B12*Y12 -> 0 | AA12: 0 | AB12: =$B12*AA12 -> 0 | AC12: 0 | AD12: =$B12*AC12 -> 0 | AE12: 0 | AF12: =$B12*AE12 -> 0 | AG12: 0 | AH12: =$B12*AG12 -> 0 | AI12: 0 | AJ12: =$B12*AI12 -> 0 | AK12: 0 | AL12: =$B12*AK12 -> 0 | AM12: 0 | AN12: =$B12*AM12 -> 0 | AO12: 0 | AP12: =$B12*AO12 -> 0 | AQ12: =C12+E12+G12+I12+K12+M12+O12+Q12+S12+U12+W12+Y12+AA12+AC12+AE12+AG12+AI12+AK12+AM12+AO12 -> 0 | AR12: =D12+F12+H12+J12+L12+N12+P12+R12+T12+V12+X12+Z12+AB12+AD12+AF12+AH12+AJ12+AL12+AN12+AP12 -> 0
A13: Personnel Classification | C13: 0 | D13: =B13*C13 -> 0 | E13: 0 | F13: =$B13*E13 -> 0 | G13: 0 | H13: =$B13*G13 -> 0 | I13: 0 | J13: =$B13*I13 -> 0 | K13: 0 | L13: =$B13*K13 -> 0 | M13: 0 | N13: =$B13*M13 -> 0 | O13: 0 | P13: =$B13*O13 -> 0 | Q13: 0 | R13: =$B13*Q13 -> 0 | S13: 0 | T13: =$B13*S13 -> 0 | U13: 0 | V13: =$B13*U13 -> 0 | W13: 0 | X13: =$B13*W13 -> 0 | Y13: 0 | Z13: =$B13*Y13 -> 0 | AA13: 0 | AB13: =$B13*AA13 -> 0 | AC13: 0 | AD13: =$B13*AC13 -> 0 | AE13: 0 | AF13: =$B13*AE13 -> 0 | AG13: 0 | AH13: =$B13*AG13 -> 0 | AI13: 0 | AJ13: =$B13*AI13 -> 0 | AK13: 0 | AL13: =$B13*AK13 -> 0 | AM13: 0 | AN13: =$B13*AM13 -> 0 | AO13: 0 | AP13: =$B13*AO13 -> 0 | AQ13: =C13+E13+G13+I13+K13+M13+O13+Q13+S13+U13+W13+Y13+AA13+AC13+AE13+AG13+AI13+AK13+AM13+AO13 -> 0 | AR13: =D13+F13+H13+J13+L13+N13+P13+R13+T13+V13+X13+Z13+AB13+AD13+AF13+AH13+AJ13+AL13+AN13+AP13 -> 0
A14: Personnel Classification | C14: 0 | D14: =B14*C14 -> 0 | E14: 0 | F14: =$B14*E14 -> 0 | G14: 0 | H14: =$B14*G14 -> 0 | I14: 0 | J14: =$B14*I14 -> 0 | K14: 0 | L14: =$B14*K14 -> 0 | M14: 0 | N14: =$B14*M14 -> 0 | O14: 0 | P14: =$B14*O14 -> 0 | Q14: 0 | R14: =$B14*Q14 -> 0 | S14: 0 | T14: =$B14*S14 -> 0 | U14: 0 | V14: =$B14*U14 -> 0 | W14: 0 | X14: =$B14*W14 -> 0 | Y14: 0 | Z14: =$B14*Y14 -> 0 | AA14: 0 | AB14: =$B14*AA14 -> 0 | AC14: 0 | AD14: =$B14*AC14 -> 0 | AE14: 0 | AF14: =$B14*AE14 -> 0 | AG14: 0 | AH14: =$B14*AG14 -> 0 | AI14: 0 | AJ14: =$B14*AI14 -> 0 | AK14: 0 | AL14: =$B14*AK14 -> 0 | AM14: 0 | AN14: =$B14*AM14 -> 0 | AO14: 0 | AP14: =$B14*AO14 -> 0 | AQ14: =C14+E14+G14+I14+K14+M14+O14+Q14+S14+U14+W14+Y14+AA14+AC14+AE14+AG14+AI14+AK14+AM14+AO14 -> 0 | AR14: =D14+F14+H14+J14+L14+N14+P14+R14+T14+V14+X14+Z14+AB14+AD14+AF14+AH14+AJ14+AL14+AN14+AP14 -> 0
A15: Personnel Classification | C15: 0 | D15: =B15*C15 -> 0 | E15: 0 | F15: =$B15*E15 -> 0 | G15: 0 | H15: =$B15*G15 -> 0 | I15: 0 | J15: =$B15*I15 -> 0 | K15: 0 | L15: =$B15*K15 -> 0 | M15: 0 | N15: =$B15*M15 -> 0 | O15: 0 | P15: =$B15*O15 -> 0 | Q15: 0 | R15: =$B15*Q15 -> 0 | S15: 0 | T15: =$B15*S15 -> 0 | U15: 0 | V15: =$B15*U15 -> 0 | W15: 0 | X15: =$B15*W15 -> 0 | Y15: 0 | Z15: =$B15*Y15 -> 0 | AA15: 0 | AB15: =$B15*AA15 -> 0 | AC15: 0 | AD15: =$B15*AC15 -> 0 | AE15: 0 | AF15: =$B15*AE15 -> 0 | AG15: 0 | AH15: =$B15*AG15 -> 0 | AI15: 0 | AJ15: =$B15*AI15 -> 0 | AK15: 0 | AL15: =$B15*AK15 -> 0 | AM15: 0 | AN15: =$B15*AM15 -> 0 | AO15: 0 | AP15: =$B15*AO15 -> 0 | AQ15: =C15+E15+G15+I15+K15+M15+O15+Q15+S15+U15+W15+Y15+AA15+AC15+AE15+AG15+AI15+AK15+AM15+AO15 -> 0 | AR15: =D15+F15+H15+J15+L15+N15+P15+R15+T15+V15+X15+Z15+AB15+AD15+AF15+AH15+AJ15+AL15+AN15+AP15 -> 0
A16: Personnel Classification | C16: 0 | D16: =B16*C16 -> 0 | E16: 0 | F16: =$B16*E16 -> 0 | G16: 0 | H16: =$B16*G16 -> 0 | I16: 0 | J16: =$B16*I16 -> 0 | K16: 0 | L16: =$B16*K16 -> 0 | M16: 0 | N16: =$B16*M16 -> 0 | O16: 0 | P16: =$B16*O16 -> 0 | Q16: 0 | R16: =$B16*Q16 -> 0 | S16: 0 | T16: =$B16*S16 -> 0 | U16: 0 | V16: =$B16*U16 -> 0 | W16: 0 | X16: =$B16*W16 -> 0 | Y16: 0 | Z16: =$B16*Y16 -> 0 | AA16: 0 | AB16: =$B16*AA16 -> 0 | AC16: 0 | AD16: =$B16*AC16 -> 0 | AE16: 0 | AF16: =$B16*AE16 -> 0 | AG16: 0 | AH16: =$B16*AG16 -> 0 | AI16: 0 | AJ16: =$B16*AI16 -> 0 | AK16: 0 | AL16: =$B16*AK16 -> 0 | AM16: 0 | AN16: =$B16*AM16 -> 0 | AO16: 0 | AP16: =$B16*AO16 -> 0 | AQ16: =C16+E16+G16+I16+K16+M16+O16+Q16+S16+U16+W16+Y16+AA16+AC16+AE16+AG16+AI16+AK16+AM16+AO16 -> 0 | AR16: =D16+F16+H16+J16+L16+N16+P16+R16+T16+V16+X16+Z16+AB16+AD16+AF16+AH16+AJ16+AL16+AN16+AP16 -> 0
A17: Personnel Classification | C17: 0 | D17: =B17*C17 -> 0 | E17: 0 | F17: =$B17*E17 -> 0 | G17: 0 | H17: =$B17*G17 -> 0 | I17: 0 | J17: =$B17*I17 -> 0 | K17: 0 | L17: =$B17*K17 -> 0 | M17: 0 | N17: =$B17*M17 -> 0 | O17: 0 | P17: =$B17*O17 -> 0 | Q17: 0 | R17: =$B17*Q17 -> 0 | S17: 0 | T17: =$B17*S17 -> 0 | U17: 0 | V17: =$B17*U17 -> 0 | W17: 0 | X17: =$B17*W17 -> 0 | Y17: 0 | Z17: =$B17*Y17 -> 0 | AA17: 0 | AB17: =$B17*AA17 -> 0 | AC17: 0 | AD17: =$B17*AC17 -> 0 | AE17: 0 | AF17: =$B17*AE17 -> 0 | AG17: 0 | AH17: =$B17*AG17 -> 0 | AI17: 0 | AJ17: =$B17*AI17 -> 0 | AK17: 0 | AL17: =$B17*AK17 -> 0 | AM17: 0 | AN17: =$B17*AM17 -> 0 | AO17: 0 | AP17: =$B17*AO17 -> 0 | AQ17: =C17+E17+G17+I17+K17+M17+O17+Q17+S17+U17+W17+Y17+AA17+AC17+AE17+AG17+AI17+AK17+AM17+AO17 -> 0 | AR17: =D17+F17+H17+J17+L17+N17+P17+R17+T17+V17+X17+Z17+AB17+AD17+AF17+AH17+AJ17+AL17+AN17+AP17 -> 0
A18: Personnel Classification | C18: 0 | D18: =B18*C18 -> 0 | E18: 0 | F18: =$B18*E18 -> 0 | G18: 0 | H18: =$B18*G18 -> 0 | I18: 0 | J18: =$B18*I18 -> 0 | K18: 0 | L18: =$B18*K18 -> 0 | M18: 0 | N18: =$B18*M18 -> 0 | O18: 0 | P18: =$B18*O18 -> 0 | Q18: 0 | R18: =$B18*Q18 -> 0 | S18: 0 | T18: =$B18*S18 -> 0 | U18: 0 | V18: =$B18*U18 -> 0 | W18: 0 | X18: =$B18*W18 -> 0 | Y18: 0 | Z18: =$B18*Y18 -> 0 | AA18: 0 | AB18: =$B18*AA18 -> 0 | AC18: 0 | AD18: =$B18*AC18 -> 0 | AE18: 0 | AF18: =$B18*AE18 -> 0 | AG18: 0 | AH18: =$B18*AG18 -> 0 | AI18: 0 | AJ18: =$B18*AI18 -> 0 | AK18: 0 | AL18: =$B18*AK18 -> 0 | AM18: 0 | AN18: =$B18*AM18 -> 0 | AO18: 0 | AP18: =$B18*AO18 -> 0 | AQ18: =C18+E18+G18+I18+K18+M18+O18+Q18+S18+U18+W18+Y18+AA18+AC18+AE18+AG18+AI18+AK18+AM18+AO18 -> 0 | AR18: =D18+F18+H18+J18+L18+N18+P18+R18+T18+V18+X18+Z18+AB18+AD18+AF18+AH18+AJ18+AL18+AN18+AP18 -> 0
A19: Personnel Classification | C19: 0 | D19: =B19*C19 -> 0 | E19: 0 | F19: =$B19*E19 -> 0 | G19: 0 | H19: =$B19*G19 -> 0 | I19: 0 | J19: =$B19*I19 -> 0 | K19: 0 | L19: =$B19*K19 -> 0 | M19: 0 | N19: =$B19*M19 -> 0 | O19: 0 | P19: =$B19*O19 -> 0 | Q19: 0 | R19: =$B19*Q19 -> 0 | S19: 0 | T19: =$B19*S19 -> 0 | U19: 0 | V19: =$B19*U19 -> 0 | W19: 0 | X19: =$B19*W19 -> 0 | Y19: 0 | Z19: =$B19*Y19 -> 0 | AA19: 0 | AB19: =$B19*AA19 -> 0 | AC19: 0 | AD19: =$B19*AC19 -> 0 | AE19: 0 | AF19: =$B19*AE19 -> 0 | AG19: 0 | AH19: =$B19*AG19 -> 0 | AI19: 0 | AJ19: =$B19*AI19 -> 0 | AK19: 0 | AL19: =$B19*AK19 -> 0 | AM19: 0 | AN19: =$B19*AM19 -> 0 | AO19: 0 | AP19: =$B19*AO19 -> 0 | AQ19: =C19+E19+G19+I19+K19+M19+O19+Q19+S19+U19+W19+Y19+AA19+AC19+AE19+AG19+AI19+AK19+AM19+AO19 -> 0 | AR19: =D19+F19+H19+J19+L19+N19+P19+R19+T19+V19+X19+Z19+AB19+AD19+AF19+AH19+AJ19+AL19+AN19+AP19 -> 0
A20: Personnel Classification | C20: 0 | D20: =B20*C20 -> 0 | E20: 0 | F20: =$B20*E20 -> 0 | G20: 0 | H20: =$B20*G20 -> 0 | I20: 0 | J20: =$B20*I20 -> 0 | K20: 0 | L20: =$B20*K20 -> 0 | M20: 0 | N20: =$B20*M20 -> 0 | O20: 0 | P20: =$B20*O20 -> 0 | Q20: 0 | R20: =$B20*Q20 -> 0 | S20: 0 | T20: =$B20*S20 -> 0 | U20: 0 | V20: =$B20*U20 -> 0 | W20: 0 | X20: =$B20*W20 -> 0 | Y20: 0 | Z20: =$B20*Y20 -> 0 | AA20: 0 | AB20: =$B20*AA20 -> 0 | AC20: 0 | AD20: =$B20*AC20 -> 0 | AE20: 0 | AF20: =$B20*AE20 -> 0 | AG20: 0 | AH20: =$B20*AG20 -> 0 | AI20: 0 | AJ20: =$B20*AI20 -> 0 | AK20: 0 | AL20: =$B20*AK20 -> 0 | AM20: 0 | AN20: =$B20*AM20 -> 0 | AO20: 0 | AP20: =$B20*AO20 -> 0 | AQ20: =C20+E20+G20+I20+K20+M20+O20+Q20+S20+U20+W20+Y20+AA20+AC20+AE20+AG20+AI20+AK20+AM20+AO20 -> 0 | AR20: =D20+F20+H20+J20+L20+N20+P20+R20+T20+V20+X20+Z20+AB20+AD20+AF20+AH20+AJ20+AL20+AN20+AP20 -> 0
A21: Personnel Classification | C21: 0 | D21: =B21*C21 -> 0 | E21: 0 | F21: =$B21*E21 -> 0 | G21: 0 | H21: =$B21*G21 -> 0 | I21: 0 | J21: =$B21*I21 -> 0 | K21: 0 | L21: =$B21*K21 -> 0 | M21: 0 | N21: =$B21*M21 -> 0 | O21: 0 | P21: =$B21*O21 -> 0 | Q21: 0 | R21: =$B21*Q21 -> 0 | S21: 0 | T21: =$B21*S21 -> 0 | U21: 0 | V21: =$B21*U21 -> 0 | W21: 0 | X21: =$B21*W21 -> 0 | Y21: 0 | Z21: =$B21*Y21 -> 0 | AA21: 0 | AB21: =$B21*AA21 -> 0 | AC21: 0 | AD21: =$B21*AC21 -> 0 | AE21: 0 | AF21: =$B21*AE21 -> 0 | AG21: 0 | AH21: =$B21*AG21 -> 0 | AI21: 0 | AJ21: =$B21*AI21 -> 0 | AK21: 0 | AL21: =$B21*AK21 -> 0 | AM21: 0 | AN21: =$B21*AM21 -> 0 | AO21: 0 | AP21: =$B21*AO21 -> 0 | AQ21: =C21+E21+G21+I21+K21+M21+O21+Q21+S21+U21+W21+Y21+AA21+AC21+AE21+AG21+AI21+AK21+AM21+AO21 -> 0 | AR21: =D21+F21+H21+J21+L21+N21+P21+R21+T21+V21+X21+Z21+AB21+AD21+AF21+AH21+AJ21+AL21+AN21+AP21 -> 0
A22: Personnel Classification | C22: 0 | D22: =B22*C22 -> 0 | E22: 0 | F22: =$B22*E22 -> 0 | G22: 0 | H22: =$B22*G22 -> 0 | I22: 0 | J22: =$B22*I22 -> 0 | K22: 0 | L22: =$B22*K22 -> 0 | M22: 0 | N22: =$B22*M22 -> 0 | O22: 0 | P22: =$B22*O22 -> 0 | Q22: 0 | R22: =$B22*Q22 -> 0 | S22: 0 | T22: =$B22*S22 -> 0 | U22: 0 | V22: =$B22*U22 -> 0 | W22: 0 | X22: =$B22*W22 -> 0 | Y22: 0 | Z22: =$B22*Y22 -> 0 | AA22: 0 | AB22: =$B22*AA22 -> 0 | AC22: 0 | AD22: =$B22*AC22 -> 0 | AE22: 0 | AF22: =$B22*AE22 -> 0 | AG22: 0 | AH22: =$B22*AG22 -> 0 | AI22: 0 | AJ22: =$B22*AI22 -> 0 | AK22: 0 | AL22: =$B22*AK22 -> 0 | AM22: 0 | AN22: =$B22*AM22 -> 0 | AO22: 0 | AP22: =$B22*AO22 -> 0 | AQ22: =C22+E22+G22+I22+K22+M22+O22+Q22+S22+U22+W22+Y22+AA22+AC22+AE22+AG22+AI22+AK22+AM22+AO22 -> 0 | AR22: =D22+F22+H22+J22+L22+N22+P22+R22+T22+V22+X22+Z22+AB22+AD22+AF22+AH22+AJ22+AL22+AN22+AP22 -> 0
A23: Personnel Classification | C23: 0 | D23: =B23*C23 -> 0 | E23: 0 | F23: =$B23*E23 -> 0 | G23: 0 | H23: =$B23*G23 -> 0 | I23: 0 | J23: =$B23*I23 -> 0 | K23: 0 | L23: =$B23*K23 -> 0 | M23: 0 | N23: =$B23*M23 -> 0 | O23: 0 | P23: =$B23*O23 -> 0 | Q23: 0 | R23: =$B23*Q23 -> 0 | S23: 0 | T23: =$B23*S23 -> 0 | U23: 0 | V23: =$B23*U23 -> 0 | W23: 0 | X23: =$B23*W23 -> 0 | Y23: 0 | Z23: =$B23*Y23 -> 0 | AA23: 0 | AB23: =$B23*AA23 -> 0 | AC23: 0 | AD23: =$B23*AC23 -> 0 | AE23: 0 | AF23: =$B23*AE23 -> 0 | AG23: 0 | AH23: =$B23*AG23 -> 0 | AI23: 0 | AJ23: =$B23*AI23 -> 0 | AK23: 0 | AL23: =$B23*AK23 -> 0 | AM23: 0 | AN23: =$B23*AM23 -> 0 | AO23: 0 | AP23: =$B23*AO23 -> 0 | AQ23: =C23+E23+G23+I23+K23+M23+O23+Q23+S23+U23+W23+Y23+AA23+AC23+AE23+AG23+AI23+AK23+AM23+AO23 -> 0 | AR23: =D23+F23+H23+J23+L23+N23+P23+R23+T23+V23+X23+Z23+AB23+AD23+AF23+AH23+AJ23+AL23+AN23+AP23 -> 0
... A36: Personnel Classification | C36: 0 | D36: =B36*C36 -> 0 | E36: 0 | F36: =$B36*E36 -> 0 | G36: 0 | H36: =$B36*G36 -> 0 | I36: 0 | J36: =$B36*I36 -> 0 | K36: 0 | L36: =$B36*K36 -> 0 | M36: 0 | N36: =$B36*M36 -> 0 | O36: 0 | P36: =$B36*O36 -> 0 | Q36: 0 | R36: =$B36*Q36 -> 0 | S36: 0 | T36: =$B36*S36 -> 0 | U36: 0 | V36: =$B36*U36 -> 0 | W36: 0 | X36: =$B36*W36 -> 0 | Y36: 0 | Z36: =$B36*Y36 -> 0 | AA36: 0 | AB36: =$B36*AA36 -> 0 | AC36: 0 | AD36: =$B36*AC36 -> 0 | AE36: 0 | AF36: =$B36*AE36 -> 0 | AG36: 0 | AH36: =$B36*AG36 -> 0 | AI36: 0 | AJ36: =$B36*AI36 -> 0 | AK36: 0 | AL36: =$B36*AK36 -> 0 | AM36: 0 | AN36: =$B36*AM36 -> 0 | AO36: 0 | AP36: =$B36*AO36 -> 0 | AQ36: =C36+E36+G36+I36+K36+M36+O36+Q36+S36+U36+W36+Y36+AA36+AC36+AE36+AG36+AI36+AK36+AM36+AO36 -> 0 | AR36: =D36+F36+H36+J36+L36+N36+P36+R36+T36+V36+X36+Z36+AB36+AD36+AF36+AH36+AJ36+AL36+AN36+AP36 -> 0
A37: Subtotal - Direct Labor | C37: =SUM(C11:C36) -> 0 | D37: =SUM(D11:D36) -> 0 | E37: =SUM(E11:E36) -> 0 | F37: =SUM(F11:F36) -> 0 | G37: =SUM(G11:G36) -> 0 | H37: =SUM(H11:H36) -> 0 | I37: =SUM(I11:I36) -> 0 | J37: =SUM(J11:J36) -> 0 | ... AR37: =SUM(AR11:AR36) -> 0
A38: Overhead & Fringe (inc. G & A)
A39: Overhead | B39: 0 | D39: =D37*$B39 -> 0 | F39: =F37*$B39 -> 0 | H39: =H37*$B39 -> 0 | J39: =J37*$B39 -> 0 | L39: =L37*$B39 -> 0 | N39: =N37*$B39 -> 0 | P39: =P37*$B39 -> 0 | R39: =R37*$B39 -> 0 | T39: =T37*$B39 -> 0 | V39: =V37*$B39 -> 0 | X39: =X37*$B39 -> 0 | Z39: =Z37*$B39 -> 0 | AB39: =AB37*$B39 -> 0 | AD39: =AD37*$B39 -> 0 | AF39: =AF37*$B39 -> 0 | AH39: =AH37*$B39 -> 0 | AJ39: =AJ37*$B39 -> 0 | AL39: =AL37*$B39 -> 0 | AN39: =AN37*$B39 -> 0 | AP39: =AP37*$B39 -> 0 | AR39: =D39+F39+H39+J39+L39+N39+P39+R39+T39+V39+X39+Z39+AB39+AD39+AF39+AH39+AJ39+AL39+AN39+AP39 -> 0
A40: Fringe | B40: 0 | D40: =$B40*D37 -> 0 | F40: =$B40*F37 -> 0 | H40: =$B40*H37 -> 0 | J40: =$B40*J37 -> 0 | L40: =$B40*L37 -> 0 | N40: =$B40*N37 -> 0 | P40: =$B40*P37 -> 0 | R40: =$B40*R37 -> 0 | T40: =$B40*T37 -> 0 | V40: =$B40*V37 -> 0 | X40: =$B40*X37 -> 0 | Z40: =$B40*Z37 -> 0 | AB40: =$B40*AB37 -> 0 | AD40: =$B40*AD37 -> 0 | AF40: =$B40*AF37 -> 0 | AH40: =$B40*AH37 -> 0 | AJ40: =$B40*AJ37 -> 0 | AL40: =$B40*AL37 -> 0 | AN40: =$B40*AN37 -> 0 | AP40: =$B40*AP37 -> 0 | AR40: =D40+F40+H40+J40+L40+N40+P40+R40+T40+V40+X40+Z40+AB40+AD40+AF40+AH40+AJ40+AL40+AN40+AP40 -> 0
AR41: =D41+F41+H41+J41+L41+N41+P41+R41+T41+V41+X41+Z41+AB41+AD41+AF41+AH41+AJ41+AL41+AN41+AP41 -> 0
A42: Subtotal - Overhead & Fringe (inc. G & A) | D42: =SUM(D38:D41) -> 0 | F42: =SUM(F38:F41) -> 0 | H42: =SUM(H38:H41) -> 0 | J42: =SUM(J38:J41) -> 0 | L42: =SUM(L38:L41) -> 0 | N42: =SUM(N38:N41) -> 0 | P42: =SUM(P38:P41) -> 0 | R42: =SUM(R38:R41) -> 0 | T42: =SUM(T38:T41) -> 0 | V42: =SUM(V38:V41) -> 0 | X42: =SUM(X38:X41) -> 0 | Z42: =SUM(Z38:Z41) -> 0 | AB42: =SUM(AB38:AB41) -> 0 | AD42: =SUM(AD38:AD41) -> 0 | AF42: =SUM(AF38:AF41) -> 0 | AH42: =SUM(AH38:AH41) -> 0 | AJ42: =SUM(AJ38:AJ41) -> 0 | AL42: =SUM(AL38:AL41) -> 0 | AN42: =SUM(AN38:AN41) -> 0 | AP42: =SUM(AP38:AP41) -> 0 | AR42: =SUM(AR38:AR41) -> 0
A43: Fixed Fee
A44: Fixed Fee | B44: 0 | D44: =$B44*(D37+D42) -> 0 | F44: =$B44*(F37+F42) -> 0 | H44: =$B44*(H37+H42) -> 0 | J44: =$B44*(J37+J42) -> 0 | L44: =$B44*(L37+L42) -> 0 | N44: =$B44*(N37+N42) -> 0 | P44: =$B44*(P37+P42) -> 0 | R44: =$B44*(R37+R42) -> 0 | T44: =$B44*(T37+T42) -> 0 | V44: =$B44*(V37+V42) -> 0 | X44: =$B44*(X37+X42) -> 0 | Z44: =$B44*(Z37+Z42) -> 0 | AB44: =$B44*(AB37+AB42) -> 0 | AD44: =$B44*(AD37+AD42) -> 0 | AF44: =$B44*(AF37+AF42) -> 0 | AH44: =$B44*(AH37+AH42) -> 0 | AJ44: =$B44*(AJ37+AJ42) -> 0 | AL44: =$B44*(AL37+AL42) -> 0 | AN44: =$B44*(AN37+AN42) -> 0 | AP44: =$B44*(AP37+AP42) -> 0 | AR44: =D44+F44+H44+J44+L44+N44+P44+R44+T44+V44+X44+Z44+AB44+AD44+AF44 -> 0
A45: Other Direct Costs (ODC's)
A46: Travel | D46: 0 | F46: 0 | H46: 0 | J46: 0 | L46: 0 | N46: 0 | P46: 0 | R46: 0 | T46: 0 | V46: 0 | X46: 0 | Z46: 0 | AB46: 0 | AD46: 0 | AF46: 0 | AH46: 0 | AJ46: 0 | AL46: 0 | AN46: 0 | AP46: 0 | AR46: =D46+F46+H46+J46+L46+N46+P46+R46+T46+V46+X46+Z46+AB46+AD46+AF46+AH46+AJ46+AL46+AN46+AP46 -> 0
A47: Printing - Directly Chargeable only | D47: 0 | F47: 0 | H47: 0 | J47: 0 | L47: 0 | N47: 0 | P47: 0 | R47: 0 | T47: 0 | V47: 0 | X47: 0 | Z47: 0 | AB47: 0 | AD47: 0 | AF47: 0 | AH47: 0 | AJ47: 0 | AL47: 0 | AN47: 0 | AP47: 0 | AR47: =D47+F47+H47+J47+L47+N47+P47+R47+T47+V47+X47+Z47+AB47+AD47+AF47+AH47+AJ47+AL47+AN47+AP47 -> 0
A48: Supplies & Materials - Directly Chargeable only | D48: 0 | F48: 0 | H48: 0 | J48: 0 | L48: 0 | N48: 0 | P48: 0 | R48: 0 | T48: 0 | V48: 0 | X48: 0 | Z48: 0 | AB48: 0 | AD48: 0 | AF48: 0 | AH48: 0 | AJ48: 0 | AL48: 0 | AN48: 0 | AP48: 0 | AR48: =D48+F48+H48+J48+L48+N48+P48+R48+T48+V48+X48+Z48+AB48+AD48+AF48+AH48+AJ48+AL48+AN48+AP48 -> 0
A49: ODC Description | D49: 0 | F49: 0 | H49: 0 | J49: 0 | L49: 0 | N49: 0 | P49: 0 | R49: 0 | T49: 0 | V49: 0 | X49: 0 | Z49: 0 | AB49: 0 | AD49: 0 | AF49: 0 | AH49: 0 | AJ49: 0 | AL49: 0 | AN49: 0 | AP49: 0 | AR49: =D49+F49+H49+J49+L49+N49+P49+R49+T49+V49+X49+Z49+AB49+AD49+AF49+AH49+AJ49+AL49+AN49+AP49 -> 0
A50: ODC Description | D50: 0 | F50: 0 | H50: 0 | J50: 0 | L50: 0 | N50: 0 | P50: 0 | R50: 0 | T50: 0 | V50: 0 | X50: 0 | Z50: 0 | AB50: 0 | AD50: 0 | AF50: 0 | AH50: 0 | AJ50: 0 | AL50: 0 | AN50: 0 | AP50: 0 | AR50: =D50+F50+H50+J50+L50+N50+P50+R50+T50+V50+X50+Z50+AB50+AD50+AF50+AH50+AJ50+AL50+AN50+AP50 -> 0
A51: ODC Description | D51: 0 | F51: 0 | H51: 0 | J51: 0 | L51: 0 | N51: 0 | P51: 0 | R51: 0 | T51: 0 | V51: 0 | X51: 0 | Z51: 0 | AB51: 0 | AD51: 0 | AF51: 0 | AH51: 0 | AJ51: 0 | AL51: 0 | AN51: 0 | AP51: 0 | AR51: =D51+F51+H51+J51+L51+N51+P51+R51+T51+V51+X51+Z51+AB51+AD51+AF51+AH51+AJ51+AL51+AN51+AP51 -> 0
A52: ODC Description | D52: 0 | F52: 0 | H52: 0 | J52: 0 | L52: 0 | N52: 0 | P52: 0 | R52: 0 | T52: 0 | V52: 0 | X52: 0 | Z52: 0 | AB52: 0 | AD52: 0 | AF52: 0 | AH52: 0 | AJ52: 0 | AL52: 0 | AN52: 0 | AP52: 0 | AR52: =D52+F52+H52+J52+L52+N52+P52+R52+T52+V52+X52+Z52+AB52+AD52+AF52+AH52+AJ52+AL52+AN52+AP52 -> 0
A53: ODC Description | D53: 0 | F53: 0 | H53: 0 | J53: 0 | L53: 0 | N53: 0 | P53: 0 | R53: 0 | T53: 0 | V53: 0 | X53: 0 | Z53: 0 | AB53: 0 | AD53: 0 | AF53: 0 | AH53: 0 | AJ53: 0 | AL53: 0 | AN53: 0 | AP53: 0 | AR53: =D53+F53+H53+J53+L53+N53+P53+R53+T53+V53+X53+Z53+AB53+AD53+AF53+AH53+AJ53+AL53+AN53+AP53 -> 0
A54: ODC Description | D54: 0 | F54: 0 | H54: 0 | J54: 0 | L54: 0 | N54: 0 | P54: 0 | R54: 0 | T54: 0 | V54: 0 | X54: 0 | Z54: 0 | AB54: 0 | AD54: 0 | AF54: 0 | AH54: 0 | AJ54: 0 | AL54: 0 | AN54: 0 | AP54: 0 | AR54: =D54+F54+H54+J54+L54+N54+P54+R54+T54+V54+X54+Z54+AB54+AD54+AF54+AH54+AJ54+AL54+AN54+AP54 -> 0
A55: ODC Description | D55: 0 | F55: 0 | H55: 0 | J55: 0 | L55: 0 | N55: 0 | P55: 0 | R55: 0 | T55: 0 | V55: 0 | X55: 0 | Z55: 0 | AB55: 0 | AD55: 0 | AF55: 0 | AH55: 0 | AJ55: 0 | AL55: 0 | AN55: 0 | AP55: 0 | AR55: =D55+F55+H55+J55+L55+N55+P55+R55+T55+V55+X55+Z55+AB55+AD55+AF55+AH55+AJ55+AL55+AN55+AP55 -> 0
A56: ODC Description | D56: 0 | F56: 0 | H56: 0 | J56: 0 | L56: 0 | N56: 0 | P56: 0 | R56: 0 | T56: 0 | V56: 0 | X56: 0 | Z56: 0 | AB56: 0 | AD56: 0 | AF56: 0 | AH56: 0 | AJ56: 0 | AL56: 0 | AN56: 0 | AP56: 0 | AR56: =D56+F56+H56+J56+L56+N56+P56+R56+T56+V56+X56+Z56+AB56+AD56+AF56+AH56+AJ56+AL56+AN56+AP56 -> 0
A57: ODC Description | D57: 0 | F57: 0 | H57: 0 | J57: 0 | L57: 0 | N57: 0 | P57: 0 | R57: 0 | T57: 0 | V57: 0 | X57: 0 | Z57: 0 | AB57: 0 | AD57: 0 | AF57: 0 | AH57: 0 | AJ57: 0 | AL57: 0 | AN57: 0 | AP57: 0 | AR57: =D57+F57+H57+J57+L57+N57+P57+R57+T57+V57+X57+Z57+AB57+AD57+AF57+AH57+AJ57+AL57+AN57+AP57 -> 0
... A65: ODC Description | D65: 0 | F65: 0 | H65: 0 | J65: 0 | L65: 0 | N65: 0 | P65: 0 | R65: 0 | T65: 0 | V65: 0 | X65: 0 | Z65: 0 | AB65: 0 | AD65: 0 | AF65: 0 | AH65: 0 | AJ65: 0 | AL65: 0 | AN65: 0 | AP65: 0 | AR65: =D65+F65+H65+J65+L65+N65+P65+R65+T65+V65+X65+Z65+AB65+AD65+AF65+AH65+AJ65+AL65+AN65+AP65 -> 0
A66: Subtotal - ODC's | D66: =SUM(D45:D65) -> 0 | F66: =SUM(F45:F65) -> 0 | H66: =SUM(H45:H65) -> 0 | J66: =SUM(J45:J65) -> 0 | L66: =SUM(L45:L65) -> 0 | N66: =SUM(N45:N65) -> 0 | P66: =SUM(P45:P65) -> 0 | R66: =SUM(R45:R65) -> 0 | T66: =SUM(T45:T65) -> 0 | V66: =SUM(V45:V65) -> 0 | X66: =SUM(X45:X65) -> 0 | Z66: =SUM(Z45:Z65) -> 0 | AB66: =SUM(AB45:AB65) -> 0 | AD66: =SUM(AD45:AD65) -> 0 | AF66: =SUM(AF45:AF65) -> 0 | AH66: =SUM(AH45:AH65) -> 0 | AJ66: =SUM(AJ45:AJ65) -> 0 | AL66: =SUM(AL45:AL65) -> 0 | AN66: =SUM(AN45:AN65) -> 0 | AP66: =SUM(AP45:AP65) -> 0 | AR66: =SUM(AR45:AR65) -> 0
A67: Subconsultant(s)
AQ68: =C68+E68+G68+I68+K68+M68+O68+Q68+S68+U68+W68+Y68+AA68+AC68+AE68+AG68+AI68+AK68+AM68+AO68 -> 0 | AR68: =D68+F68+H68+J68+L68+N68+P68+R68+T68+V68+X68+Z68+AB68+AD68+AF68+AH68+AJ68+AL68+AN68+AP68 -> 0
AQ69: =C69+E69+G69+I69+K69+M69+O69+Q69+S69+U69+W69+Y69+AA69+AC69+AE69+AG69+AI69+AK69+AM69+AO69 -> 0 | AR69: =D69+F69+H69+J69+L69+N69+P69+R69+T69+V69+X69+Z69+AB69+AD69+AF69+AH69+AJ69+AL69+AN69+AP69 -> 0
A70: Subtotal - Subconsultant(s) | C70: =SUM(C67:C69) -> 0 | D70: =SUM(D67:D69) -> 0 | E70: =SUM(E67:E69) -> 0 | F70: =SUM(F67:F69) -> 0 | G70: =SUM(G67:G69) -> 0 | H70: =SUM(H67:H69) -> 0 | I70: =SUM(I67:I69) -> 0 | J70: =SUM(J67:J69) -> 0 | ... AR70: =SUM(AR67:AR69) -> 0
A72: GRAND TOTAL | C72: =C37+C42+C44+C66+C70 -> 0 | D72: =D37+D42+D44+D66+D70 -> 0 | E72: =E37+E42+E44+E66+E70 -> 0 | F72: =F37+F42+F44+F66+F70 -> 0 | G72: =G37+G42+G44+G66+G70 -> 0 | H72: =H37+H42+H44+H66+H70 -> 0 | I72: =I37+I42+I44+I66+I70 -> 0 | J72: =J37+J42+J44+J66+J70 -> 0 | ... AR72: =AR37+AR42+AR44+AR66+AR70 -> 0
A73: Check Totals | C73: =SUM(C12:C36)+SUM(C68:C69) -> 0 | D73: =SUM(D12:D36)+SUM(D39:D41)+D44+SUM(D46:D65)+SUM(D68:D69) -> 0 | E73: =SUM(E12:E36)+SUM(E68:E69) -> 0 | F73: =SUM(F12:F36)+SUM(F39:F41)+F44+SUM(F46:F65)+SUM(F68:F69) -> 0 | G73: =SUM(G12:G36)+SUM(G68:G69) -> 0 | H73: =SUM(H12:H36)+SUM(H39:H41)+H44+SUM(H46:H65)+SUM(H68:H69) -> 0 | I73: =SUM(I12:I36)+SUM(I68:I69) -> 0 | J73: =SUM(J12:J36)+SUM(J39:J41)+J44+SUM(J46:J65)+SUM(J68:J69) -> 0 | K73: =SUM(K12:K36)+SUM(K68:K69) -> 0 | L73: =SUM(L12:L36)+SUM(L39:L41)+L44+SUM(L46:L65)+SUM(L68:L69) -> 0 | M73: =SUM(M12:M36)+SUM(M68:M69) -> 0 | N73: =SUM(N12:N36)+SUM(N39:N41)+N44+SUM(N46:N65)+SUM(N68:N69) -> 0 | O73: =SUM(O12:O36)+SUM(O68:O69) -> 0 | P73: =SUM(P12:P36)+SUM(P39:P41)+P44+SUM(P46:P65)+SUM(P68:P69) -> 0 | Q73: =SUM(Q12:Q36)+SUM(Q68:Q69) -> 0 | R73: =SUM(R12:R36)+SUM(R39:R41)+R44+SUM(R46:R65)+SUM(R68:R69) -> 0 | S73: =SUM(S12:S36)+SUM(S68:S69) -> 0 | T73: =SUM(T12:T36)+SUM(T39:T41)+T44+SUM(T46:T65)+SUM(T68:T69) -> 0 | U73: =SUM(U12:U36)+SUM(U68:U69) -> 0 | V73: =SUM(V12:V36)+SUM(V39:V41)+V44+SUM(V46:V65)+SUM(V68:V69) -> 0 | W73: =SUM(W12:W36)+SUM(W68:W69) -> 0 | X73: =SUM(X12:X36)+SUM(X39:X41)+X44+SUM(X46:X65)+SUM(X68:X69) -> 0 | Y73: =SUM(Y12:Y36)+SUM(Y68:Y69) -> 0 | Z73: =SUM(Z12:Z36)+SUM(Z39:Z41)+Z44+SUM(Z46:Z65)+SUM(Z68:Z69) -> 0 | AA73: =SUM(AA12:AA36)+SUM(AA68:AA69) -> 0 | AB73: =SUM(AB12:AB36)+SUM(AB39:AB41)+AB44+SUM(AB46:AB65)+SUM(AB68:AB69) -> 0 | AC73: =SUM(AC12:AC36)+SUM(AC68:AC69) -> 0 | AD73: =SUM(AD12:AD36)+SUM(AD39:AD41)+AD44+SUM(AD46:AD65)+SUM(AD68:AD69) -> 0 | AE73: =SUM(AE12:AE36)+SUM(AE68:AE69) -> 0 | AF73: =SUM(AF12:AF36)+SUM(AF39:AF41)+AF44+SUM(AF46:AF65)+SUM(AF68:AF69) -> 0 | AG73: =SUM(AG12:AG36)+SUM(AG68:AG69) -> 0 | AH73: =SUM(AH12:AH36)+SUM(AH39:AH41)+AH44+SUM(AH46:AH65)+SUM(AH68:AH69) -> 0 | AI73: =SUM(AI12:AI36)+SUM(AI68:AI69) -> 0 | AJ73: =SUM(AJ12:AJ36)+SUM(AJ39:AJ41)+AJ44+SUM(AJ46:AJ65)+SUM(AJ68:AJ69) -> 0 | AK73: =SUM(AK12:AK36)+SUM(AK68:AK69) -> 0 | AL73: =SUM(AL12:AL36)+SUM(AL39:AL41)+AL44+SUM(AL46:AL65)+SUM(AL68:AL69) -> 0 | AM73: =SUM(AM12:AM36)+SUM(AM68:AM69) -> 0 | AN73: =SUM(AN12:AN36)+SUM(AN39:AN41)+AN44+SUM(AN46:AN65)+SUM(AN68:AN69) -> 0 | AO73: =SUM(AO12:AO36)+SUM(AO68:AO69) -> 0 | AP73: =SUM(AP12:AP36)+SUM(AP39:AP41)+AP44+SUM(AP46:AP65)+SUM(AP68:AP69) -> 0 | AQ73: =C73+E73+G73+I73+K73+M73+O73+Q73+S73+U73+W73+Y73+AA73+AC73+AE73+AG73+AI73+AK73+AM73+AO73 -> 0 | AR73: =D73+F73+H73+J73+L73+N73+P73+R73+T73+V73+X73+Z73+AB73+AD73+AF73+AH73+AJ73+AL73+AN73+AP73 -> 0
V74: Variance | AR74: =AR72-AR73 -> 0

Sheet Sub 2
A1: Sub 2 | E1: LINE ITEM BUDGET
A2: Address
A3: Address | H3: Title of Project: | R3: Title of Project: | S3: =I3 -> 0 | AB3: Title of Project: | AC3: =I3 -> 0 | AL3: Title of Project: | AM3: =S3 -> 0
A4: email
A5: Phone | H5: RFP Number: | R5: RFP Number: | S5: =I5 -> 0 | AB5: RFP Number: | AC5: =S5 -> 0 | AL5: RFP Number: | AM5: =AC5 -> 0
A7: (a) | B7: (b) | C7: (c) | D7: (d) | E7: (e) | F7: (f) | G7: (g) | H7: (h) | I7: (i) | J7: (j) | K7: (k) | L7: (l) | M7: (m) | N7: (n) | O7: (o) | P7: (p) | Q7: (q) | R7: (r) | S7: (s) | T7: (t) | U7: (u) | V7: (v) | W7: (w) | X7: (x) | Y7: (y) | Z7: (z) | AA7: (aa) | AB7: (ab) | AC7: (ac) | AD7: (ad) | AE7: (ae) | AF7: (af) | AG7: (ag) | AH7: (ah) | AI7: (ai) | AJ7: (aj) | AK7: (ak) | AL7: (al) | AM7: (am) | AN7: (an) | AO7: (ao) | AP7: (ap)
A8: Cost Categories | B8: Maximum Hourly Rate | C8: Task 1 | E8: Task 2 | G8: Task 3 | I8: Task 4 | K8: Task 5 | M8: Task 6 | O8: Task 7 | Q8: Task 8 | S8: Task 9 | U8: Task 10 | W8: Task 11 | Y8: Task 12 | AA8: Task 13 | AC8: Task 14 | AE8: Task 15 | AG8: Task 16 | AI8: Task 17 | AK8: Task 18 | AM8: Task 19 | AO8: Task 20 | AQ8: Grand Total (All Tasks)
C9: Task Name | E9: Task Name | G9: Task Name | I9: Task Name | K9: Task Name | M9: Task Name | O9: Task Name | Q9: Task Name | S9: Task Name | U9: Task Name | W9: Task Name | Y9: Task Name | AA9: Task Name | AC9: Task Name | AE9: Task Name | AG9: Task Name | AI9: Task Name | AK9: Task Name | AM9: Task Name | AO9: Task Name
C10: Hours | D10: Amount | E10: Hours | F10: Amount | G10: Hours | H10: Amount | I10: Hours | J10: Amount | K10: Hours | L10: Amount | M10: Hours | N10: Amount | O10: Hours | P10: Amount | Q10: Hours | R10: Amount | S10: Hours | T10: Amount | U10: Hours | V10: Amount | W10: Hours | X10: Amount | Y10: Hours | Z10: Amount | AA10: Hours | AB10: Amount | AC10: Hours | AD10: Amount | AE10: Hours | AF10: Amount | AG10: Hours | AH10: Amount | AI10: Hours | AJ10: Amount | AK10: Hours | AL10: Amount | AM10: Hours | AN10: Amount | AO10: Hours | AP10: Amount | AQ10: Hours | AR10: Amount
A11: Direct Labor Classification(s)
A12: Personnel Classification | C12: 0 | D12: =B12*C12 -> 0 | E12: 0 | F12: =$B12*E12 -> 0 | G12: 0 | H12: =$B12*G12 -> 0 | I12: 0 | J12: =$B12*I12 -> 0 | K12: 0 | L12: =$B12*K12 -> 0 | M12: 0 | N12: =$B12*M12 -> 0 | O12: 0 | P12: =$B12*O12 -> 0 | Q12: 0 | R12: =$B12*Q12 -> 0 | S12: 0 | T12: =$B12*S12 -> 0 | U12: 0 | V12: =$B12*U12 -> 0 | W12: 0 | X12: =$B12*W12 -> 0 | Y12: 0 | Z12: =$B12*Y12 -> 0 | AA12: 0 | AB12: =$B12*AA12 -> 0 | AC12: 0 | AD12: =$B12*AC12 -> 0 | AE12: 0 | AF12: =$B12*AE12 -> 0 | AG12: 0 | AH12: =$B12*AG12 -> 0 | AI12: 0 | AJ12: =$B12*AI12 -> 0 | AK12: 0 | AL12: =$B12*AK12 -> 0 | AM12: 0 | AN12: =$B12*AM12 -> 0 | AO12: 0 | AP12: =$B12*AO12 -> 0 | AQ12: =C12+E12+G12+I12+K12+M12+O12+Q12+S12+U12+W12+Y12+AA12+AC12+AE12+AG12+AI12+AK12+AM12+AO12 -> 0 | AR12: =D12+F12+H12+J12+L12+N12+P12+R12+T12+V12+X12+Z12+AB12+AD12+AF12+AH12+AJ12+AL12+AN12+AP12 -> 0
A13: Personnel Classification | C13: 0 | D13: =B13*C13 -> 0 | E13: 0 | F13: =$B13*E13 -> 0 | G13: 0 | H13: =$B13*G13 -> 0 | I13: 0 | J13: =$B13*I13 -> 0 | K13: 0 | L13: =$B13*K13 -> 0 | M13: 0 | N13: =$B13*M13 -> 0 | O13: 0 | P13: =$B13*O13 -> 0 | Q13: 0 | R13: =$B13*Q13 -> 0 | S13: 0 | T13: =$B13*S13 -> 0 | U13: 0 | V13: =$B13*U13 -> 0 | W13: 0 | X13: =$B13*W13 -> 0 | Y13: 0 | Z13: =$B13*Y13 -> 0 | AA13: 0 | AB13: =$B13*AA13 -> 0 | AC13: 0 | AD13: =$B13*AC13 -> 0 | AE13: 0 | AF13: =$B13*AE13 -> 0 | AG13: 0 | AH13: =$B13*AG13 -> 0 | AI13: 0 | AJ13: =$B13*AI13 -> 0 | AK13: 0 | AL13: =$B13*AK13 -> 0 | AM13: 0 | AN13: =$B13*AM13 -> 0 | AO13: 0 | AP13: =$B13*AO13 -> 0 | AQ13: =C13+E13+G13+I13+K13+M13+O13+Q13+S13+U13+W13+Y13+AA13+AC13+AE13+AG13+AI13+AK13+AM13+AO13 -> 0 | AR13: =D13+F13+H13+J13+L13+N13+P13+R13+T13+V13+X13+Z13+AB13+AD13+AF13+AH13+AJ13+AL13+AN13+AP13 -> 0
A14: Personnel Classification | C14: 0 | D14: =B14*C14 -> 0 | E14: 0 | F14: =$B14*E14 -> 0 | G14: 0 | H14: =$B14*G14 -> 0 | I14: 0 | J14: =$B14*I14 -> 0 | K14: 0 | L14: =$B14*K14 -> 0 | M14: 0 | N14: =$B14*M14 -> 0 | O14: 0 | P14: =$B14*O14 -> 0 | Q14: 0 | R14: =$B14*Q14 -> 0 | S14: 0 | T14: =$B14*S14 -> 0 | U14: 0 | V14: =$B14*U14 -> 0 | W14: 0 | X14: =$B14*W14 -> 0 | Y14: 0 | Z14: =$B14*Y14 -> 0 | AA14: 0 | AB14: =$B14*AA14 -> 0 | AC14: 0 | AD14: =$B14*AC14 -> 0 | AE14: 0 | AF14: =$B14*AE14 -> 0 | AG14: 0 | AH14: =$B14*AG14 -> 0 | AI14: 0 | AJ14: =$B14*AI14 -> 0 | AK14: 0 | AL14: =$B14*AK14 -> 0 | AM14: 0 | AN14: =$B14*AM14 -> 0 | AO14: 0 | AP14: =$B14*AO14 -> 0 | AQ14: =C14+E14+G14+I14+K14+M14+O14+Q14+S14+U14+W14+Y14+AA14+AC14+AE14+AG14+AI14+AK14+AM14+AO14 -> 0 | AR14: =D14+F14+H14+J14+L14+N14+P14+R14+T14+V14+X14+Z14+AB14+AD14+AF14+AH14+AJ14+AL14+AN14+AP14 -> 0
A15: Personnel Classification | C15: 0 | D15: =B15*C15 -> 0 | E15: 0 | F15: =$B15*E15 -> 0 | G15: 0 | H15: =$B15*G15 -> 0 | I15: 0 | J15: =$B15*I15 -> 0 | K15: 0 | L15: =$B15*K15 -> 0 | M15: 0 | N15: =$B15*M15 -> 0 | O15: 0 | P15: =$B15*O15 -> 0 | Q15: 0 | R15: =$B15*Q15 -> 0 | S15: 0 | T15: =$B15*S15 -> 0 | U15: 0 | V15: =$B15*U15 -> 0 | W15: 0 | X15: =$B15*W15 -> 0 | Y15: 0 | Z15: =$B15*Y15 -> 0 | AA15: 0 | AB15: =$B15*AA15 -> 0 | AC15: 0 | AD15: =$B15*AC15 -> 0 | AE15: 0 | AF15: =$B15*AE15 -> 0 | AG15: 0 | AH15: =$B15*AG15 -> 0 | AI15: 0 | AJ15: =$B15*AI15 -> 0 | AK15: 0 | AL15: =$B15*AK15 -> 0 | AM15: 0 | AN15: =$B15*AM15 -> 0 | AO15: 0 | AP15: =$B15*AO15 -> 0 | AQ15: =C15+E15+G15+I15+K15+M15+O15+Q15+S15+U15+W15+Y15+AA15+AC15+AE15+AG15+AI15+AK15+AM15+AO15 -> 0 | AR15: =D15+F15+H15+J15+L15+N15+P15+R15+T15+V15+X15+Z15+AB15+AD15+AF15+AH15+AJ15+AL15+AN15+AP15 -> 0
A16: Personnel Classification | C16: 0 | D16: =B16*C16 -> 0 | E16: 0 | F16: =$B16*E16 -> 0 | G16: 0 | H16: =$B16*G16 -> 0 | I16: 0 | J16: =$B16*I16 -> 0 | K16: 0 | L16: =$B16*K16 -> 0 | M16: 0 | N16: =$B16*M16 -> 0 | O16: 0 | P16: =$B16*O16 -> 0 | Q16: 0 | R16: =$B16*Q16 -> 0 | S16: 0 | T16: =$B16*S16 -> 0 | U16: 0 | V16: =$B16*U16 -> 0 | W16: 0 | X16: =$B16*W16 -> 0 | Y16: 0 | Z16: =$B16*Y16 -> 0 | AA16: 0 | AB16: =$B16*AA16 -> 0 | AC16: 0 | AD16: =$B16*AC16 -> 0 | AE16: 0 | AF16: =$B16*AE16 -> 0 | AG16: 0 | AH16: =$B16*AG16 -> 0 | AI16: 0 | AJ16: =$B16*AI16 -> 0 | AK16: 0 | AL16: =$B16*AK16 -> 0 | AM16: 0 | AN16: =$B16*AM16 -> 0 | AO16: 0 | AP16: =$B16*AO16 -> 0 | AQ16: =C16+E16+G16+I16+K16+M16+O16+Q16+S16+U16+W16+Y16+AA16+AC16+AE16+AG16+AI16+AK16+AM16+AO16 -> 0 | AR16: =D16+F16+H16+J16+L16+N16+P16+R16+T16+V16+X16+Z16+AB16+AD16+AF16+AH16+AJ16+AL16+AN16+AP16 -> 0
A17: Personnel Classification | C17: 0 | D17: =B17*C17 -> 0 | E17: 0 | F17: =$B17*E17 -> 0 | G17: 0 | H17: =$B17*G17 -> 0 | I17: 0 | J17: =$B17*I17 -> 0 | K17: 0 | L17: =$B17*K17 -> 0 | M17: 0 | N17: =$B17*M17 -> 0 | O17: 0 | P17: =$B17*O17 -> 0 | Q17: 0 | R17: =$B17*Q17 -> 0 | S17: 0 | T17: =$B17*S17 -> 0 | U17: 0 | V17: =$B17*U17 -> 0 | W17: 0 | X17: =$B17*W17 -> 0 | Y17: 0 | Z17: =$B17*Y17 -> 0 | AA17: 0 | AB17: =$B17*AA17 -> 0 | AC17: 0 | AD17: =$B17*AC17 -> 0 | AE17: 0 | AF17: =$B17*AE17 -> 0 | AG17: 0 | AH17: =$B17*AG17 -> 0 | AI17: 0 | AJ17: =$B17*AI17 -> 0 | AK17: 0 | AL17: =$B17*AK17 -> 0 | AM17: 0 | AN17: =$B17*AM17 -> 0 | AO17: 0 | AP17: =$B17*AO17 -> 0 | AQ17: =C17+E17+G17+I17+K17+M17+O17+Q17+S17+U17+W17+Y17+AA17+AC17+AE17+AG17+AI17+AK17+AM17+AO17 -> 0 | AR17: =D17+F17+H17+J17+L17+N17+P17+R17+T17+V17+X17+Z17+AB17+AD17+AF17+AH17+AJ17+AL17+AN17+AP17 -> 0
A18: Personnel Classification | C18: 0 | D18: =B18*C18 -> 0 | E18: 0 | F18: =$B18*E18 -> 0 | G18: 0 | H18: =$B18*G18 -> 0 | I18: 0 | J18: =$B18*I18 -> 0 | K18: 0 | L18: =$B18*K18 -> 0 | M18: 0 | N18: =$B18*M18 -> 0 | O18: 0 | P18: =$B18*O18 -> 0 | Q18: 0 | R18: =$B18*Q18 -> 0 | S18: 0 | T18: =$B18*S18 -> 0 | U18: 0 | V18: =$B18*U18 -> 0 | W18: 0 | X18: =$B18*W18 -> 0 | Y18: 0 | Z18: =$B18*Y18 -> 0 | AA18: 0 | AB18: =$B18*AA18 -> 0 | AC18: 0 | AD18: =$B18*AC18 -> 0 | AE18: 0 | AF18: =$B18*AE18 -> 0 | AG18: 0 | AH18: =$B18*AG18 -> 0 | AI18: 0 | AJ18: =$B18*AI18 -> 0 | AK18: 0 | AL18: =$B18*AK18 -> 0 | AM18: 0 | AN18: =$B18*AM18 -> 0 | AO18: 0 | AP18: =$B18*AO18 -> 0 | AQ18: =C18+E18+G18+I18+K18+M18+O18+Q18+S18+U18+W18+Y18+AA18+AC18+AE18+AG18+AI18+AK18+AM18+AO18 -> 0 | AR18: =D18+F18+H18+J18+L18+N18+P18+R18+T18+V18+X18+Z18+AB18+AD18+AF18+AH18+AJ18+AL18+AN18+AP18 -> 0
A19: Personnel Classification | C19: 0 | D19: =B19*C19 -> 0 | E19: 0 | F19: =$B19*E19 -> 0 | G19: 0 | H19: =$B19*G19 -> 0 | I19: 0 | J19: =$B19*I19 -> 0 | K19: 0 | L19: =$B19*K19 -> 0 | M19: 0 | N19: =$B19*M19 -> 0 | O19: 0 | P19: =$B19*O19 -> 0 | Q19: 0 | R19: =$B19*Q19 -> 0 | S19: 0 | T19: =$B19*S19 -> 0 | U19: 0 | V19: =$B19*U19 -> 0 | W19: 0 | X19: =$B19*W19 -> 0 | Y19: 0 | Z19: =$B19*Y19 -> 0 | AA19: 0 | AB19: =$B19*AA19 -> 0 | AC19: 0 | AD19: =$B19*AC19 -> 0 | AE19: 0 | AF19: =$B19*AE19 -> 0 | AG19: 0 | AH19: =$B19*AG19 -> 0 | AI19: 0 | AJ19: =$B19*AI19 -> 0 | AK19: 0 | AL19: =$B19*AK19 -> 0 | AM19: 0 | AN19: =$B19*AM19 -> 0 | AO19: 0 | AP19: =$B19*AO19 -> 0 | AQ19: =C19+E19+G19+I19+K19+M19+O19+Q19+S19+U19+W19+Y19+AA19+AC19+AE19+AG19+AI19+AK19+AM19+AO19 -> 0 | AR19: =D19+F19+H19+J19+L19+N19+P19+R19+T19+V19+X19+Z19+AB19+AD19+AF19+AH19+AJ19+AL19+AN19+AP19 -> 0
A20: Personnel Classification | C20: 0 | D20: =B20*C20 -> 0 | E20: 0 | F20: =$B20*E20 -> 0 | G20: 0 | H20: =$B20*G20 -> 0 | I20: 0 | J20: =$B20*I20 -> 0 | K20: 0 | L20: =$B20*K20 -> 0 | M20: 0 | N20: =$B20*M20 -> 0 | O20: 0 | P20: =$B20*O20 -> 0 | Q20: 0 | R20: =$B20*Q20 -> 0 | S20: 0 | T20: =$B20*S20 -> 0 | U20: 0 | V20: =$B20*U20 -> 0 | W20: 0 | X20: =$B20*W20 -> 0 | Y20: 0 | Z20: =$B20*Y20 -> 0 | AA20: 0 | AB20: =$B20*AA20 -> 0 | AC20: 0 | AD20: =$B20*AC20 -> 0 | AE20: 0 | AF20: =$B20*AE20 -> 0 | AG20: 0 | AH20: =$B20*AG20 -> 0 | AI20: 0 | AJ20: =$B20*AI20 -> 0 | AK20: 0 | AL20: =$B20*AK20 -> 0 | AM20: 0 | AN20: =$B20*AM20 -> 0 | AO20: 0 | AP20: =$B20*AO20 -> 0 | AQ20: =C20+E20+G20+I20+K20+M20+O20+Q20+S20+U20+W20+Y20+AA20+AC20+AE20+AG20+AI20+AK20+AM20+AO20 -> 0 | AR20: =D20+F20+H20+J20+L20+N20+P20+R20+T20+V20+X20+Z20+AB20+AD20+AF20+AH20+AJ20+AL20+AN20+AP20 -> 0
A21: Personnel Classification | C21: 0 | D21: =B21*C21 -> 0 | E21: 0 | F21: =$B21*E21 -> 0 | G21: 0 | H21: =$B21*G21 -> 0 | I21: 0 | J21: =$B21*I21 -> 0 | K21: 0 | L21: =$B21*K21 -> 0 | M21: 0 | N21: =$B21*M21 -> 0 | O21: 0 | P21: =$B21*O21 -> 0 | Q21: 0 | R21: =$B21*Q21 -> 0 | S21: 0 | T21: =$B21*S21 -> 0 | U21: 0 | V21: =$B21*U21 -> 0 | W21: 0 | X21: =$B21*W21 -> 0 | Y21: 0 | Z21: =$B21*Y21 -> 0 | AA21: 0 | AB21: =$B21*AA21 -> 0 | AC21: 0 | AD21: =$B21*AC21 -> 0 | AE21: 0 | AF21: =$B21*AE21 -> 0 | AG21: 0 | AH21: =$B21*AG21 -> 0 | AI21: 0 | AJ21: =$B21*AI21 -> 0 | AK21: 0 | AL21: =$B21*AK21 -> 0 | AM21: 0 | AN21: =$B21*AM21 -> 0 | AO21: 0 | AP21: =$B21*AO21 -> 0 | AQ21: =C21+E21+G21+I21+K21+M21+O21+Q21+S21+U21+W21+Y21+AA21+AC21+AE21+AG21+AI21+AK21+AM21+AO21 -> 0 | AR21: =D21+F21+H21+J21+L21+N21+P21+R21+T21+V21+X21+Z21+AB21+AD21+AF21+AH21+AJ21+AL21+AN21+AP21 -> 0
A22: Personnel Classification | C22: 0 | D22: =B22*C22 -> 0 | E22: 0 | F22: =$B22*E22 -> 0 | G22: 0 | H22: =$B22*G22 -> 0 | I22: 0 | J22: =$B22*I22 -> 0 | K22: 0 | L22: =$B22*K22 -> 0 | M22: 0 | N22: =$B22*M22 -> 0 | O22: 0 | P22: =$B22*O22 -> 0 | Q22: 0 | R22: =$B22*Q22 -> 0 | S22: 0 | T22: =$B22*S22 -> 0 | U22: 0 | V22: =$B22*U22 -> 0 | W22: 0 | X22: =$B22*W22 -> 0 | Y22: 0 | Z22: =$B22*Y22 -> 0 | AA22: 0 | AB22: =$B22*AA22 -> 0 | AC22: 0 | AD22: =$B22*AC22 -> 0 | AE22: 0 | AF22: =$B22*AE22 -> 0 | AG22: 0 | AH22: =$B22*AG22 -> 0 | AI22: 0 | AJ22: =$B22*AI22 -> 0 | AK22: 0 | AL22: =$B22*AK22 -> 0 | AM22: 0 | AN22: =$B22*AM22 -> 0 | AO22: 0 | AP22: =$B22*AO22 -> 0 | AQ22: =C22+E22+G22+I22+K22+M22+O22+Q22+S22+U22+W22+Y22+AA22+AC22+AE22+AG22+AI22+AK22+AM22+AO22 -> 0 | AR22: =D22+F22+H22+J22+L22+N22+P22+R22+T22+V22+X22+Z22+AB22+AD22+AF22+AH22+AJ22+AL22+AN22+AP22 -> 0
A23: Personnel Classification | C23: 0 | D23: =B23*C23 -> 0 | E23: 0 | F23: =$B23*E23 -> 0 | G23: 0 | H23: =$B23*G23 -> 0 | I23: 0 | J23: =$B23*I23 -> 0 | K23: 0 | L23: =$B23*K23 -> 0 | M23: 0 | N23: =$B23*M23 -> 0 | O23: 0 | P23: =$B23*O23 -> 0 | Q23: 0 | R23: =$B23*Q23 -> 0 | S23: 0 | T23: =$B23*S23 -> 0 | U23: 0 | V23: =$B23*U23 -> 0 | W23: 0 | X23: =$B23*W23 -> 0 | Y23: 0 | Z23: =$B23*Y23 -> 0 | AA23: 0 | AB23: =$B23*AA23 -> 0 | AC23: 0 | AD23: =$B23*AC23 -> 0 | AE23: 0 | AF23: =$B23*AE23 -> 0 | AG23: 0 | AH23: =$B23*AG23 -> 0 | AI23: 0 | AJ23: =$B23*AI23 -> 0 | AK23: 0 | AL23: =$B23*AK23 -> 0 | AM23: 0 | AN23: =$B23*AM23 -> 0 | AO23: 0 | AP23: =$B23*AO23 -> 0 | AQ23: =C23+E23+G23+I23+K23+M23+O23+Q23+S23+U23+W23+Y23+AA23+AC23+AE23+AG23+AI23+AK23+AM23+AO23 -> 0 | AR23: =D23+F23+H23+J23+L23+N23+P23+R23+T23+V23+X23+Z23+AB23+AD23+AF23+AH23+AJ23+AL23+AN23+AP23 -> 0
... A36: Personnel Classification | C36: 0 | D36: =B36*C36 -> 0 | E36: 0 | F36: =$B36*E36 -> 0 | G36: 0 | H36: =$B36*G36 -> 0 | I36: 0 | J36: =$B36*I36 -> 0 | K36: 0 | L36: =$B36*K36 -> 0 | M36: 0 | N36: =$B36*M36 -> 0 | O36: 0 | P36: =$B36*O36 -> 0 | Q36: 0 | R36: =$B36*Q36 -> 0 | S36: 0 | T36: =$B36*S36 -> 0 | U36: 0 | V36: =$B36*U36 -> 0 | W36: 0 | X36: =$B36*W36 -> 0 | Y36: 0 | Z36: =$B36*Y36 -> 0 | AA36: 0 | AB36: =$B36*AA36 -> 0 | AC36: 0 | AD36: =$B36*AC36 -> 0 | AE36: 0 | AF36: =$B36*AE36 -> 0 | AG36: 0 | AH36: =$B36*AG36 -> 0 | AI36: 0 | AJ36: =$B36*AI36 -> 0 | AK36: 0 | AL36: =$B36*AK36 -> 0 | AM36: 0 | AN36: =$B36*AM36 -> 0 | AO36: 0 | AP36: =$B36*AO36 -> 0 | AQ36: =C36+E36+G36+I36+K36+M36+O36+Q36+S36+U36+W36+Y36+AA36+AC36+AE36+AG36+AI36+AK36+AM36+AO36 -> 0 | AR36: =D36+F36+H36+J36+L36+N36+P36+R36+T36+V36+X36+Z36+AB36+AD36+AF36+AH36+AJ36+AL36+AN36+AP36 -> 0
A37: Subtotal - Direct Labor | C37: =SUM(C11:C36) -> 0 | D37: =SUM(D11:D36) -> 0 | E37: =SUM(E11:E36) -> 0 | F37: =SUM(F11:F36) -> 0 | G37: =SUM(G11:G36) -> 0 | H37: =SUM(H11:H36) -> 0 | I37: =SUM(I11:I36) -> 0 | J37: =SUM(J11:J36) -> 0 | ... AR37: =SUM(AR11:AR36) -> 0
A38: Overhead & Fringe (inc. G & A)
A39: Overhead | B39: 0 | D39: =D37*$B39 -> 0 | F39: =F37*$B39 -> 0 | H39: =H37*$B39 -> 0 | J39: =J37*$B39 -> 0 | L39: =L37*$B39 -> 0 | N39: =N37*$B39 -> 0 | P39: =P37*$B39 -> 0 | R39: =R37*$B39 -> 0 | T39: =T37*$B39 -> 0 | V39: =V37*$B39 -> 0 | X39: =X37*$B39 -> 0 | Z39: =Z37*$B39 -> 0 | AB39: =AB37*$B39 -> 0 | AD39: =AD37*$B39 -> 0 | AF39: =AF37*$B39 -> 0 | AH39: =AH37*$B39 -> 0 | AJ39: =AJ37*$B39 -> 0 | AL39: =AL37*$B39 -> 0 | AN39: =AN37*$B39 -> 0 | AP39: =AP37*$B39 -> 0 | AR39: =D39+F39+H39+J39+L39+N39+P39+R39+T39+V39+X39+Z39+AB39+AD39+AF39+AH39+AJ39+AL39+AN39+AP39 -> 0
A40: Fringe | B40: 0 | D40: =$B40*D37 -> 0 | F40: =$B40*F37 -> 0 | H40: =$B40*H37 -> 0 | J40: =$B40*J37 -> 0 | L40: =$B40*L37 -> 0 | N40: =$B40*N37 -> 0 | P40: =$B40*P37 -> 0 | R40: =$B40*R37 -> 0 | T40: =$B40*T37 -> 0 | V40: =$B40*V37 -> 0 | X40: =$B40*X37 -> 0 | Z40: =$B40*Z37 -> 0 | AB40: =$B40*AB37 -> 0 | AD40: =$B40*AD37 -> 0 | AF40: =$B40*AF37 -> 0 | AH40: =$B40*AH37 -> 0 | AJ40: =$B40*AJ37 -> 0 | AL40: =$B40*AL37 -> 0 | AN40: =$B40*AN37 -> 0 | AP40: =$B40*AP37 -> 0 | AR40: =D40+F40+H40+J40+L40+N40+P40+R40+T40+V40+X40+Z40+AB40+AD40+AF40+AH40+AJ40+AL40+AN40+AP40 -> 0
AR41: =D41+F41+H41+J41+L41+N41+P41+R41+T41+V41+X41+Z41+AB41+AD41+AF41+AH41+AJ41+AL41+AN41+AP41 -> 0
A42: Subtotal - Overhead & Fringe (inc. G & A) | D42: =SUM(D38:D41) -> 0 | F42: =SUM(F38:F41) -> 0 | H42: =SUM(H38:H41) -> 0 | J42: =SUM(J38:J41) -> 0 | L42: =SUM(L38:L41) -> 0 | N42: =SUM(N38:N41) -> 0 | P42: =SUM(P38:P41) -> 0 | R42: =SUM(R38:R41) -> 0 | T42: =SUM(T38:T41) -> 0 | V42: =SUM(V38:V41) -> 0 | X42: =SUM(X38:X41) -> 0 | Z42: =SUM(Z38:Z41) -> 0 | AB42: =SUM(AB38:AB41) -> 0 | AD42: =SUM(AD38:AD41) -> 0 | AF42: =SUM(AF38:AF41) -> 0 | AH42: =SUM(AH38:AH41) -> 0 | AJ42: =SUM(AJ38:AJ41) -> 0 | AL42: =SUM(AL38:AL41) -> 0 | AN42: =SUM(AN38:AN41) -> 0 | AP42: =SUM(AP38:AP41) -> 0 | AR42: =SUM(AR38:AR41) -> 0
A43: Fixed Fee
A44: Fixed Fee | B44: 0 | D44: =$B44*(D37+D42) -> 0 | F44: =$B44*(F37+F42) -> 0 | H44: =$B44*(H37+H42) -> 0 | J44: =$B44*(J37+J42) -> 0 | L44: =$B44*(L37+L42) -> 0 | N44: =$B44*(N37+N42) -> 0 | P44: =$B44*(P37+P42) -> 0 | R44: =$B44*(R37+R42) -> 0 | T44: =$B44*(T37+T42) -> 0 | V44: =$B44*(V37+V42) -> 0 | X44: =$B44*(X37+X42) -> 0 | Z44: =$B44*(Z37+Z42) -> 0 | AB44: =$B44*(AB37+AB42) -> 0 | AD44: =$B44*(AD37+AD42) -> 0 | AF44: =$B44*(AF37+AF42) -> 0 | AH44: =$B44*(AH37+AH42) -> 0 | AJ44: =$B44*(AJ37+AJ42) -> 0 | AL44: =$B44*(AL37+AL42) -> 0 | AN44: =$B44*(AN37+AN42) -> 0 | AP44: =$B44*(AP37+AP42) -> 0 | AR44: =D44+F44+H44+J44+L44+N44+P44+R44+T44+V44+X44+Z44+AB44+AD44+AF44 -> 0
A45: Other Direct Costs (ODC's)
A46: Travel | D46: 0 | F46: 0 | H46: 0 | J46: 0 | L46: 0 | N46: 0 | P46: 0 | R46: 0 | T46: 0 | V46: 0 | X46: 0 | Z46: 0 | AB46: 0 | AD46: 0 | AF46: 0 | AH46: 0 | AJ46: 0 | AL46: 0 | AN46: 0 | AP46: 0 | AR46: =D46+F46+H46+J46+L46+N46+P46+R46+T46+V46+X46+Z46+AB46+AD46+AF46+AH46+AJ46+AL46+AN46+AP46 -> 0
A47: Printing - Directly Chargeable only | D47: 0 | F47: 0 | H47: 0 | J47: 0 | L47: 0 | N47: 0 | P47: 0 | R47: 0 | T47: 0 | V47: 0 | X47: 0 | Z47: 0 | AB47: 0 | AD47: 0 | AF47: 0 | AH47: 0 | AJ47: 0 | AL47: 0 | AN47: 0 | AP47: 0 | AR47: =D47+F47+H47+J47+L47+N47+P47+R47+T47+V47+X47+Z47+AB47+AD47+AF47+AH47+AJ47+AL47+AN47+AP47 -> 0
A48: Supplies & Materials - Directly Chargeable only | D48: 0 | F48: 0 | H48: 0 | J48: 0 | L48: 0 | N48: 0 | P48: 0 | R48: 0 | T48: 0 | V48: 0 | X48: 0 | Z48: 0 | AB48: 0 | AD48: 0 | AF48: 0 | AH48: 0 | AJ48: 0 | AL48: 0 | AN48: 0 | AP48: 0 | AR48: =D48+F48+H48+J48+L48+N48+P48+R48+T48+V48+X48+Z48+AB48+AD48+AF48+AH48+AJ48+AL48+AN48+AP48 -> 0
A49: ODC Description | D49: 0 | F49: 0 | H49: 0 | J49: 0 | L49: 0 | N49: 0 | P49: 0 | R49: 0 | T49: 0 | V49: 0 | X49: 0 | Z49: 0 | AB49: 0 | AD49: 0 | AF49: 0 | AH49: 0 | AJ49: 0 | AL49: 0 | AN49: 0 | AP49: 0 | AR49: =D49+F49+H49+J49+L49+N49+P49+R49+T49+V49+X49+Z49+AB49+AD49+AF49+AH49+AJ49+AL49+AN49+AP49 -> 0
A50: ODC Description | D50: 0 | F50: 0 | H50: 0 | J50: 0 | L50: 0 | N50: 0 | P50: 0 | R50: 0 | T50: 0 | V50: 0 | X50: 0 | Z50: 0 | AB50: 0 | AD50: 0 | AF50: 0 | AH50: 0 | AJ50: 0 | AL50: 0 | AN50: 0 | AP50: 0 | AR50: =D50+F50+H50+J50+L50+N50+P50+R50+T50+V50+X50+Z50+AB50+AD50+AF50+AH50+AJ50+AL50+AN50+AP50 -> 0
A51: ODC Description | D51: 0 | F51: 0 | H51: 0 | J51: 0 | L51: 0 | N51: 0 | P51: 0 | R51: 0 | T51: 0 | V51: 0 | X51: 0 | Z51: 0 | AB51: 0 | AD51: 0 | AF51: 0 | AH51: 0 | AJ51: 0 | AL51: 0 | AN51: 0 | AP51: 0 | AR51: =D51+F51+H51+J51+L51+N51+P51+R51+T51+V51+X51+Z51+AB51+AD51+AF51+AH51+AJ51+AL51+AN51+AP51 -> 0
A52: ODC Description | D52: 0 | F52: 0 | H52: 0 | J52: 0 | L52: 0 | N52: 0 | P52: 0 | R52: 0 | T52: 0 | V52: 0 | X52: 0 | Z52: 0 | AB52: 0 | AD52: 0 | AF52: 0 | AH52: 0 | AJ52: 0 | AL52: 0 | AN52: 0 | AP52: 0 | AR52: =D52+F52+H52+J52+L52+N52+P52+R52+T52+V52+X52+Z52+AB52+AD52+AF52+AH52+AJ52+AL52+AN52+AP52 -> 0
A53: ODC Description | D53: 0 | F53: 0 | H53: 0 | J53: 0 | L53: 0 | N53: 0 | P53: 0 | R53: 0 | T53: 0 | V53: 0 | X53: 0 | Z53: 0 | AB53: 0 | AD53: 0 | AF53: 0 | AH53: 0 | AJ53: 0 | AL53: 0 | AN53: 0 | AP53: 0 | AR53: =D53+F53+H53+J53+L53+N53+P53+R53+T53+V53+X53+Z53+AB53+AD53+AF53+AH53+AJ53+AL53+AN53+AP53 -> 0
A54: ODC Description | D54: 0 | F54: 0 | H54: 0 | J54: 0 | L54: 0 | N54: 0 | P54: 0 | R54: 0 | T54: 0 | V54: 0 | X54: 0 | Z54: 0 | AB54: 0 | AD54: 0 | AF54: 0 | AH54: 0 | AJ54: 0 | AL54: 0 | AN54: 0 | AP54: 0 | AR54: =D54+F54+H54+J54+L54+N54+P54+R54+T54+V54+X54+Z54+AB54+AD54+AF54+AH54+AJ54+AL54+AN54+AP54 -> 0
A55: ODC Description | D55: 0 | F55: 0 | H55: 0 | J55: 0 | L55: 0 | N55: 0 | P55: 0 | R55: 0 | T55: 0 | V55: 0 | X55: 0 | Z55: 0 | AB55: 0 | AD55: 0 | AF55: 0 | AH55: 0 | AJ55: 0 | AL55: 0 | AN55: 0 | AP55: 0 | AR55: =D55+F55+H55+J55+L55+N55+P55+R55+T55+V55+X55+Z55+AB55+AD55+AF55+AH55+AJ55+AL55+AN55+AP55 -> 0
A56: ODC Description | D56: 0 | F56: 0 | H56: 0 | J56: 0 | L56: 0 | N56: 0 | P56: 0 | R56: 0 | T56: 0 | V56: 0 | X56: 0 | Z56: 0 | AB56: 0 | AD56: 0 | AF56: 0 | AH56: 0 | AJ56: 0 | AL56: 0 | AN56: 0 | AP56: 0 | AR56: =D56+F56+H56+J56+L56+N56+P56+R56+T56+V56+X56+Z56+AB56+AD56+AF56+AH56+AJ56+AL56+AN56+AP56 -> 0
A57: ODC Description | D57: 0 | F57: 0 | H57: 0 | J57: 0 | L57: 0 | N57: 0 | P57: 0 | R57: 0 | T57: 0 | V57: 0 | X57: 0 | Z57: 0 | AB57: 0 | AD57: 0 | AF57: 0 | AH57: 0 | AJ57: 0 | AL57: 0 | AN57: 0 | AP57: 0 | AR57: =D57+F57+H57+J57+L57+N57+P57+R57+T57+V57+X57+Z57+AB57+AD57+AF57+AH57+AJ57+AL57+AN57+AP57 -> 0
... A65: ODC Description | D65: 0 | F65: 0 | H65: 0 | J65: 0 | L65: 0 | N65: 0 | P65: 0 | R65: 0 | T65: 0 | V65: 0 | X65: 0 | Z65: 0 | AB65: 0 | AD65: 0 | AF65: 0 | AH65: 0 | AJ65: 0 | AL65: 0 | AN65: 0 | AP65: 0 | AR65: =D65+F65+H65+J65+L65+N65+P65+R65+T65+V65+X65+Z65+AB65+AD65+AF65+AH65+AJ65+AL65+AN65+AP65 -> 0
A66: Subtotal - ODC's | D66: =SUM(D45:D65) -> 0 | F66: =SUM(F45:F65) -> 0 | H66: =SUM(H45:H65) -> 0 | J66: =SUM(J45:J65) -> 0 | L66: =SUM(L45:L65) -> 0 | N66: =SUM(N45:N65) -> 0 | P66: =SUM(P45:P65) -> 0 | R66: =SUM(R45:R65) -> 0 | T66: =SUM(T45:T65) -> 0 | V66: =SUM(V45:V65) -> 0 | X66: =SUM(X45:X65) -> 0 | Z66: =SUM(Z45:Z65) -> 0 | AB66: =SUM(AB45:AB65) -> 0 | AD66: =SUM(AD45:AD65) -> 0 | AF66: =SUM(AF45:AF65) -> 0 | AH66: =SUM(AH45:AH65) -> 0 | AJ66: =SUM(AJ45:AJ65) -> 0 | AL66: =SUM(AL45:AL65) -> 0 | AN66: =SUM(AN45:AN65) -> 0 | AP66: =SUM(AP45:AP65) -> 0 | AR66: =SUM(AR45:AR65) -> 0
A67: Subconsultant(s)
AQ68: =C68+E68+G68+I68+K68+M68+O68+Q68+S68+U68+W68+Y68+AA68+AC68+AE68+AG68+AI68+AK68+AM68+AO68 -> 0 | AR68: =D68+F68+H68+J68+L68+N68+P68+R68+T68+V68+X68+Z68+AB68+AD68+AF68+AH68+AJ68+AL68+AN68+AP68 -> 0
AQ69: =C69+E69+G69+I69+K69+M69+O69+Q69+S69+U69+W69+Y69+AA69+AC69+AE69+AG69+AI69+AK69+AM69+AO69 -> 0 | AR69: =D69+F69+H69+J69+L69+N69+P69+R69+T69+V69+X69+Z69+AB69+AD69+AF69+AH69+AJ69+AL69+AN69+AP69 -> 0
A70: Subtotal - Subconsultant(s) | C70: =SUM(C67:C69) -> 0 | D70: =SUM(D67:D69) -> 0 | E70: =SUM(E67:E69) -> 0 | F70: =SUM(F67:F69) -> 0 | G70: =SUM(G67:G69) -> 0 | H70: =SUM(H67:H69) -> 0 | I70: =SUM(I67:I69) -> 0 | J70: =SUM(J67:J69) -> 0 | ... AR70: =SUM(AR67:AR69) -> 0
A72: GRAND TOTAL | C72: =C37+C42+C44+C66+C70 -> 0 | D72: =D37+D42+D44+D66+D70 -> 0 | E72: =E37+E42+E44+E66+E70 -> 0 | F72: =F37+F42+F44+F66+F70 -> 0 | G72: =G37+G42+G44+G66+G70 -> 0 | H72: =H37+H42+H44+H66+H70 -> 0 | I72: =I37+I42+I44+I66+I70 -> 0 | J72: =J37+J42+J44+J66+J70 -> 0 | ... AR72: =AR37+AR42+AR44+AR66+AR70 -> 0
A73: Check Totals | C73: =SUM(C12:C36)+SUM(C68:C69) -> 0 | D73: =SUM(D12:D36)+SUM(D39:D41)+D44+SUM(D46:D65)+SUM(D68:D69) -> 0 | E73: =SUM(E12:E36)+SUM(E68:E69) -> 0 | F73: =SUM(F12:F36)+SUM(F39:F41)+F44+SUM(F46:F65)+SUM(F68:F69) -> 0 | G73: =SUM(G12:G36)+SUM(G68:G69) -> 0 | H73: =SUM(H12:H36)+SUM(H39:H41)+H44+SUM(H46:H65)+SUM(H68:H69) -> 0 | I73: =SUM(I12:I36)+SUM(I68:I69) -> 0 | J73: =SUM(J12:J36)+SUM(J39:J41)+J44+SUM(J46:J65)+SUM(J68:J69) -> 0 | K73: =SUM(K12:K36)+SUM(K68:K69) -> 0 | L73: =SUM(L12:L36)+SUM(L39:L41)+L44+SUM(L46:L65)+SUM(L68:L69) -> 0 | M73: =SUM(M12:M36)+SUM(M68:M69) -> 0 | N73: =SUM(N12:N36)+SUM(N39:N41)+N44+SUM(N46:N65)+SUM(N68:N69) -> 0 | O73: =SUM(O12:O36)+SUM(O68:O69) -> 0 | P73: =SUM(P12:P36)+SUM(P39:P41)+P44+SUM(P46:P65)+SUM(P68:P69) -> 0 | Q73: =SUM(Q12:Q36)+SUM(Q68:Q69) -> 0 | R73: =SUM(R12:R36)+SUM(R39:R41)+R44+SUM(R46:R65)+SUM(R68:R69) -> 0 | S73: =SUM(S12:S36)+SUM(S68:S69) -> 0 | T73: =SUM(T12:T36)+SUM(T39:T41)+T44+SUM(T46:T65)+SUM(T68:T69) -> 0 | U73: =SUM(U12:U36)+SUM(U68:U69) -> 0 | V73: =SUM(V12:V36)+SUM(V39:V41)+V44+SUM(V46:V65)+SUM(V68:V69) -> 0 | W73: =SUM(W12:W36)+SUM(W68:W69) -> 0 | X73: =SUM(X12:X36)+SUM(X39:X41)+X44+SUM(X46:X65)+SUM(X68:X69) -> 0 | Y73: =SUM(Y12:Y36)+SUM(Y68:Y69) -> 0 | Z73: =SUM(Z12:Z36)+SUM(Z39:Z41)+Z44+SUM(Z46:Z65)+SUM(Z68:Z69) -> 0 | AA73: =SUM(AA12:AA36)+SUM(AA68:AA69) -> 0 | AB73: =SUM(AB12:AB36)+SUM(AB39:AB41)+AB44+SUM(AB46:AB65)+SUM(AB68:AB69) -> 0 | AC73: =SUM(AC12:AC36)+SUM(AC68:AC69) -> 0 | AD73: =SUM(AD12:AD36)+SUM(AD39:AD41)+AD44+SUM(AD46:AD65)+SUM(AD68:AD69) -> 0 | AE73: =SUM(AE12:AE36)+SUM(AE68:AE69) -> 0 | AF73: =SUM(AF12:AF36)+SUM(AF39:AF41)+AF44+SUM(AF46:AF65)+SUM(AF68:AF69) -> 0 | AG73: =SUM(AG12:AG36)+SUM(AG68:AG69) -> 0 | AH73: =SUM(AH12:AH36)+SUM(AH39:AH41)+AH44+SUM(AH46:AH65)+SUM(AH68:AH69) -> 0 | AI73: =SUM(AI12:AI36)+SUM(AI68:AI69) -> 0 | AJ73: =SUM(AJ12:AJ36)+SUM(AJ39:AJ41)+AJ44+SUM(AJ46:AJ65)+SUM(AJ68:AJ69) -> 0 | AK73: =SUM(AK12:AK36)+SUM(AK68:AK69) -> 0 | AL73: =SUM(AL12:AL36)+SUM(AL39:AL41)+AL44+SUM(AL46:AL65)+SUM(AL68:AL69) -> 0 | AM73: =SUM(AM12:AM36)+SUM(AM68:AM69) -> 0 | AN73: =SUM(AN12:AN36)+SUM(AN39:AN41)+AN44+SUM(AN46:AN65)+SUM(AN68:AN69) -> 0 | AO73: =SUM(AO12:AO36)+SUM(AO68:AO69) -> 0 | AP73: =SUM(AP12:AP36)+SUM(AP39:AP41)+AP44+SUM(AP46:AP65)+SUM(AP68:AP69) -> 0 | AQ73: =C73+E73+G73+I73+K73+M73+O73+Q73+S73+U73+W73+Y73+AA73+AC73+AE73+AG73+AI73+AK73+AM73+AO73 -> 0 | AR73: =D73+F73+H73+J73+L73+N73+P73+R73+T73+V73+X73+Z73+AB73+AD73+AF73+AH73+AJ73+AL73+AN73+AP73 -> 0
V74: Variance | AR74: =AR72-AR73 -> 0

Sheet Sub 3
A1: Sub 3 | E1: LINE ITEM BUDGET
A2: Address
A3: Address | H3: Title of Project: | R3: Title of Project: | S3: =I3 -> 0 | AB3: Title of Project: | AC3: =I3 -> 0 | AL3: Title of Project: | AM3: =S3 -> 0
A4: email
A5: Phone | H5: RFP Number: | R5: RFP Number: | S5: =I5 -> 0 | AB5: RFP Number: | AC5: =S5 -> 0 | AL5: RFP Number: | AM5: =AC5 -> 0
A7: (a) | B7: (b) | C7: (c) | D7: (d) | E7: (e) | F7: (f) | G7: (g) | H7: (h) | I7: (i) | J7: (j) | K7: (k) | L7: (l) | M7: (m) | N7: (n) | O7: (o) | P7: (p) | Q7: (q) | R7: (r) | S7: (s) | T7: (t) | U7: (u) | V7: (v) | W7: (w) | X7: (x) | Y7: (y) | Z7: (z) | AA7: (aa) | AB7: (ab) | AC7: (ac) | AD7: (ad) | AE7: (ae) | AF7: (af) | AG7: (ag) | AH7: (ah) | AI7: (ai) | AJ7: (aj) | AK7: (ak) | AL7: (al) | AM7: (am) | AN7: (an) | AO7: (ao) | AP7: (ap)
A8: Cost Categories | B8: Maximum Hourly Rate | C8: Task 1 | E8: Task 2 | G8: Task 3 | I8: Task 4 | K8: Task 5 | M8: Task 6 | O8: Task 7 | Q8: Task 8 | S8: Task 9 | U8: Task 10 | W8: Task 11 | Y8: Task 12 | AA8: Task 13 | AC8: Task 14 | AE8: Task 15 | AG8: Task 16 | AI8: Task 17 | AK8: Task 18 | AM8: Task 19 | AO8: Task 20 | AQ8: Grand Total (All Tasks)
C9: Task Name | E9: Task Name | G9: Task Name | I9: Task Name | K9: Task Name | M9: Task Name | O9: Task Name | Q9: Task Name | S9: Task Name | U9: Task Name | W9: Task Name | Y9: Task Name | AA9: Task Name | AC9: Task Name | AE9: Task Name | AG9: Task Name | AI9: Task Name | AK9: Task Name | AM9: Task Name | AO9: Task Name
C10: Hours | D10: Amount | E10: Hours | F10: Amount | G10: Hours | H10: Amount | I10: Hours | J10: Amount | K10: Hours | L10: Amount | M10: Hours | N10: Amount | O10: Hours | P10: Amount | Q10: Hours | R10: Amount | S10: Hours | T10: Amount | U10: Hours | V10: Amount | W10: Hours | X10: Amount | Y10: Hours | Z10: Amount | AA10: Hours | AB10: Amount | AC10: Hours | AD10: Amount | AE10: Hours | AF10: Amount | AG10: Hours | AH10: Amount | AI10: Hours | AJ10: Amount | AK10: Hours | AL10: Amount | AM10: Hours | AN10: Amount | AO10: Hours | AP10: Amount | AQ10: Hours | AR10: Amount
A11: Direct Labor Classification(s)
A12: Personnel Classification | C12: 0 | D12: =B12*C12 -> 0 | E12: 0 | F12: =$B12*E12 -> 0 | G12: 0 | H12: =$B12*G12 -> 0 | I12: 0 | J12: =$B12*I12 -> 0 | K12: 0 | L12: =$B12*K12 -> 0 | M12: 0 | N12: =$B12*M12 -> 0 | O12: 0 | P12: =$B12*O12 -> 0 | Q12: 0 | R12: =$B12*Q12 -> 0 | S12: 0 | T12: =$B12*S12 -> 0 | U12: 0 | V12: =$B12*U12 -> 0 | W12: 0 | X12: =$B12*W12 -> 0 | Y12: 0 | Z12: =$B12*Y12 -> 0 | AA12: 0 | AB12: =$B12*AA12 -> 0 | AC12: 0 | AD12: =$B12*AC12 -> 0 | AE12: 0 | AF12: =$B12*AE12 -> 0 | AG12: 0 | AH12: =$B12*AG12 -> 0 | AI12: 0 | AJ12: =$B12*AI12 -> 0 | AK12: 0 | AL12: =$B12*AK12 -> 0 | AM12: 0 | AN12: =$B12*AM12 -> 0 | AO12: 0 | AP12: =$B12*AO12 -> 0 | AQ12: =C12+E12+G12+I12+K12+M12+O12+Q12+S12+U12+W12+Y12+AA12+AC12+AE12+AG12+AI12+AK12+AM12+AO12 -> 0 | AR12: =D12+F12+H12+J12+L12+N12+P12+R12+T12+V12+X12+Z12+AB12+AD12+AF12+AH12+AJ12+AL12+AN12+AP12 -> 0
A13: Personnel Classification | C13: 0 | D13: =B13*C13 -> 0 | E13: 0 | F13: =$B13*E13 -> 0 | G13: 0 | H13: =$B13*G13 -> 0 | I13: 0 | J13: =$B13*I13 -> 0 | K13: 0 | L13: =$B13*K13 -> 0 | M13: 0 | N13: =$B13*M13 -> 0 | O13: 0 | P13: =$B13*O13 -> 0 | Q13: 0 | R13: =$B13*Q13 -> 0 | S13: 0 | T13: =$B13*S13 -> 0 | U13: 0 | V13: =$B13*U13 -> 0 | W13: 0 | X13: =$B13*W13 -> 0 | Y13: 0 | Z13: =$B13*Y13 -> 0 | AA13: 0 | AB13: =$B13*AA13 -> 0 | AC13: 0 | AD13: =$B13*AC13 -> 0 | AE13: 0 | AF13: =$B13*AE13 -> 0 | AG13: 0 | AH13: =$B13*AG13 -> 0 | AI13: 0 | AJ13: =$B13*AI13 -> 0 | AK13: 0 | AL13: =$B13*AK13 -> 0 | AM13: 0 | AN13: =$B13*AM13 -> 0 | AO13: 0 | AP13: =$B13*AO13 -> 0 | AQ13: =C13+E13+G13+I13+K13+M13+O13+Q13+S13+U13+W13+Y13+AA13+AC13+AE13+AG13+AI13+AK13+AM13+AO13 -> 0 | AR13: =D13+F13+H13+J13+L13+N13+P13+R13+T13+V13+X13+Z13+AB13+AD13+AF13+AH13+AJ13+AL13+AN13+AP13 -> 0
A14: Personnel Classification | C14: 0 | D14: =B14*C14 -> 0 | E14: 0 | F14: =$B14*E14 -> 0 | G14: 0 | H14: =$B14*G14 -> 0 | I14: 0 | J14: =$B14*I14 -> 0 | K14: 0 | L14: =$B14*K14 -> 0 | M14: 0 | N14: =$B14*M14 -> 0 | O14: 0 | P14: =$B14*O14 -> 0 | Q14: 0 | R14: =$B14*Q14 -> 0 | S14: 0 | T14: =$B14*S14 -> 0 | U14: 0 | V14: =$B14*U14 -> 0 | W14: 0 | X14: =$B14*W14 -> 0 | Y14: 0 | Z14: =$B14*Y14 -> 0 | AA14: 0 | AB14: =$B14*AA14 -> 0 | AC14: 0 | AD14: =$B14*AC14 -> 0 | AE14: 0 | AF14: =$B14*AE14 -> 0 | AG14: 0 | AH14: =$B14*AG14 -> 0 | AI14: 0 | AJ14: =$B14*AI14 -> 0 | AK14: 0 | AL14: =$B14*AK14 -> 0 | AM14: 0 | AN14: =$B14*AM14 -> 0 | AO14: 0 | AP14: =$B14*AO14 -> 0 | AQ14: =C14+E14+G14+I14+K14+M14+O14+Q14+S14+U14+W14+Y14+AA14+AC14+AE14+AG14+AI14+AK14+AM14+AO14 -> 0 | AR14: =D14+F14+H14+J14+L14+N14+P14+R14+T14+V14+X14+Z14+AB14+AD14+AF14+AH14+AJ14+AL14+AN14+AP14 -> 0
A15: Personnel Classification | C15: 0 | D15: =B15*C15 -> 0 | E15: 0 | F15: =$B15*E15 -> 0 | G15: 0 | H15: =$B15*G15 -> 0 | I15: 0 | J15: =$B15*I15 -> 0 | K15: 0 | L15: =$B15*K15 -> 0 | M15: 0 | N15: =$B15*M15 -> 0 | O15: 0 | P15: =$B15*O15 -> 0 | Q15: 0 | R15: =$B15*Q15 -> 0 | S15: 0 | T15: =$B15*S15 -> 0 | U15: 0 | V15: =$B15*U15 -> 0 | W15: 0 | X15: =$B15*W15 -> 0 | Y15: 0 | Z15: =$B15*Y15 -> 0 | AA15: 0 | AB15: =$B15*AA15 -> 0 | AC15: 0 | AD15: =$B15*AC15 -> 0 | AE15: 0 | AF15: =$B15*AE15 -> 0 | AG15: 0 | AH15: =$B15*AG15 -> 0 | AI15: 0 | AJ15: =$B15*AI15 -> 0 | AK15: 0 | AL15: =$B15*AK15 -> 0 | AM15: 0 | AN15: =$B15*AM15 -> 0 | AO15: 0 | AP15: =$B15*AO15 -> 0 | AQ15: =C15+E15+G15+I15+K15+M15+O15+Q15+S15+U15+W15+Y15+AA15+AC15+AE15+AG15+AI15+AK15+AM15+AO15 -> 0 | AR15: =D15+F15+H15+J15+L15+N15+P15+R15+T15+V15+X15+Z15+AB15+AD15+AF15+AH15+AJ15+AL15+AN15+AP15 -> 0
A16: Personnel Classification | C16: 0 | D16: =B16*C16 -> 0 | E16: 0 | F16: =$B16*E16 -> 0 | G16: 0 | H16: =$B16*G16 -> 0 | I16: 0 | J16: =$B16*I16 -> 0 | K16: 0 | L16: =$B16*K16 -> 0 | M16: 0 | N16: =$B16*M16 -> 0 | O16: 0 | P16: =$B16*O16 -> 0 | Q16: 0 | R16: =$B16*Q16 -> 0 | S16: 0 | T16: =$B16*S16 -> 0 | U16: 0 | V16: =$B16*U16 -> 0 | W16: 0 | X16: =$B16*W16 -> 0 | Y16: 0 | Z16: =$B16*Y16 -> 0 | AA16: 0 | AB16: =$B16*AA16 -> 0 | AC16: 0 | AD16: =$B16*AC16 -> 0 | AE16: 0 | AF16: =$B16*AE16 -> 0 | AG16: 0 | AH16: =$B16*AG16 -> 0 | AI16: 0 | AJ16: =$B16*AI16 -> 0 | AK16: 0 | AL16: =$B16*AK16 -> 0 | AM16: 0 | AN16: =$B16*AM16 -> 0 | AO16: 0 | AP16: =$B16*AO16 -> 0 | AQ16: =C16+E16+G16+I16+K16+M16+O16+Q16+S16+U16+W16+Y16+AA16+AC16+AE16+AG16+AI16+AK16+AM16+AO16 -> 0 | AR16: =D16+F16+H16+J16+L16+N16+P16+R16+T16+V16+X16+Z16+AB16+AD16+AF16+AH16+AJ16+AL16+AN16+AP16 -> 0
A17: Personnel Classification | C17: 0 | D17: =B17*C17 -> 0 | E17: 0 | F17: =$B17*E17 -> 0 | G17: 0 | H17: =$B17*G17 -> 0 | I17: 0 | J17: =$B17*I17 -> 0 | K17: 0 | L17: =$B17*K17 -> 0 | M17: 0 | N17: =$B17*M17 -> 0 | O17: 0 | P17: =$B17*O17 -> 0 | Q17: 0 | R17: =$B17*Q17 -> 0 | S17: 0 | T17: =$B17*S17 -> 0 | U17: 0 | V17: =$B17*U17 -> 0 | W17: 0 | X17: =$B17*W17 -> 0 | Y17: 0 | Z17: =$B17*Y17 -> 0 | AA17: 0 | AB17: =$B17*AA17 -> 0 | AC17: 0 | AD17: =$B17*AC17 -> 0 | AE17: 0 | AF17: =$B17*AE17 -> 0 | AG17: 0 | AH17: =$B17*AG17 -> 0 | AI17: 0 | AJ17: =$B17*AI17 -> 0 | AK17: 0 | AL17: =$B17*AK17 -> 0 | AM17: 0 | AN17: =$B17*AM17 -> 0 | AO17: 0 | AP17: =$B17*AO17 -> 0 | AQ17: =C17+E17+G17+I17+K17+M17+O17+Q17+S17+U17+W17+Y17+AA17+AC17+AE17+AG17+AI17+AK17+AM17+AO17 -> 0 | AR17: =D17+F17+H17+J17+L17+N17+P17+R17+T17+V17+X17+Z17+AB17+AD17+AF17+AH17+AJ17+AL17+AN17+AP17 -> 0
A18: Personnel Classification | C18: 0 | D18: =B18*C18 -> 0 | E18: 0 | F18: =$B18*E18 -> 0 | G18: 0 | H18: =$B18*G18 -> 0 | I18: 0 | J18: =$B18*I18 -> 0 | K18: 0 | L18: =$B18*K18 -> 0 | M18: 0 | N18: =$B18*M18 -> 0 | O18: 0 | P18: =$B18*O18 -> 0 | Q18: 0 | R18: =$B18*Q18 -> 0 | S18: 0 | T18: =$B18*S18 -> 0 | U18: 0 | V18: =$B18*U18 -> 0 | W18: 0 | X18: =$B18*W18 -> 0 | Y18: 0 | Z18: =$B18*Y18 -> 0 | AA18: 0 | AB18: =$B18*AA18 -> 0 | AC18: 0 | AD18: =$B18*AC18 -> 0 | AE18: 0 | AF18: =$B18*AE18 -> 0 | AG18: 0 | AH18: =$B18*AG18 -> 0 | AI18: 0 | AJ18: =$B18*AI18 -> 0 | AK18: 0 | AL18: =$B18*AK18 -> 0 | AM18: 0 | AN18: =$B18*AM18 -> 0 | AO18: 0 | AP18: =$B18*AO18 -> 0 | AQ18: =C18+E18+G18+I18+K18+M18+O18+Q18+S18+U18+W18+Y18+AA18+AC18+AE18+AG18+AI18+AK18+AM18+AO18 -> 0 | AR18: =D18+F18+H18+J18+L18+N18+P18+R18+T18+V18+X18+Z18+AB18+AD18+AF18+AH18+AJ18+AL18+AN18+AP18 -> 0
A19: Personnel Classification | C19: 0 | D19: =B19*C19 -> 0 | E19: 0 | F19: =$B19*E19 -> 0 | G19: 0 | H19: =$B19*G19 -> 0 | I19: 0 | J19: =$B19*I19 -> 0 | K19: 0 | L19: =$B19*K19 -> 0 | M19: 0 | N19: =$B19*M19 -> 0 | O19: 0 | P19: =$B19*O19 -> 0 | Q19: 0 | R19: =$B19*Q19 -> 0 | S19: 0 | T19: =$B19*S19 -> 0 | U19: 0 | V19: =$B19*U19 -> 0 | W19: 0 | X19: =$B19*W19 -> 0 | Y19: 0 | Z19: =$B19*Y19 -> 0 | AA19: 0 | AB19: =$B19*AA19 -> 0 | AC19: 0 | AD19: =$B19*AC19 -> 0 | AE19: 0 | AF19: =$B19*AE19 -> 0 | AG19: 0 | AH19: =$B19*AG19 -> 0 | AI19: 0 | AJ19: =$B19*AI19 -> 0 | AK19: 0 | AL19: =$B19*AK19 -> 0 | AM19: 0 | AN19: =$B19*AM19 -> 0 | AO19: 0 | AP19: =$B19*AO19 -> 0 | AQ19: =C19+E19+G19+I19+K19+M19+O19+Q19+S19+U19+W19+Y19+AA19+AC19+AE19+AG19+AI19+AK19+AM19+AO19 -> 0 | AR19: =D19+F19+H19+J19+L19+N19+P19+R19+T19+V19+X19+Z19+AB19+AD19+AF19+AH19+AJ19+AL19+AN19+AP19 -> 0
A20: Personnel Classification | C20: 0 | D20: =B20*C20 -> 0 | E20: 0 | F20: =$B20*E20 -> 0 | G20: 0 | H20: =$B20*G20 -> 0 | I20: 0 | J20: =$B20*I20 -> 0 | K20: 0 | L20: =$B20*K20 -> 0 | M20: 0 | N20: =$B20*M20 -> 0 | O20: 0 | P20: =$B20*O20 -> 0 | Q20: 0 | R20: =$B20*Q20 -> 0 | S20: 0 | T20: =$B20*S20 -> 0 | U20: 0 | V20: =$B20*U20 -> 0 | W20: 0 | X20: =$B20*W20 -> 0 | Y20: 0 | Z20: =$B20*Y20 -> 0 | AA20: 0 | AB20: =$B20*AA20 -> 0 | AC20: 0 | AD20: =$B20*AC20 -> 0 | AE20: 0 | AF20: =$B20*AE20 -> 0 | AG20: 0 | AH20: =$B20*AG20 -> 0 | AI20: 0 | AJ20: =$B20*AI20 -> 0 | AK20: 0 | AL20: =$B20*AK20 -> 0 | AM20: 0 | AN20: =$B20*AM20 -> 0 | AO20: 0 | AP20: =$B20*AO20 -> 0 | AQ20: =C20+E20+G20+I20+K20+M20+O20+Q20+S20+U20+W20+Y20+AA20+AC20+AE20+AG20+AI20+AK20+AM20+AO20 -> 0 | AR20: =D20+F20+H20+J20+L20+N20+P20+R20+T20+V20+X20+Z20+AB20+AD20+AF20+AH20+AJ20+AL20+AN20+AP20 -> 0
A21: Personnel Classification | C21: 0 | D21: =B21*C21 -> 0 | E21: 0 | F21: =$B21*E21 -> 0 | G21: 0 | H21: =$B21*G21 -> 0 | I21: 0 | J21: =$B21*I21 -> 0 | K21: 0 | L21: =$B21*K21 -> 0 | M21: 0 | N21: =$B21*M21 -> 0 | O21: 0 | P21: =$B21*O21 -> 0 | Q21: 0 | R21: =$B21*Q21 -> 0 | S21: 0 | T21: =$B21*S21 -> 0 | U21: 0 | V21: =$B21*U21 -> 0 | W21: 0 | X21: =$B21*W21 -> 0 | Y21: 0 | Z21: =$B21*Y21 -> 0 | AA21: 0 | AB21: =$B21*AA21 -> 0 | AC21: 0 | AD21: =$B21*AC21 -> 0 | AE21: 0 | AF21: =$B21*AE21 -> 0 | AG21: 0 | AH21: =$B21*AG21 -> 0 | AI21: 0 | AJ21: =$B21*AI21 -> 0 | AK21: 0 | AL21: =$B21*AK21 -> 0 | AM21: 0 | AN21: =$B21*AM21 -> 0 | AO21: 0 | AP21: =$B21*AO21 -> 0 | AQ21: =C21+E21+G21+I21+K21+M21+O21+Q21+S21+U21+W21+Y21+AA21+AC21+AE21+AG21+AI21+AK21+AM21+AO21 -> 0 | AR21: =D21+F21+H21+J21+L21+N21+P21+R21+T21+V21+X21+Z21+AB21+AD21+AF21+AH21+AJ21+AL21+AN21+AP21 -> 0
A22: Personnel Classification | C22: 0 | D22: =B22*C22 -> 0 | E22: 0 | F22: =$B22*E22 -> 0 | G22: 0 | H22: =$B22*G22 -> 0 | I22: 0 | J22: =$B22*I22 -> 0 | K22: 0 | L22: =$B22*K22 -> 0 | M22: 0 | N22: =$B22*M22 -> 0 | O22: 0 | P22: =$B22*O22 -> 0 | Q22: 0 | R22: =$B22*Q22 -> 0 | S22: 0 | T22: =$B22*S22 -> 0 | U22: 0 | V22: =$B22*U22 -> 0 | W22: 0 | X22: =$B22*W22 -> 0 | Y22: 0 | Z22: =$B22*Y22 -> 0 | AA22: 0 | AB22: =$B22*AA22 -> 0 | AC22: 0 | AD22: =$B22*AC22 -> 0 | AE22: 0 | AF22: =$B22*AE22 -> 0 | AG22: 0 | AH22: =$B22*AG22 -> 0 | AI22: 0 | AJ22: =$B22*AI22 -> 0 | AK22: 0 | AL22: =$B22*AK22 -> 0 | AM22: 0 | AN22: =$B22*AM22 -> 0 | AO22: 0 | AP22: =$B22*AO22 -> 0 | AQ22: =C22+E22+G22+I22+K22+M22+O22+Q22+S22+U22+W22+Y22+AA22+AC22+AE22+AG22+AI22+AK22+AM22+AO22 -> 0 | AR22: =D22+F22+H22+J22+L22+N22+P22+R22+T22+V22+X22+Z22+AB22+AD22+AF22+AH22+AJ22+AL22+AN22+AP22 -> 0
A23: Personnel Classification | C23: 0 | D23: =B23*C23 -> 0 | E23: 0 | F23: =$B23*E23 -> 0 | G23: 0 | H23: =$B23*G23 -> 0 | I23: 0 | J23: =$B23*I23 -> 0 | K23: 0 | L23: =$B23*K23 -> 0 | M23: 0 | N23: =$B23*M23 -> 0 | O23: 0 | P23: =$B23*O23 -> 0 | Q23: 0 | R23: =$B23*Q23 -> 0 | S23: 0 | T23: =$B23*S23 -> 0 | U23: 0 | V23: =$B23*U23 -> 0 | W23: 0 | X23: =$B23*W23 -> 0 | Y23: 0 | Z23: =$B23*Y23 -> 0 | AA23: 0 | AB23: =$B23*AA23 -> 0 | AC23: 0 | AD23: =$B23*AC23 -> 0 | AE23: 0 | AF23: =$B23*AE23 -> 0 | AG23: 0 | AH23: =$B23*AG23 -> 0 | AI23: 0 | AJ23: =$B23*AI23 -> 0 | AK23: 0 | AL23: =$B23*AK23 -> 0 | AM23: 0 | AN23: =$B23*AM23 -> 0 | AO23: 0 | AP23: =$B23*AO23 -> 0 | AQ23: =C23+E23+G23+I23+K23+M23+O23+Q23+S23+U23+W23+Y23+AA23+AC23+AE23+AG23+AI23+AK23+AM23+AO23 -> 0 | AR23: =D23+F23+H23+J23+L23+N23+P23+R23+T23+V23+X23+Z23+AB23+AD23+AF23+AH23+AJ23+AL23+AN23+AP23 -> 0
... A36: Personnel Classification | C36: 0 | D36: =B36*C36 -> 0 | E36: 0 | F36: =$B36*E36 -> 0 | G36: 0 | H36: =$B36*G36 -> 0 | I36: 0 | J36: =$B36*I36 -> 0 | K36: 0 | L36: =$B36*K36 -> 0 | M36: 0 | N36: =$B36*M36 -> 0 | O36: 0 | P36: =$B36*O36 -> 0 | Q36: 0 | R36: =$B36*Q36 -> 0 | S36: 0 | T36: =$B36*S36 -> 0 | U36: 0 | V36: =$B36*U36 -> 0 | W36: 0 | X36: =$B36*W36 -> 0 | Y36: 0 | Z36: =$B36*Y36 -> 0 | AA36: 0 | AB36: =$B36*AA36 -> 0 | AC36: 0 | AD36: =$B36*AC36 -> 0 | AE36: 0 | AF36: =$B36*AE36 -> 0 | AG36: 0 | AH36: =$B36*AG36 -> 0 | AI36: 0 | AJ36: =$B36*AI36 -> 0 | AK36: 0 | AL36: =$B36*AK36 -> 0 | AM36: 0 | AN36: =$B36*AM36 -> 0 | AO36: 0 | AP36: =$B36*AO36 -> 0 | AQ36: =C36+E36+G36+I36+K36+M36+O36+Q36+S36+U36+W36+Y36+AA36+AC36+AE36+AG36+AI36+AK36+AM36+AO36 -> 0 | AR36: =D36+F36+H36+J36+L36+N36+P36+R36+T36+V36+X36+Z36+AB36+AD36+AF36+AH36+AJ36+AL36+AN36+AP36 -> 0
A37: Subtotal - Direct Labor | C37: =SUM(C11:C36) -> 0 | D37: =SUM(D11:D36) -> 0 | E37: =SUM(E11:E36) -> 0 | F37: =SUM(F11:F36) -> 0 | G37: =SUM(G11:G36) -> 0 | H37: =SUM(H11:H36) -> 0 | I37: =SUM(I11:I36) -> 0 | J37: =SUM(J11:J36) -> 0 | ... AR37: =SUM(AR11:AR36) -> 0
A38: Overhead & Fringe (inc. G & A)
A39: Overhead | B39: 0 | D39: =D37*$B39 -> 0 | F39: =F37*$B39 -> 0 | H39: =H37*$B39 -> 0 | J39: =J37*$B39 -> 0 | L39: =L37*$B39 -> 0 | N39: =N37*$B39 -> 0 | P39: =P37*$B39 -> 0 | R39: =R37*$B39 -> 0 | T39: =T37*$B39 -> 0 | V39: =V37*$B39 -> 0 | X39: =X37*$B39 -> 0 | Z39: =Z37*$B39 -> 0 | AB39: =AB37*$B39 -> 0 | AD39: =AD37*$B39 -> 0 | AF39: =AF37*$B39 -> 0 | AH39: =AH37*$B39 -> 0 | AJ39: =AJ37*$B39 -> 0 | AL39: =AL37*$B39 -> 0 | AN39: =AN37*$B39 -> 0 | AP39: =AP37*$B39 -> 0 | AR39: =D39+F39+H39+J39+L39+N39+P39+R39+T39+V39+X39+Z39+AB39+AD39+AF39+AH39+AJ39+AL39+AN39+AP39 -> 0
A40: Fringe | B40: 0 | D40: =$B40*D37 -> 0 | F40: =$B40*F37 -> 0 | H40: =$B40*H37 -> 0 | J40: =$B40*J37 -> 0 | L40: =$B40*L37 -> 0 | N40: =$B40*N37 -> 0 | P40: =$B40*P37 -> 0 | R40: =$B40*R37 -> 0 | T40: =$B40*T37 -> 0 | V40: =$B40*V37 -> 0 | X40: =$B40*X37 -> 0 | Z40: =$B40*Z37 -> 0 | AB40: =$B40*AB37 -> 0 | AD40: =$B40*AD37 -> 0 | AF40: =$B40*AF37 -> 0 | AH40: =$B40*AH37 -> 0 | AJ40: =$B40*AJ37 -> 0 | AL40: =$B40*AL37 -> 0 | AN40: =$B40*AN37 -> 0 | AP40: =$B40*AP37 -> 0 | AR40: =D40+F40+H40+J40+L40+N40+P40+R40+T40+V40+X40+Z40+AB40+AD40+AF40+AH40+AJ40+AL40+AN40+AP40 -> 0
AR41: =D41+F41+H41+J41+L41+N41+P41+R41+T41+V41+X41+Z41+AB41+AD41+AF41+AH41+AJ41+AL41+AN41+AP41 -> 0
A42: Subtotal - Overhead & Fringe (inc. G & A) | D42: =SUM(D38:D41) -> 0 | F42: =SUM(F38:F41) -> 0 | H42: =SUM(H38:H41) -> 0 | J42: =SUM(J38:J41) -> 0 | L42: =SUM(L38:L41) -> 0 | N42: =SUM(N38:N41) -> 0 | P42: =SUM(P38:P41) -> 0 | R42: =SUM(R38:R41) -> 0 | T42: =SUM(T38:T41) -> 0 | V42: =SUM(V38:V41) -> 0 | X42: =SUM(X38:X41) -> 0 | Z42: =SUM(Z38:Z41) -> 0 | AB42: =SUM(AB38:AB41) -> 0 | AD42: =SUM(AD38:AD41) -> 0 | AF42: =SUM(AF38:AF41) -> 0 | AH42: =SUM(AH38:AH41) -> 0 | AJ42: =SUM(AJ38:AJ41) -> 0 | AL42: =SUM(AL38:AL41) -> 0 | AN42: =SUM(AN38:AN41) -> 0 | AP42: =SUM(AP38:AP41) -> 0 | AR42: =SUM(AR38:AR41) -> 0
A43: Fixed Fee
A44: Fixed Fee | B44: 0 | D44: =$B44*(D37+D42) -> 0 | F44: =$B44*(F37+F42) -> 0 | H44: =$B44*(H37+H42) -> 0 | J44: =$B44*(J37+J42) -> 0 | L44: =$B44*(L37+L42) -> 0 | N44: =$B44*(N37+N42) -> 0 | P44: =$B44*(P37+P42) -> 0 | R44: =$B44*(R37+R42) -> 0 | T44: =$B44*(T37+T42) -> 0 | V44: =$B44*(V37+V42) -> 0 | X44: =$B44*(X37+X42) -> 0 | Z44: =$B44*(Z37+Z42) -> 0 | AB44: =$B44*(AB37+AB42) -> 0 | AD44: =$B44*(AD37+AD42) -> 0 | AF44: =$B44*(AF37+AF42) -> 0 | AH44: =$B44*(AH37+AH42) -> 0 | AJ44: =$B44*(AJ37+AJ42) -> 0 | AL44: =$B44*(AL37+AL42) -> 0 | AN44: =$B44*(AN37+AN42) -> 0 | AP44: =$B44*(AP37+AP42) -> 0 | AR44: =D44+F44+H44+J44+L44+N44+P44+R44+T44+V44+X44+Z44+AB44+AD44+AF44 -> 0
A45: Other Direct Costs (ODC's)
A46: Travel | D46: 0 | F46: 0 | H46: 0 | J46: 0 | L46: 0 | N46: 0 | P46: 0 | R46: 0 | T46: 0 | V46: 0 | X46: 0 | Z46: 0 | AB46: 0 | AD46: 0 | AF46: 0 | AH46: 0 | AJ46: 0 | AL46: 0 | AN46: 0 | AP46: 0 | AR46: =D46+F46+H46+J46+L46+N46+P46+R46+T46+V46+X46+Z46+AB46+AD46+AF46+AH46+AJ46+AL46+AN46+AP46 -> 0
A47: Printing - Directly Chargeable only | D47: 0 | F47: 0 | H47: 0 | J47: 0 | L47: 0 | N47: 0 | P47: 0 | R47: 0 | T47: 0 | V47: 0 | X47: 0 | Z47: 0 | AB47: 0 | AD47: 0 | AF47: 0 | AH47: 0 | AJ47: 0 | AL47: 0 | AN47: 0 | AP47: 0 | AR47: =D47+F47+H47+J47+L47+N47+P47+R47+T47+V47+X47+Z47+AB47+AD47+AF47+AH47+AJ47+AL47+AN47+AP47 -> 0
A48: Supplies & Materials - Directly Chargeable only | D48: 0 | F48: 0 | H48: 0 | J48: 0 | L48: 0 | N48: 0 | P48: 0 | R48: 0 | T48: 0 | V48: 0 | X48: 0 | Z48: 0 | AB48: 0 | AD48: 0 | AF48: 0 | AH48: 0 | AJ48: 0 | AL48: 0 | AN48: 0 | AP48: 0 | AR48: =D48+F48+H48+J48+L48+N48+P48+R48+T48+V48+X48+Z48+AB48+AD48+AF48+AH48+AJ48+AL48+AN48+AP48 -> 0
A49: ODC Description | D49: 0 | F49: 0 | H49: 0 | J49: 0 | L49: 0 | N49: 0 | P49: 0 | R49: 0 | T49: 0 | V49: 0 | X49: 0 | Z49: 0 | AB49: 0 | AD49: 0 | AF49: 0 | AH49: 0 | AJ49: 0 | AL49: 0 | AN49: 0 | AP49: 0 | AR49: =D49+F49+H49+J49+L49+N49+P49+R49+T49+V49+X49+Z49+AB49+AD49+AF49+AH49+AJ49+AL49+AN49+AP49 -> 0
A50: ODC Description | D50: 0 | F50: 0 | H50: 0 | J50: 0 | L50: 0 | N50: 0 | P50: 0 | R50: 0 | T50: 0 | V50: 0 | X50: 0 | Z50: 0 | AB50: 0 | AD50: 0 | AF50: 0 | AH50: 0 | AJ50: 0 | AL50: 0 | AN50: 0 | AP50: 0 | AR50: =D50+F50+H50+J50+L50+N50+P50+R50+T50+V50+X50+Z50+AB50+AD50+AF50+AH50+AJ50+AL50+AN50+AP50 -> 0
A51: ODC Description | D51: 0 | F51: 0 | H51: 0 | J51: 0 | L51: 0 | N51: 0 | P51: 0 | R51: 0 | T51: 0 | V51: 0 | X51: 0 | Z51: 0 | AB51: 0 | AD51: 0 | AF51: 0 | AH51: 0 | AJ51: 0 | AL51: 0 | AN51: 0 | AP51: 0 | AR51: =D51+F51+H51+J51+L51+N51+P51+R51+T51+V51+X51+Z51+AB51+AD51+AF51+AH51+AJ51+AL51+AN51+AP51 -> 0
A52: ODC Description | D52: 0 | F52: 0 | H52: 0 | J52: 0 | L52: 0 | N52: 0 | P52: 0 | R52: 0 | T52: 0 | V52: 0 | X52: 0 | Z52: 0 | AB52: 0 | AD52: 0 | AF52: 0 | AH52: 0 | AJ52: 0 | AL52: 0 | AN52: 0 | AP52: 0 | AR52: =D52+F52+H52+J52+L52+N52+P52+R52+T52+V52+X52+Z52+AB52+AD52+AF52+AH52+AJ52+AL52+AN52+AP52 -> 0
A53: ODC Description | D53: 0 | F53: 0 | H53: 0 | J53: 0 | L53: 0 | N53: 0 | P53: 0 | R53: 0 | T53: 0 | V53: 0 | X53: 0 | Z53: 0 | AB53: 0 | AD53: 0 | AF53: 0 | AH53: 0 | AJ53: 0 | AL53: 0 | AN53: 0 | AP53: 0 | AR53: =D53+F53+H53+J53+L53+N53+P53+R53+T53+V53+X53+Z53+AB53+AD53+AF53+AH53+AJ53+AL53+AN53+AP53 -> 0
A54: ODC Description | D54: 0 | F54: 0 | H54: 0 | J54: 0 | L54: 0 | N54: 0 | P54: 0 | R54: 0 | T54: 0 | V54: 0 | X54: 0 | Z54: 0 | AB54: 0 | AD54: 0 | AF54: 0 | AH54: 0 | AJ54: 0 | AL54: 0 | AN54: 0 | AP54: 0 | AR54: =D54+F54+H54+J54+L54+N54+P54+R54+T54+V54+X54+Z54+AB54+AD54+AF54+AH54+AJ54+AL54+AN54+AP54 -> 0
A55: ODC Description | D55: 0 | F55: 0 | H55: 0 | J55: 0 | L55: 0 | N55: 0 | P55: 0 | R55: 0 | T55: 0 | V55: 0 | X55: 0 | Z55: 0 | AB55: 0 | AD55: 0 | AF55: 0 | AH55: 0 | AJ55: 0 | AL55: 0 | AN55: 0 | AP55: 0 | AR55: =D55+F55+H55+J55+L55+N55+P55+R55+T55+V55+X55+Z55+AB55+AD55+AF55+AH55+AJ55+AL55+AN55+AP55 -> 0
A56: ODC Description | D56: 0 | F56: 0 | H56: 0 | J56: 0 | L56: 0 | N56: 0 | P56: 0 | R56: 0 | T56: 0 | V56: 0 | X56: 0 | Z56: 0 | AB56: 0 | AD56: 0 | AF56: 0 | AH56: 0 | AJ56: 0 | AL56: 0 | AN56: 0 | AP56: 0 | AR56: =D56+F56+H56+J56+L56+N56+P56+R56+T56+V56+X56+Z56+AB56+AD56+AF56+AH56+AJ56+AL56+AN56+AP56 -> 0
A57: ODC Description | D57: 0 | F57: 0 | H57: 0 | J57: 0 | L57: 0 | N57: 0 | P57: 0 | R57: 0 | T57: 0 | V57: 0 | X57: 0 | Z57: 0 | AB57: 0 | AD57: 0 | AF57: 0 | AH57: 0 | AJ57: 0 | AL57: 0 | AN57: 0 | AP57: 0 | AR57: =D57+F57+H57+J57+L57+N57+P57+R57+T57+V57+X57+Z57+AB57+AD57+AF57+AH57+AJ57+AL57+AN57+AP57 -> 0
... A65: ODC Description | D65: 0 | F65: 0 | H65: 0 | J65: 0 | L65: 0 | N65: 0 | P65: 0 | R65: 0 | T65: 0 | V65: 0 | X65: 0 | Z65: 0 | AB65: 0 | AD65: 0 | AF65: 0 | AH65: 0 | AJ65: 0 | AL65: 0 | AN65: 0 | AP65: 0 | AR65: =D65+F65+H65+J65+L65+N65+P65+R65+T65+V65+X65+Z65+AB65+AD65+AF65+AH65+AJ65+AL65+AN65+AP65 -> 0
A66: Subtotal - ODC's | D66: =SUM(D45:D65) -> 0 | F66: =SUM(F45:F65) -> 0 | H66: =SUM(H45:H65) -> 0 | J66: =SUM(J45:J65) -> 0 | L66: =SUM(L45:L65) -> 0 | N66: =SUM(N45:N65) -> 0 | P66: =SUM(P45:P65) -> 0 | R66: =SUM(R45:R65) -> 0 | T66: =SUM(T45:T65) -> 0 | V66: =SUM(V45:V65) -> 0 | X66: =SUM(X45:X65) -> 0 | Z66: =SUM(Z45:Z65) -> 0 | AB66: =SUM(AB45:AB65) -> 0 | AD66: =SUM(AD45:AD65) -> 0 | AF66: =SUM(AF45:AF65) -> 0 | AH66: =SUM(AH45:AH65) -> 0 | AJ66: =SUM(AJ45:AJ65) -> 0 | AL66: =SUM(AL45:AL65) -> 0 | AN66: =SUM(AN45:AN65) -> 0 | AP66: =SUM(AP45:AP65) -> 0 | AR66: =SUM(AR45:AR65) -> 0
A67: Subconsultant(s)
AQ68: =C68+E68+G68+I68+K68+M68+O68+Q68+S68+U68+W68+Y68+AA68+AC68+AE68+AG68+AI68+AK68+AM68+AO68 -> 0 | AR68: =D68+F68+H68+J68+L68+N68+P68+R68+T68+V68+X68+Z68+AB68+AD68+AF68+AH68+AJ68+AL68+AN68+AP68 -> 0
AQ69: =C69+E69+G69+I69+K69+M69+O69+Q69+S69+U69+W69+Y69+AA69+AC69+AE69+AG69+AI69+AK69+AM69+AO69 -> 0 | AR69: =D69+F69+H69+J69+L69+N69+P69+R69+T69+V69+X69+Z69+AB69+AD69+AF69+AH69+AJ69+AL69+AN69+AP69 -> 0
A70: Subtotal - Subconsultant(s) | C70: =SUM(C67:C69) -> 0 | D70: =SUM(D67:D69) -> 0 | E70: =SUM(E67:E69) -> 0 | F70: =SUM(F67:F69) -> 0 | G70: =SUM(G67:G69) -> 0 | H70: =SUM(H67:H69) -> 0 | I70: =SUM(I67:I69) -> 0 | J70: =SUM(J67:J69) -> 0 | ... AR70: =SUM(AR67:AR69) -> 0
A72: GRAND TOTAL | C72: =C37+C42+C44+C66+C70 -> 0 | D72: =D37+D42+D44+D66+D70 -> 0 | E72: =E37+E42+E44+E66+E70 -> 0 | F72: =F37+F42+F44+F66+F70 -> 0 | G72: =G37+G42+G44+G66+G70 -> 0 | H72: =H37+H42+H44+H66+H70 -> 0 | I72: =I37+I42+I44+I66+I70 -> 0 | J72: =J37+J42+J44+J66+J70 -> 0 | ... AR72: =AR37+AR42+AR44+AR66+AR70 -> 0
A73: Check Totals | C73: =SUM(C12:C36)+SUM(C68:C69) -> 0 | D73: =SUM(D12:D36)+SUM(D39:D41)+D44+SUM(D46:D65)+SUM(D68:D69) -> 0 | E73: =SUM(E12:E36)+SUM(E68:E69) -> 0 | F73: =SUM(F12:F36)+SUM(F39:F41)+F44+SUM(F46:F65)+SUM(F68:F69) -> 0 | G73: =SUM(G12:G36)+SUM(G68:G69) -> 0 | H73: =SUM(H12:H36)+SUM(H39:H41)+H44+SUM(H46:H65)+SUM(H68:H69) -> 0 | I73: =SUM(I12:I36)+SUM(I68:I69) -> 0 | J73: =SUM(J12:J36)+SUM(J39:J41)+J44+SUM(J46:J65)+SUM(J68:J69) -> 0 | K73: =SUM(K12:K36)+SUM(K68:K69) -> 0 | L73: =SUM(L12:L36)+SUM(L39:L41)+L44+SUM(L46:L65)+SUM(L68:L69) -> 0 | M73: =SUM(M12:M36)+SUM(M68:M69) -> 0 | N73: =SUM(N12:N36)+SUM(N39:N41)+N44+SUM(N46:N65)+SUM(N68:N69) -> 0 | O73: =SUM(O12:O36)+SUM(O68:O69) -> 0 | P73: =SUM(P12:P36)+SUM(P39:P41)+P44+SUM(P46:P65)+SUM(P68:P69) -> 0 | Q73: =SUM(Q12:Q36)+SUM(Q68:Q69) -> 0 | R73: =SUM(R12:R36)+SUM(R39:R41)+R44+SUM(R46:R65)+SUM(R68:R69) -> 0 | S73: =SUM(S12:S36)+SUM(S68:S69) -> 0 | T73: =SUM(T12:T36)+SUM(T39:T41)+T44+SUM(T46:T65)+SUM(T68:T69) -> 0 | U73: =SUM(U12:U36)+SUM(U68:U69) -> 0 | V73: =SUM(V12:V36)+SUM(V39:V41)+V44+SUM(V46:V65)+SUM(V68:V69) -> 0 | W73: =SUM(W12:W36)+SUM(W68:W69) -> 0 | X73: =SUM(X12:X36)+SUM(X39:X41)+X44+SUM(X46:X65)+SUM(X68:X69) -> 0 | Y73: =SUM(Y12:Y36)+SUM(Y68:Y69) -> 0 | Z73: =SUM(Z12:Z36)+SUM(Z39:Z41)+Z44+SUM(Z46:Z65)+SUM(Z68:Z69) -> 0 | AA73: =SUM(AA12:AA36)+SUM(AA68:AA69) -> 0 | AB73: =SUM(AB12:AB36)+SUM(AB39:AB41)+AB44+SUM(AB46:AB65)+SUM(AB68:AB69) -> 0 | AC73: =SUM(AC12:AC36)+SUM(AC68:AC69) -> 0 | AD73: =SUM(AD12:AD36)+SUM(AD39:AD41)+AD44+SUM(AD46:AD65)+SUM(AD68:AD69) -> 0 | AE73: =SUM(AE12:AE36)+SUM(AE68:AE69) -> 0 | AF73: =SUM(AF12:AF36)+SUM(AF39:AF41)+AF44+SUM(AF46:AF65)+SUM(AF68:AF69) -> 0 | AG73: =SUM(AG12:AG36)+SUM(AG68:AG69) -> 0 | AH73: =SUM(AH12:AH36)+SUM(AH39:AH41)+AH44+SUM(AH46:AH65)+SUM(AH68:AH69) -> 0 | AI73: =SUM(AI12:AI36)+SUM(AI68:AI69) -> 0 | AJ73: =SUM(AJ12:AJ36)+SUM(AJ39:AJ41)+AJ44+SUM(AJ46:AJ65)+SUM(AJ68:AJ69) -> 0 | AK73: =SUM(AK12:AK36)+SUM(AK68:AK69) -> 0 | AL73: =SUM(AL12:AL36)+SUM(AL39:AL41)+AL44+SUM(AL46:AL65)+SUM(AL68:AL69) -> 0 | AM73: =SUM(AM12:AM36)+SUM(AM68:AM69) -> 0 | AN73: =SUM(AN12:AN36)+SUM(AN39:AN41)+AN44+SUM(AN46:AN65)+SUM(AN68:AN69) -> 0 | AO73: =SUM(AO12:AO36)+SUM(AO68:AO69) -> 0 | AP73: =SUM(AP12:AP36)+SUM(AP39:AP41)+AP44+SUM(AP46:AP65)+SUM(AP68:AP69) -> 0 | AQ73: =C73+E73+G73+I73+K73+M73+O73+Q73+S73+U73+W73+Y73+AA73+AC73+AE73+AG73+AI73+AK73+AM73+AO73 -> 0 | AR73: =D73+F73+H73+J73+L73+N73+P73+R73+T73+V73+X73+Z73+AB73+AD73+AF73+AH73+AJ73+AL73+AN73+AP73 -> 0
V74: Variance | AR74: =AR72-AR73 -> 0

Sheet Sub 4
A1: Sub 4 | E1: LINE ITEM BUDGET
A2: Address
A3: Address | H3: Title of Project: | R3: Title of Project: | S3: =I3 -> 0 | AB3: Title of Project: | AC3: =I3 -> 0 | AL3: Title of Project: | AM3: =S3 -> 0
A4: email
A5: Phone | H5: RFP Number: | R5: RFP Number: | S5: =I5 -> 0 | AB5: RFP Number: | AC5: =S5 -> 0 | AL5: RFP Number: | AM5: =AC5 -> 0
A7: (a) | B7: (b) | C7: (c) | D7: (d) | E7: (e) | F7: (f) | G7: (g) | H7: (h) | I7: (i) | J7: (j) | K7: (k) | L7: (l) | M7: (m) | N7: (n) | O7: (o) | P7: (p) | Q7: (q) | R7: (r) | S7: (s) | T7: (t) | U7: (u) | V7: (v) | W7: (w) | X7: (x) | Y7: (y) | Z7: (z) | AA7: (aa) | AB7: (ab) | AC7: (ac) | AD7: (ad) | AE7: (ae) | AF7: (af) | AG7: (ag) | AH7: (ah) | AI7: (ai) | AJ7: (aj) | AK7: (ak) | AL7: (al) | AM7: (am) | AN7: (an) | AO7: (ao) | AP7: (ap)
A8: Cost Categories | B8: Maximum Hourly Rate | C8: Task 1 | E8: Task 2 | G8: Task 3 | I8: Task 4 | K8: Task 5 | M8: Task 6 | O8: Task 7 | Q8: Task 8 | S8: Task 9 | U8: Task 10 | W8: Task 11 | Y8: Task 12 | AA8: Task 13 | AC8: Task 14 | AE8: Task 15 | AG8: Task 16 | AI8: Task 17 | AK8: Task 18 | AM8: Task 19 | AO8: Task 20 | AQ8: Grand Total (All Tasks)
C9: Task Name | E9: Task Name | G9: Task Name | I9: Task Name | K9: Task Name | M9: Task Name | O9: Task Name | Q9: Task Name | S9: Task Name | U9: Task Name | W9: Task Name | Y9: Task Name | AA9: Task Name | AC9: Task Name | AE9: Task Name | AG9: Task Name | AI9: Task Name | AK9: Task Name | AM9: Task Name | AO9: Task Name
C10: Hours | D10: Amount | E10: Hours | F10: Amount | G10: Hours | H10: Amount | I10: Hours | J10: Amount | K10: Hours | L10: Amount | M10: Hours | N10: Amount | O10: Hours | P10: Amount | Q10: Hours | R10: Amount | S10: Hours | T10: Amount | U10: Hours | V10: Amount | W10: Hours | X10: Amount | Y10: Hours | Z10: Amount | AA10: Hours | AB10: Amount | AC10: Hours | AD10: Amount | AE10: Hours | AF10: Amount | AG10: Hours | AH10: Amount | AI10: Hours | AJ10: Amount | AK10: Hours | AL10: Amount | AM10: Hours | AN10: Amount | AO10: Hours | AP10: Amount | AQ10: Hours | AR10: Amount
A11: Direct Labor Classification(s)
A12: Personnel Classification | C12: 0 | D12: =B12*C12 -> 0 | E12: 0 | F12: =$B12*E12 -> 0 | G12: 0 | H12: =$B12*G12 -> 0 | I12: 0 | J12: =$B12*I12 -> 0 | K12: 0 | L12: =$B12*K12 -> 0 | M12: 0 | N12: =$B12*M12 -> 0 | O12: 0 | P12: =$B12*O12 -> 0 | Q12: 0 | R12: =$B12*Q12 -> 0 | S12: 0 | T12: =$B12*S12 -> 0 | U12: 0 | V12: =$B12*U12 -> 0 | W12: 0 | X12: =$B12*W12 -> 0 | Y12: 0 | Z12: =$B12*Y12 -> 0 | AA12: 0 | AB12: =$B12*AA12 -> 0 | AC12: 0 | AD12: =$B12*AC12 -> 0 | AE12: 0 | AF12: =$B12*AE12 -> 0 | AG12: 0 | AH12: =$B12*AG12 -> 0 | AI12: 0 | AJ12: =$B12*AI12 -> 0 | AK12: 0 | AL12: =$B12*AK12 -> 0 | AM12: 0 | AN12: =$B12*AM12 -> 0 | AO12: 0 | AP12: =$B12*AO12 -> 0 | AQ12: =C12+E12+G12+I12+K12+M12+O12+Q12+S12+U12+W12+Y12+AA12+AC12+AE12+AG12+AI12+AK12+AM12+AO12 -> 0 | AR12: =D12+F12+H12+J12+L12+N12+P12+R12+T12+V12+X12+Z12+AB12+AD12+AF12+AH12+AJ12+AL12+AN12+AP12 -> 0
A13: Personnel Classification | C13: 0 | D13: =B13*C13 -> 0 | E13: 0 | F13: =$B13*E13 -> 0 | G13: 0 | H13: =$B13*G13 -> 0 | I13: 0 | J13: =$B13*I13 -> 0 | K13: 0 | L13: =$B13*K13 -> 0 | M13: 0 | N13: =$B13*M13 -> 0 | O13: 0 | P13: =$B13*O13 -> 0 | Q13: 0 | R13: =$B13*Q13 -> 0 | S13: 0 | T13: =$B13*S13 -> 0 | U13: 0 | V13: =$B13*U13 -> 0 | W13: 0 | X13: =$B13*W13 -> 0 | Y13: 0 | Z13: =$B13*Y13 -> 0 | AA13: 0 | AB13: =$B13*AA13 -> 0 | AC13: 0 | AD13: =$B13*AC13 -> 0 | AE13: 0 | AF13: =$B13*AE13 -> 0 | AG13: 0 | AH13: =$B13*AG13 -> 0 | AI13: 0 | AJ13: =$B13*AI13 -> 0 | AK13: 0 | AL13: =$B13*AK13 -> 0 | AM13: 0 | AN13: =$B13*AM13 -> 0 | AO13: 0 | AP13: =$B13*AO13 -> 0 | AQ13: =C13+E13+G13+I13+K13+M13+O13+Q13+S13+U13+W13+Y13+AA13+AC13+AE13+AG13+AI13+AK13+AM13+AO13 -> 0 | AR13: =D13+F13+H13+J13+L13+N13+P13+R13+T13+V13+X13+Z13+AB13+AD13+AF13+AH13+AJ13+AL13+AN13+AP13 -> 0
A14: Personnel Classification | C14: 0 | D14: =B14*C14 -> 0 | E14: 0 | F14: =$B14*E14 -> 0 | G14: 0 | H14: =$B14*G14 -> 0 | I14: 0 | J14: =$B14*I14 -> 0 | K14: 0 | L14: =$B14*K14 -> 0 | M14: 0 | N14: =$B14*M14 -> 0 | O14: 0 | P14: =$B14*O14 -> 0 | Q14: 0 | R14: =$B14*Q14 -> 0 | S14: 0 | T14: =$B14*S14 -> 0 | U14: 0 | V14: =$B14*U14 -> 0 | W14: 0 | X14: =$B14*W14 -> 0 | Y14: 0 | Z14: =$B14*Y14 -> 0 | AA14: 0 | AB14: =$B14*AA14 -> 0 | AC14: 0 | AD14: =$B14*AC14 -> 0 | AE14: 0 | AF14: =$B14*AE14 -> 0 | AG14: 0 | AH14: =$B14*AG14 -> 0 | AI14: 0 | AJ14: =$B14*AI14 -> 0 | AK14: 0 | AL14: =$B14*AK14 -> 0 | AM14: 0 | AN14: =$B14*AM14 -> 0 | AO14: 0 | AP14: =$B14*AO14 -> 0 | AQ14: =C14+E14+G14+I14+K14+M14+O14+Q14+S14+U14+W14+Y14+AA14+AC14+AE14+AG14+AI14+AK14+AM14+AO14 -> 0 | AR14: =D14+F14+H14+J14+L14+N14+P14+R14+T14+V14+X14+Z14+AB14+AD14+AF14+AH14+AJ14+AL14+AN14+AP14 -> 0
A15: Personnel Classification | C15: 0 | D15: =B15*C15 -> 0 | E15: 0 | F15: =$B15*E15 -> 0 | G15: 0 | H15: =$B15*G15 -> 0 | I15: 0 | J15: =$B15*I15 -> 0 | K15: 0 | L15: =$B15*K15 -> 0 | M15: 0 | N15: =$B15*M15 -> 0 | O15: 0 | P15: =$B15*O15 -> 0 | Q15: 0 | R15: =$B15*Q15 -> 0 | S15: 0 | T15: =$B15*S15 -> 0 | U15: 0 | V15: =$B15*U15 -> 0 | W15: 0 | X15: =$B15*W15 -> 0 | Y15: 0 | Z15: =$B15*Y15 -> 0 | AA15: 0 | AB15: =$B15*AA15 -> 0 | AC15: 0 | AD15: =$B15*AC15 -> 0 | AE15: 0 | AF15: =$B15*AE15 -> 0 | AG15: 0 | AH15: =$B15*AG15 -> 0 | AI15: 0 | AJ15: =$B15*AI15 -> 0 | AK15: 0 | AL15: =$B15*AK15 -> 0 | AM15: 0 | AN15: =$B15*AM15 -> 0 | AO15: 0 | AP15: =$B15*AO15 -> 0 | AQ15: =C15+E15+G15+I15+K15+M15+O15+Q15+S15+U15+W15+Y15+AA15+AC15+AE15+AG15+AI15+AK15+AM15+AO15 -> 0 | AR15: =D15+F15+H15+J15+L15+N15+P15+R15+T15+V15+X15+Z15+AB15+AD15+AF15+AH15+AJ15+AL15+AN15+AP15 -> 0
A16: Personnel Classification | C16: 0 | D16: =B16*C16 -> 0 | E16: 0 | F16: =$B16*E16 -> 0 | G16: 0 | H16: =$B16*G16 -> 0 | I16: 0 | J16: =$B16*I16 -> 0 | K16: 0 | L16: =$B16*K16 -> 0 | M16: 0 | N16: =$B16*M16 -> 0 | O16: 0 | P16: =$B16*O16 -> 0 | Q16: 0 | R16: =$B16*Q16 -> 0 | S16: 0 | T16: =$B16*S16 -> 0 | U16: 0 | V16: =$B16*U16 -> 0 | W16: 0 | X16: =$B16*W16 -> 0 | Y16: 0 | Z16: =$B16*Y16 -> 0 | AA16: 0 | AB16: =$B16*AA16 -> 0 | AC16: 0 | AD16: =$B16*AC16 -> 0 | AE16: 0 | AF16: =$B16*AE16 -> 0 | AG16: 0 | AH16: =$B16*AG16 -> 0 | AI16: 0 | AJ16: =$B16*AI16 -> 0 | AK16: 0 | AL16: =$B16*AK16 -> 0 | AM16: 0 | AN16: =$B16*AM16 -> 0 | AO16: 0 | AP16: =$B16*AO16 -> 0 | AQ16: =C16+E16+G16+I16+K16+M16+O16+Q16+S16+U16+W16+Y16+AA16+AC16+AE16+AG16+AI16+AK16+AM16+AO16 -> 0 | AR16: =D16+F16+H16+J16+L16+N16+P16+R16+T16+V16+X16+Z16+AB16+AD16+AF16+AH16+AJ16+AL16+AN16+AP16 -> 0
A17: Personnel Classification | C17: 0 | D17: =B17*C17 -> 0 | E17: 0 | F17: =$B17*E17 -> 0 | G17: 0 | H17: =$B17*G17 -> 0 | I17: 0 | J17: =$B17*I17 -> 0 | K17: 0 | L17: =$B17*K17 -> 0 | M17: 0 | N17: =$B17*M17 -> 0 | O17: 0 | P17: =$B17*O17 -> 0 | Q17: 0 | R17: =$B17*Q17 -> 0 | S17: 0 | T17: =$B17*S17 -> 0 | U17: 0 | V17: =$B17*U17 -> 0 | W17: 0 | X17: =$B17*W17 -> 0 | Y17: 0 | Z17: =$B17*Y17 -> 0 | AA17: 0 | AB17: =$B17*AA17 -> 0 | AC17: 0 | AD17: =$B17*AC17 -> 0 | AE17: 0 | AF17: =$B17*AE17 -> 0 | AG17: 0 | AH17: =$B17*AG17 -> 0 | AI17: 0 | AJ17: =$B17*AI17 -> 0 | AK17: 0 | AL17: =$B17*AK17 -> 0 | AM17: 0 | AN17: =$B17*AM17 -> 0 | AO17: 0 | AP17: =$B17*AO17 -> 0 | AQ17: =C17+E17+G17+I17+K17+M17+O17+Q17+S17+U17+W17+Y17+AA17+AC17+AE17+AG17+AI17+AK17+AM17+AO17 -> 0 | AR17: =D17+F17+H17+J17+L17+N17+P17+R17+T17+V17+X17+Z17+AB17+AD17+AF17+AH17+AJ17+AL17+AN17+AP17 -> 0
A18: Personnel Classification | C18: 0 | D18: =B18*C18 -> 0 | E18: 0 | F18: =$B18*E18 -> 0 | G18: 0 | H18: =$B18*G18 -> 0 | I18: 0 | J18: =$B18*I18 -> 0 | K18: 0 | L18: =$B18*K18 -> 0 | M18: 0 | N18: =$B18*M18 -> 0 | O18: 0 | P18: =$B18*O18 -> 0 | Q18: 0 | R18: =$B18*Q18 -> 0 | S18: 0 | T18: =$B18*S18 -> 0 | U18: 0 | V18: =$B18*U18 -> 0 | W18: 0 | X18: =$B18*W18 -> 0 | Y18: 0 | Z18: =$B18*Y18 -> 0 | AA18: 0 | AB18: =$B18*AA18 -> 0 | AC18: 0 | AD18: =$B18*AC18 -> 0 | AE18: 0 | AF18: =$B18*AE18 -> 0 | AG18: 0 | AH18: =$B18*AG18 -> 0 | AI18: 0 | AJ18: =$B18*AI18 -> 0 | AK18: 0 | AL18: =$B18*AK18 -> 0 | AM18: 0 | AN18: =$B18*AM18 -> 0 | AO18: 0 | AP18: =$B18*AO18 -> 0 | AQ18: =C18+E18+G18+I18+K18+M18+O18+Q18+S18+U18+W18+Y18+AA18+AC18+AE18+AG18+AI18+AK18+AM18+AO18 -> 0 | AR18: =D18+F18+H18+J18+L18+N18+P18+R18+T18+V18+X18+Z18+AB18+AD18+AF18+AH18+AJ18+AL18+AN18+AP18 -> 0
A19: Personnel Classification | C19: 0 | D19: =B19*C19 -> 0 | E19: 0 | F19: =$B19*E19 -> 0 | G19: 0 | H19: =$B19*G19 -> 0 | I19: 0 | J19: =$B19*I19 -> 0 | K19: 0 | L19: =$B19*K19 -> 0 | M19: 0 | N19: =$B19*M19 -> 0 | O19: 0 | P19: =$B19*O19 -> 0 | Q19: 0 | R19: =$B19*Q19 -> 0 | S19: 0 | T19: =$B19*S19 -> 0 | U19: 0 | V19: =$B19*U19 -> 0 | W19: 0 | X19: =$B19*W19 -> 0 | Y19: 0 | Z19: =$B19*Y19 -> 0 | AA19: 0 | AB19: =$B19*AA19 -> 0 | AC19: 0 | AD19: =$B19*AC19 -> 0 | AE19: 0 | AF19: =$B19*AE19 -> 0 | AG19: 0 | AH19: =$B19*AG19 -> 0 | AI19: 0 | AJ19: =$B19*AI19 -> 0 | AK19: 0 | AL19: =$B19*AK19 -> 0 | AM19: 0 | AN19: =$B19*AM19 -> 0 | AO19: 0 | AP19: =$B19*AO19 -> 0 | AQ19: =C19+E19+G19+I19+K19+M19+O19+Q19+S19+U19+W19+Y19+AA19+AC19+AE19+AG19+AI19+AK19+AM19+AO19 -> 0 | AR19: =D19+F19+H19+J19+L19+N19+P19+R19+T19+V19+X19+Z19+AB19+AD19+AF19+AH19+AJ19+AL19+AN19+AP19 -> 0
A20: Personnel Classification | C20: 0 | D20: =B20*C20 -> 0 | E20: 0 | F20: =$B20*E20 -> 0 | G20: 0 | H20: =$B20*G20 -> 0 | I20: 0 | J20: =$B20*I20 -> 0 | K20: 0 | L20: =$B20*K20 -> 0 | M20: 0 | N20: =$B20*M20 -> 0 | O20: 0 | P20: =$B20*O20 -> 0 | Q20: 0 | R20: =$B20*Q20 -> 0 | S20: 0 | T20: =$B20*S20 -> 0 | U20: 0 | V20: =$B20*U20 -> 0 | W20: 0 | X20: =$B20*W20 -> 0 | Y20: 0 | Z20: =$B20*Y20 -> 0 | AA20: 0 | AB20: =$B20*AA20 -> 0 | AC20: 0 | AD20: =$B20*AC20 -> 0 | AE20: 0 | AF20: =$B20*AE20 -> 0 | AG20: 0 | AH20: =$B20*AG20 -> 0 | AI20: 0 | AJ20: =$B20*AI20 -> 0 | AK20: 0 | AL20: =$B20*AK20 -> 0 | AM20: 0 | AN20: =$B20*AM20 -> 0 | AO20: 0 | AP20: =$B20*AO20 -> 0 | AQ20: =C20+E20+G20+I20+K20+M20+O20+Q20+S20+U20+W20+Y20+AA20+AC20+AE20+AG20+AI20+AK20+AM20+AO20 -> 0 | AR20: =D20+F20+H20+J20+L20+N20+P20+R20+T20+V20+X20+Z20+AB20+AD20+AF20+AH20+AJ20+AL20+AN20+AP20 -> 0
A21: Personnel Classification | C21: 0 | D21: =B21*C21 -> 0 | E21: 0 | F21: =$B21*E21 -> 0 | G21: 0 | H21: =$B21*G21 -> 0 | I21: 0 | J21: =$B21*I21 -> 0 | K21: 0 | L21: =$B21*K21 -> 0 | M21: 0 | N21: =$B21*M21 -> 0 | O21: 0 | P21: =$B21*O21 -> 0 | Q21: 0 | R21: =$B21*Q21 -> 0 | S21: 0 | T21: =$B21*S21 -> 0 | U21: 0 | V21: =$B21*U21 -> 0 | W21: 0 | X21: =$B21*W21 -> 0 | Y21: 0 | Z21: =$B21*Y21 -> 0 | AA21: 0 | AB21: =$B21*AA21 -> 0 | AC21: 0 | AD21: =$B21*AC21 -> 0 | AE21: 0 | AF21: =$B21*AE21 -> 0 | AG21: 0 | AH21: =$B21*AG21 -> 0 | AI21: 0 | AJ21: =$B21*AI21 -> 0 | AK21: 0 | AL21: =$B21*AK21 -> 0 | AM21: 0 | AN21: =$B21*AM21 -> 0 | AO21: 0 | AP21: =$B21*AO21 -> 0 | AQ21: =C21+E21+G21+I21+K21+M21+O21+Q21+S21+U21+W21+Y21+AA21+AC21+AE21+AG21+AI21+AK21+AM21+AO21 -> 0 | AR21: =D21+F21+H21+J21+L21+N21+P21+R21+T21+V21+X21+Z21+AB21+AD21+AF21+AH21+AJ21+AL21+AN21+AP21 -> 0
A22: Personnel Classification | C22: 0 | D22: =B22*C22 -> 0 | E22: 0 | F22: =$B22*E22 -> 0 | G22: 0 | H22: =$B22*G22 -> 0 | I22: 0 | J22: =$B22*I22 -> 0 | K22: 0 | L22: =$B22*K22 -> 0 | M22: 0 | N22: =$B22*M22 -> 0 | O22: 0 | P22: =$B22*O22 -> 0 | Q22: 0 | R22: =$B22*Q22 -> 0 | S22: 0 | T22: =$B22*S22 -> 0 | U22: 0 | V22: =$B22*U22 -> 0 | W22: 0 | X22: =$B22*W22 -> 0 | Y22: 0 | Z22: =$B22*Y22 -> 0 | AA22: 0 | AB22: =$B22*AA22 -> 0 | AC22: 0 | AD22: =$B22*AC22 -> 0 | AE22: 0 | AF22: =$B22*AE22 -> 0 | AG22: 0 | AH22: =$B22*AG22 -> 0 | AI22: 0 | AJ22: =$B22*AI22 -> 0 | AK22: 0 | AL22: =$B22*AK22 -> 0 | AM22: 0 | AN22: =$B22*AM22 -> 0 | AO22: 0 | AP22: =$B22*AO22 -> 0 | AQ22: =C22+E22+G22+I22+K22+M22+O22+Q22+S22+U22+W22+Y22+AA22+AC22+AE22+AG22+AI22+AK22+AM22+AO22 -> 0 | AR22: =D22+F22+H22+J22+L22+N22+P22+R22+T22+V22+X22+Z22+AB22+AD22+AF22+AH22+AJ22+AL22+AN22+AP22 -> 0
A23: Personnel Classification | C23: 0 | D23: =B23*C23 -> 0 | E23: 0 | F23: =$B23*E23 -> 0 | G23: 0 | H23: =$B23*G23 -> 0 | I23: 0 | J23: =$B23*I23 -> 0 | K23: 0 | L23: =$B23*K23 -> 0 | M23: 0 | N23: =$B23*M23 -> 0 | O23: 0 | P23: =$B23*O23 -> 0 | Q23: 0 | R23: =$B23*Q23 -> 0 | S23: 0 | T23: =$B23*S23 -> 0 | U23: 0 | V23: =$B23*U23 -> 0 | W23: 0 | X23: =$B23*W23 -> 0 | Y23: 0 | Z23: =$B23*Y23 -> 0 | AA23: 0 | AB23: =$B23*AA23 -> 0 | AC23: 0 | AD23: =$B23*AC23 -> 0 | AE23: 0 | AF23: =$B23*AE23 -> 0 | AG23: 0 | AH23: =$B23*AG23 -> 0 | AI23: 0 | AJ23: =$B23*AI23 -> 0 | AK23: 0 | AL23: =$B23*AK23 -> 0 | AM23: 0 | AN23: =$B23*AM23 -> 0 | AO23: 0 | AP23: =$B23*AO23 -> 0 | AQ23: =C23+E23+G23+I23+K23+M23+O23+Q23+S23+U23+W23+Y23+AA23+AC23+AE23+AG23+AI23+AK23+AM23+AO23 -> 0 | AR23: =D23+F23+H23+J23+L23+N23+P23+R23+T23+V23+X23+Z23+AB23+AD23+AF23+AH23+AJ23+AL23+AN23+AP23 -> 0
... A36: Personnel Classification | C36: 0 | D36: =B36*C36 -> 0 | E36: 0 | F36: =$B36*E36 -> 0 | G36: 0 | H36: =$B36*G36 -> 0 | I36: 0 | J36: =$B36*I36 -> 0 | K36: 0 | L36: =$B36*K36 -> 0 | M36: 0 | N36: =$B36*M36 -> 0 | O36: 0 | P36: =$B36*O36 -> 0 | Q36: 0 | R36: =$B36*Q36 -> 0 | S36: 0 | T36: =$B36*S36 -> 0 | U36: 0 | V36: =$B36*U36 -> 0 | W36: 0 | X36: =$B36*W36 -> 0 | Y36: 0 | Z36: =$B36*Y36 -> 0 | AA36: 0 | AB36: =$B36*AA36 -> 0 | AC36: 0 | AD36: =$B36*AC36 -> 0 | AE36: 0 | AF36: =$B36*AE36 -> 0 | AG36: 0 | AH36: =$B36*AG36 -> 0 | AI36: 0 | AJ36: =$B36*AI36 -> 0 | AK36: 0 | AL36: =$B36*AK36 -> 0 | AM36: 0 | AN36: =$B36*AM36 -> 0 | AO36: 0 | AP36: =$B36*AO36 -> 0 | AQ36: =C36+E36+G36+I36+K36+M36+O36+Q36+S36+U36+W36+Y36+AA36+AC36+AE36+AG36+AI36+AK36+AM36+AO36 -> 0 | AR36: =D36+F36+H36+J36+L36+N36+P36+R36+T36+V36+X36+Z36+AB36+AD36+AF36+AH36+AJ36+AL36+AN36+AP36 -> 0
A37: Subtotal - Direct Labor | C37: =SUM(C11:C36) -> 0 | D37: =SUM(D11:D36) -> 0 | E37: =SUM(E11:E36) -> 0 | F37: =SUM(F11:F36) -> 0 | G37: =SUM(G11:G36) -> 0 | H37: =SUM(H11:H36) -> 0 | I37: =SUM(I11:I36) -> 0 | J37: =SUM(J11:J36) -> 0 | ... AR37: =SUM(AR11:AR36) -> 0
A38: Overhead & Fringe (inc. G & A)
A39: Overhead | B39: 0 | D39: =D37*$B39 -> 0 | F39: =F37*$B39 -> 0 | H39: =H37*$B39 -> 0 | J39: =J37*$B39 -> 0 | L39: =L37*$B39 -> 0 | N39: =N37*$B39 -> 0 | P39: =P37*$B39 -> 0 | R39: =R37*$B39 -> 0 | T39: =T37*$B39 -> 0 | V39: =V37*$B39 -> 0 | X39: =X37*$B39 -> 0 | Z39: =Z37*$B39 -> 0 | AB39: =AB37*$B39 -> 0 | AD39: =AD37*$B39 -> 0 | AF39: =AF37*$B39 -> 0 | AH39: =AH37*$B39 -> 0 | AJ39: =AJ37*$B39 -> 0 | AL39: =AL37*$B39 -> 0 | AN39: =AN37*$B39 -> 0 | AP39: =AP37*$B39 -> 0 | AR39: =D39+F39+H39+J39+L39+N39+P39+R39+T39+V39+X39+Z39+AB39+AD39+AF39+AH39+AJ39+AL39+AN39+AP39 -> 0
A40: Fringe | B40: 0 | D40: =$B40*D37 -> 0 | F40: =$B40*F37 -> 0 | H40: =$B40*H37 -> 0 | J40: =$B40*J37 -> 0 | L40: =$B40*L37 -> 0 | N40: =$B40*N37 -> 0 | P40: =$B40*P37 -> 0 | R40: =$B40*R37 -> 0 | T40: =$B40*T37 -> 0 | V40: =$B40*V37 -> 0 | X40: =$B40*X37 -> 0 | Z40: =$B40*Z37 -> 0 | AB40: =$B40*AB37 -> 0 | AD40: =$B40*AD37 -> 0 | AF40: =$B40*AF37 -> 0 | AH40: =$B40*AH37 -> 0 | AJ40: =$B40*AJ37 -> 0 | AL40: =$B40*AL37 -> 0 | AN40: =$B40*AN37 -> 0 | AP40: =$B40*AP37 -> 0 | AR40: =D40+F40+H40+J40+L40+N40+P40+R40+T40+V40+X40+Z40+AB40+AD40+AF40+AH40+AJ40+AL40+AN40+AP40 -> 0
AR41: =D41+F41+H41+J41+L41+N41+P41+R41+T41+V41+X41+Z41+AB41+AD41+AF41+AH41+AJ41+AL41+AN41+AP41 -> 0
A42: Subtotal - Overhead & Fringe (inc. G & A) | D42: =SUM(D38:D41) -> 0 | F42: =SUM(F38:F41) -> 0 | H42: =SUM(H38:H41) -> 0 | J42: =SUM(J38:J41) -> 0 | L42: =SUM(L38:L41) -> 0 | N42: =SUM(N38:N41) -> 0 | P42: =SUM(P38:P41) -> 0 | R42: =SUM(R38:R41) -> 0 | T42: =SUM(T38:T41) -> 0 | V42: =SUM(V38:V41) -> 0 | X42: =SUM(X38:X41) -> 0 | Z42: =SUM(Z38:Z41) -> 0 | AB42: =SUM(AB38:AB41) -> 0 | AD42: =SUM(AD38:AD41) -> 0 | AF42: =SUM(AF38:AF41) -> 0 | AH42: =SUM(AH38:AH41) -> 0 | AJ42: =SUM(AJ38:AJ41) -> 0 | AL42: =SUM(AL38:AL41) -> 0 | AN42: =SUM(AN38:AN41) -> 0 | AP42: =SUM(AP38:AP41) -> 0 | AR42: =SUM(AR38:AR41) -> 0
A43: Fixed Fee
A44: Fixed Fee | B44: 0 | D44: =$B44*(D37+D42) -> 0 | F44: =$B44*(F37+F42) -> 0 | H44: =$B44*(H37+H42) -> 0 | J44: =$B44*(J37+J42) -> 0 | L44: =$B44*(L37+L42) -> 0 | N44: =$B44*(N37+N42) -> 0 | P44: =$B44*(P37+P42) -> 0 | R44: =$B44*(R37+R42) -> 0 | T44: =$B44*(T37+T42) -> 0 | V44: =$B44*(V37+V42) -> 0 | X44: =$B44*(X37+X42) -> 0 | Z44: =$B44*(Z37+Z42) -> 0 | AB44: =$B44*(AB37+AB42) -> 0 | AD44: =$B44*(AD37+AD42) -> 0 | AF44: =$B44*(AF37+AF42) -> 0 | AH44: =$B44*(AH37+AH42) -> 0 | AJ44: =$B44*(AJ37+AJ42) -> 0 | AL44: =$B44*(AL37+AL42) -> 0 | AN44: =$B44*(AN37+AN42) -> 0 | AP44: =$B44*(AP37+AP42) -> 0 | AR44: =D44+F44+H44+J44+L44+N44+P44+R44+T44+V44+X44+Z44+AB44+AD44+AF44 -> 0
A45: Other Direct Costs (ODC's)
A46: Travel | D46: 0 | F46: 0 | H46: 0 | J46: 0 | L46: 0 | N46: 0 | P46: 0 | R46: 0 | T46: 0 | V46: 0 | X46: 0 | Z46: 0 | AB46: 0 | AD46: 0 | AF46: 0 | AH46: 0 | AJ46: 0 | AL46: 0 | AN46: 0 | AP46: 0 | AR46: =D46+F46+H46+J46+L46+N46+P46+R46+T46+V46+X46+Z46+AB46+AD46+AF46+AH46+AJ46+AL46+AN46+AP46 -> 0
A47: Printing - Directly Chargeable only | D47: 0 | F47: 0 | H47: 0 | J47: 0 | L47: 0 | N47: 0 | P47: 0 | R47: 0 | T47: 0 | V47: 0 | X47: 0 | Z47: 0 | AB47: 0 | AD47: 0 | AF47: 0 | AH47: 0 | AJ47: 0 | AL47: 0 | AN47: 0 | AP47: 0 | AR47: =D47+F47+H47+J47+L47+N47+P47+R47+T47+V47+X47+Z47+AB47+AD47+AF47+AH47+AJ47+AL47+AN47+AP47 -> 0
A48: Supplies & Materials - Directly Chargeable only | D48: 0 | F48: 0 | H48: 0 | J48: 0 | L48: 0 | N48: 0 | P48: 0 | R48: 0 | T48: 0 | V48: 0 | X48: 0 | Z48: 0 | AB48: 0 | AD48: 0 | AF48: 0 | AH48: 0 | AJ48: 0 | AL48: 0 | AN48: 0 | AP48: 0 | AR48: =D48+F48+H48+J48+L48+N48+P48+R48+T48+V48+X48+Z48+AB48+AD48+AF48+AH48+AJ48+AL48+AN48+AP48 -> 0
A49: ODC Description | D49: 0 | F49: 0 | H49: 0 | J49: 0 | L49: 0 | N49: 0 | P49: 0 | R49: 0 | T49: 0 | V49: 0 | X49: 0 | Z49: 0 | AB49: 0 | AD49: 0 | AF49: 0 | AH49: 0 | AJ49: 0 | AL49: 0 | AN49: 0 | AP49: 0 | AR49: =D49+F49+H49+J49+L49+N49+P49+R49+T49+V49+X49+Z49+AB49+AD49+AF49+AH49+AJ49+AL49+AN49+AP49 -> 0
A50: ODC Description | D50: 0 | F50: 0 | H50: 0 | J50: 0 | L50: 0 | N50: 0 | P50: 0 | R50: 0 | T50: 0 | V50: 0 | X50: 0 | Z50: 0 | AB50: 0 | AD50: 0 | AF50: 0 | AH50: 0 | AJ50: 0 | AL50: 0 | AN50: 0 | AP50: 0 | AR50: =D50+F50+H50+J50+L50+N50+P50+R50+T50+V50+X50+Z50+AB50+AD50+AF50+AH50+AJ50+AL50+AN50+AP50 -> 0
A51: ODC Description | D51: 0 | F51: 0 | H51: 0 | J51: 0 | L51: 0 | N51: 0 | P51: 0 | R51: 0 | T51: 0 | V51: 0 | X51: 0 | Z51: 0 | AB51: 0 | AD51: 0 | AF51: 0 | AH51: 0 | AJ51: 0 | AL51: 0 | AN51: 0 | AP51: 0 | AR51: =D51+F51+H51+J51+L51+N51+P51+R51+T51+V51+X51+Z51+AB51+AD51+AF51+AH51+AJ51+AL51+AN51+AP51 -> 0
A52: ODC Description | D52: 0 | F52: 0 | H52: 0 | J52: 0 | L52: 0 | N52: 0 | P52: 0 | R52: 0 | T52: 0 | V52: 0 | X52: 0 | Z52: 0 | AB52: 0 | AD52: 0 | AF52: 0 | AH52: 0 | AJ52: 0 | AL52: 0 | AN52: 0 | AP52: 0 | AR52: =D52+F52+H52+J52+L52+N52+P52+R52+T52+V52+X52+Z52+AB52+AD52+AF52+AH52+AJ52+AL52+AN52+AP52 -> 0
A53: ODC Description | D53: 0 | F53: 0 | H53: 0 | J53: 0 | L53: 0 | N53: 0 | P53: 0 | R53: 0 | T53: 0 | V53: 0 | X53: 0 | Z53: 0 | AB53: 0 | AD53: 0 | AF53: 0 | AH53: 0 | AJ53: 0 | AL53: 0 | AN53: 0 | AP53: 0 | AR53: =D53+F53+H53+J53+L53+N53+P53+R53+T53+V53+X53+Z53+AB53+AD53+AF53+AH53+AJ53+AL53+AN53+AP53 -> 0
A54: ODC Description | D54: 0 | F54: 0 | H54: 0 | J54: 0 | L54: 0 | N54: 0 | P54: 0 | R54: 0 | T54: 0 | V54: 0 | X54: 0 | Z54: 0 | AB54: 0 | AD54: 0 | AF54: 0 | AH54: 0 | AJ54: 0 | AL54: 0 | AN54: 0 | AP54: 0 | AR54: =D54+F54+H54+J54+L54+N54+P54+R54+T54+V54+X54+Z54+AB54+AD54+AF54+AH54+AJ54+AL54+AN54+AP54 -> 0
A55: ODC Description | D55: 0 | F55: 0 | H55: 0 | J55: 0 | L55: 0 | N55: 0 | P55: 0 | R55: 0 | T55: 0 | V55: 0 | X55: 0 | Z55: 0 | AB55: 0 | AD55: 0 | AF55: 0 | AH55: 0 | AJ55: 0 | AL55: 0 | AN55: 0 | AP55: 0 | AR55: =D55+F55+H55+J55+L55+N55+P55+R55+T55+V55+X55+Z55+AB55+AD55+AF55+AH55+AJ55+AL55+AN55+AP55 -> 0
A56: ODC Description | D56: 0 | F56: 0 | H56: 0 | J56: 0 | L56: 0 | N56: 0 | P56: 0 | R56: 0 | T56: 0 | V56: 0 | X56: 0 | Z56: 0 | AB56: 0 | AD56: 0 | AF56: 0 | AH56: 0 | AJ56: 0 | AL56: 0 | AN56: 0 | AP56: 0 | AR56: =D56+F56+H56+J56+L56+N56+P56+R56+T56+V56+X56+Z56+AB56+AD56+AF56+AH56+AJ56+AL56+AN56+AP56 -> 0
A57: ODC Description | D57: 0 | F57: 0 | H57: 0 | J57: 0 | L57: 0 | N57: 0 | P57: 0 | R57: 0 | T57: 0 | V57: 0 | X57: 0 | Z57: 0 | AB57: 0 | AD57: 0 | AF57: 0 | AH57: 0 | AJ57: 0 | AL57: 0 | AN57: 0 | AP57: 0 | AR57: =D57+F57+H57+J57+L57+N57+P57+R57+T57+V57+X57+Z57+AB57+AD57+AF57+AH57+AJ57+AL57+AN57+AP57 -> 0
... A65: ODC Description | D65: 0 | F65: 0 | H65: 0 | J65: 0 | L65: 0 | N65: 0 | P65: 0 | R65: 0 | T65: 0 | V65: 0 | X65: 0 | Z65: 0 | AB65: 0 | AD65: 0 | AF65: 0 | AH65: 0 | AJ65: 0 | AL65: 0 | AN65: 0 | AP65: 0 | AR65: =D65+F65+H65+J65+L65+N65+P65+R65+T65+V65+X65+Z65+AB65+AD65+AF65+AH65+AJ65+AL65+AN65+AP65 -> 0
A66: Subtotal - ODC's | D66: =SUM(D45:D65) -> 0 | F66: =SUM(F45:F65) -> 0 | H66: =SUM(H45:H65) -> 0 | J66: =SUM(J45:J65) -> 0 | L66: =SUM(L45:L65) -> 0 | N66: =SUM(N45:N65) -> 0 | P66: =SUM(P45:P65) -> 0 | R66: =SUM(R45:R65) -> 0 | T66: =SUM(T45:T65) -> 0 | V66: =SUM(V45:V65) -> 0 | X66: =SUM(X45:X65) -> 0 | Z66: =SUM(Z45:Z65) -> 0 | AB66: =SUM(AB45:AB65) -> 0 | AD66: =SUM(AD45:AD65) -> 0 | AF66: =SUM(AF45:AF65) -> 0 | AH66: =SUM(AH45:AH65) -> 0 | AJ66: =SUM(AJ45:AJ65) -> 0 | AL66: =SUM(AL45:AL65) -> 0 | AN66: =SUM(AN45:AN65) -> 0 | AP66: =SUM(AP45:AP65) -> 0 | AR66: =SUM(AR45:AR65) -> 0
A67: Subconsultant(s)
AQ68: =C68+E68+G68+I68+K68+M68+O68+Q68+S68+U68+W68+Y68+AA68+AC68+AE68+AG68+AI68+AK68+AM68+AO68 -> 0 | AR68: =D68+F68+H68+J68+L68+N68+P68+R68+T68+V68+X68+Z68+AB68+AD68+AF68+AH68+AJ68+AL68+AN68+AP68 -> 0
AQ69: =C69+E69+G69+I69+K69+M69+O69+Q69+S69+U69+W69+Y69+AA69+AC69+AE69+AG69+AI69+AK69+AM69+AO69 -> 0 | AR69: =D69+F69+H69+J69+L69+N69+P69+R69+T69+V69+X69+Z69+AB69+AD69+AF69+AH69+AJ69+AL69+AN69+AP69 -> 0
A70: Subtotal - Subconsultant(s) | C70: =SUM(C67:C69) -> 0 | D70: =SUM(D67:D69) -> 0 | E70: =SUM(E67:E69) -> 0 | F70: =SUM(F67:F69) -> 0 | G70: =SUM(G67:G69) -> 0 | H70: =SUM(H67:H69) -> 0 | I70: =SUM(I67:I69) -> 0 | J70: =SUM(J67:J69) -> 0 | ... AR70: =SUM(AR67:AR69) -> 0
A72: GRAND TOTAL | C72: =C37+C42+C44+C66+C70 -> 0 | D72: =D37+D42+D44+D66+D70 -> 0 | E72: =E37+E42+E44+E66+E70 -> 0 | F72: =F37+F42+F44+F66+F70 -> 0 | G72: =G37+G42+G44+G66+G70 -> 0 | H72: =H37+H42+H44+H66+H70 -> 0 | I72: =I37+I42+I44+I66+I70 -> 0 | J72: =J37+J42+J44+J66+J70 -> 0 | ... AR72: =AR37+AR42+AR44+AR66+AR70 -> 0
A73: Check Totals | C73: =SUM(C12:C36)+SUM(C68:C69) -> 0 | D73: =SUM(D12:D36)+SUM(D39:D41)+D44+SUM(D46:D65)+SUM(D68:D69) -> 0 | E73: =SUM(E12:E36)+SUM(E68:E69) -> 0 | F73: =SUM(F12:F36)+SUM(F39:F41)+F44+SUM(F46:F65)+SUM(F68:F69) -> 0 | G73: =SUM(G12:G36)+SUM(G68:G69) -> 0 | H73: =SUM(H12:H36)+SUM(H39:H41)+H44+SUM(H46:H65)+SUM(H68:H69) -> 0 | I73: =SUM(I12:I36)+SUM(I68:I69) -> 0 | J73: =SUM(J12:J36)+SUM(J39:J41)+J44+SUM(J46:J65)+SUM(J68:J69) -> 0 | K73: =SUM(K12:K36)+SUM(K68:K69) -> 0 | L73: =SUM(L12:L36)+SUM(L39:L41)+L44+SUM(L46:L65)+SUM(L68:L69) -> 0 | M73: =SUM(M12:M36)+SUM(M68:M69) -> 0 | N73: =SUM(N12:N36)+SUM(N39:N41)+N44+SUM(N46:N65)+SUM(N68:N69) -> 0 | O73: =SUM(O12:O36)+SUM(O68:O69) -> 0 | P73: =SUM(P12:P36)+SUM(P39:P41)+P44+SUM(P46:P65)+SUM(P68:P69) -> 0 | Q73: =SUM(Q12:Q36)+SUM(Q68:Q69) -> 0 | R73: =SUM(R12:R36)+SUM(R39:R41)+R44+SUM(R46:R65)+SUM(R68:R69) -> 0 | S73: =SUM(S12:S36)+SUM(S68:S69) -> 0 | T73: =SUM(T12:T36)+SUM(T39:T41)+T44+SUM(T46:T65)+SUM(T68:T69) -> 0 | U73: =SUM(U12:U36)+SUM(U68:U69) -> 0 | V73: =SUM(V12:V36)+SUM(V39:V41)+V44+SUM(V46:V65)+SUM(V68:V69) -> 0 | W73: =SUM(W12:W36)+SUM(W68:W69) -> 0 | X73: =SUM(X12:X36)+SUM(X39:X41)+X44+SUM(X46:X65)+SUM(X68:X69) -> 0 | Y73: =SUM(Y12:Y36)+SUM(Y68:Y69) -> 0 | Z73: =SUM(Z12:Z36)+SUM(Z39:Z41)+Z44+SUM(Z46:Z65)+SUM(Z68:Z69) -> 0 | AA73: =SUM(AA12:AA36)+SUM(AA68:AA69) -> 0 | AB73: =SUM(AB12:AB36)+SUM(AB39:AB41)+AB44+SUM(AB46:AB65)+SUM(AB68:AB69) -> 0 | AC73: =SUM(AC12:AC36)+SUM(AC68:AC69) -> 0 | AD73: =SUM(AD12:AD36)+SUM(AD39:AD41)+AD44+SUM(AD46:AD65)+SUM(AD68:AD69) -> 0 | AE73: =SUM(AE12:AE36)+SUM(AE68:AE69) -> 0 | AF73: =SUM(AF12:AF36)+SUM(AF39:AF41)+AF44+SUM(AF46:AF65)+SUM(AF68:AF69) -> 0 | AG73: =SUM(AG12:AG36)+SUM(AG68:AG69) -> 0 | AH73: =SUM(AH12:AH36)+SUM(AH39:AH41)+AH44+SUM(AH46:AH65)+SUM(AH68:AH69) -> 0 | AI73: =SUM(AI12:AI36)+SUM(AI68:AI69) -> 0 | AJ73: =SUM(AJ12:AJ36)+SUM(AJ39:AJ41)+AJ44+SUM(AJ46:AJ65)+SUM(AJ68:AJ69) -> 0 | AK73: =SUM(AK12:AK36)+SUM(AK68:AK69) -> 0 | AL73: =SUM(AL12:AL36)+SUM(AL39:AL41)+AL44+SUM(AL46:AL65)+SUM(AL68:AL69) -> 0 | AM73: =SUM(AM12:AM36)+SUM(AM68:AM69) -> 0 | AN73: =SUM(AN12:AN36)+SUM(AN39:AN41)+AN44+SUM(AN46:AN65)+SUM(AN68:AN69) -> 0 | AO73: =SUM(AO12:AO36)+SUM(AO68:AO69) -> 0 | AP73: =SUM(AP12:AP36)+SUM(AP39:AP41)+AP44+SUM(AP46:AP65)+SUM(AP68:AP69) -> 0 | AQ73: =C73+E73+G73+I73+K73+M73+O73+Q73+S73+U73+W73+Y73+AA73+AC73+AE73+AG73+AI73+AK73+AM73+AO73 -> 0 | AR73: =D73+F73+H73+J73+L73+N73+P73+R73+T73+V73+X73+Z73+AB73+AD73+AF73+AH73+AJ73+AL73+AN73+AP73 -> 0
V74: Variance | AR74: =AR72-AR73 -> 0

Sheet Sub 5
A1: Sub 5 | E1: LINE ITEM BUDGET
A2: Address
A3: Address | H3: Title of Project: | R3: Title of Project: | S3: =I3 -> 0 | AB3: Title of Project: | AC3: =I3 -> 0 | AL3: Title of Project: | AM3: =S3 -> 0
A4: email
A5: Phone | H5: RFP Number: | R5: RFP Number: | S5: =I5 -> 0 | AB5: RFP Number: | AC5: =S5 -> 0 | AL5: RFP Number: | AM5: =AC5 -> 0
A7: (a) | B7: (b) | C7: (c) | D7: (d) | E7: (e) | F7: (f) | G7: (g) | H7: (h) | I7: (i) | J7: (j) | K7: (k) | L7: (l) | M7: (m) | N7: (n) | O7: (o) | P7: (p) | Q7: (q) | R7: (r) | S7: (s) | T7: (t) | U7: (u) | V7: (v) | W7: (w) | X7: (x) | Y7: (y) | Z7: (z) | AA7: (aa) | AB7: (ab) | AC7: (ac) | AD7: (ad) | AE7: (ae) | AF7: (af) | AG7: (ag) | AH7: (ah) | AI7: (ai) | AJ7: (aj) | AK7: (ak) | AL7: (al) | AM7: (am) | AN7: (an) | AO7: (ao) | AP7: (ap)
A8: Cost Categories | B8: Maximum Hourly Rate | C8: Task 1 | E8: Task 2 | G8: Task 3 | I8: Task 4 | K8: Task 5 | M8: Task 6 | O8: Task 7 | Q8: Task 8 | S8: Task 9 | U8: Task 10 | W8: Task 11 | Y8: Task 12 | AA8: Task 13 | AC8: Task 14 | AE8: Task 15 | AG8: Task 16 | AI8: Task 17 | AK8: Task 18 | AM8: Task 19 | AO8: Task 20 | AQ8: Grand Total (All Tasks)
C9: Task Name | E9: Task Name | G9: Task Name | I9: Task Name | K9: Task Name | M9: Task Name | O9: Task Name | Q9: Task Name | S9: Task Name | U9: Task Name | W9: Task Name | Y9: Task Name | AA9: Task Name | AC9: Task Name | AE9: Task Name | AG9: Task Name | AI9: Task Name | AK9: Task Name | AM9: Task Name | AO9: Task Name
C10: Hours | D10: Amount | E10: Hours | F10: Amount | G10: Hours | H10: Amount | I10: Hours | J10: Amount | K10: Hours | L10: Amount | M10: Hours | N10: Amount | O10: Hours | P10: Amount | Q10: Hours | R10: Amount | S10: Hours | T10: Amount | U10: Hours | V10: Amount | W10: Hours | X10: Amount | Y10: Hours | Z10: Amount | AA10: Hours | AB10: Amount | AC10: Hours | AD10: Amount | AE10: Hours | AF10: Amount | AG10: Hours | AH10: Amount | AI10: Hours | AJ10: Amount | AK10: Hours | AL10: Amount | AM10: Hours | AN10: Amount | AO10: Hours | AP10: Amount | AQ10: Hours | AR10: Amount
A11: Direct Labor Classification(s)
A12: Personnel Classification | C12: 0 | D12: =B12*C12 -> 0 | E12: 0 | F12: =$B12*E12 -> 0 | G12: 0 | H12: =$B12*G12 -> 0 | I12: 0 | J12: =$B12*I12 -> 0 | K12: 0 | L12: =$B12*K12 -> 0 | M12: 0 | N12: =$B12*M12 -> 0 | O12: 0 | P12: =$B12*O12 -> 0 | Q12: 0 | R12: =$B12*Q12 -> 0 | S12: 0 | T12: =$B12*S12 -> 0 | U12: 0 | V12: =$B12*U12 -> 0 | W12: 0 | X12: =$B12*W12 -> 0 | Y12: 0 | Z12: =$B12*Y12 -> 0 | AA12: 0 | AB12: =$B12*AA12 -> 0 | AC12: 0 | AD12: =$B12*AC12 -> 0 | AE12: 0 | AF12: =$B12*AE12 -> 0 | AG12: 0 | AH12: =$B12*AG12 -> 0 | AI12: 0 | AJ12: =$B12*AI12 -> 0 | AK12: 0 | AL12: =$B12*AK12 -> 0 | AM12: 0 | AN12: =$B12*AM12 -> 0 | AO12: 0 | AP12: =$B12*AO12 -> 0 | AQ12: =C12+E12+G12+I12+K12+M12+O12+Q12+S12+U12+W12+Y12+AA12+AC12+AE12+AG12+AI12+AK12+AM12+AO12 -> 0 | AR12: =D12+F12+H12+J12+L12+N12+P12+R12+T12+V12+X12+Z12+AB12+AD12+AF12+AH12+AJ12+AL12+AN12+AP12 -> 0
A13: Personnel Classification | C13: 0 | D13: =B13*C13 -> 0 | E13: 0 | F13: =$B13*E13 -> 0 | G13: 0 | H13: =$B13*G13 -> 0 | I13: 0 | J13: =$B13*I13 -> 0 | K13: 0 | L13: =$B13*K13 -> 0 | M13: 0 | N13: =$B13*M13 -> 0 | O13: 0 | P13: =$B13*O13 -> 0 | Q13: 0 | R13: =$B13*Q13 -> 0 | S13: 0 | T13: =$B13*S13 -> 0 | U13: 0 | V13: =$B13*U13 -> 0 | W13: 0 | X13: =$B13*W13 -> 0 | Y13: 0 | Z13: =$B13*Y13 -> 0 | AA13: 0 | AB13: =$B13*AA13 -> 0 | AC13: 0 | AD13: =$B13*AC13 -> 0 | AE13: 0 | AF13: =$B13*AE13 -> 0 | AG13: 0 | AH13: =$B13*AG13 -> 0 | AI13: 0 | AJ13: =$B13*AI13 -> 0 | AK13: 0 | AL13: =$B13*AK13 -> 0 | AM13: 0 | AN13: =$B13*AM13 -> 0 | AO13: 0 | AP13: =$B13*AO13 -> 0 | AQ13: =C13+E13+G13+I13+K13+M13+O13+Q13+S13+U13+W13+Y13+AA13+AC13+AE13+AG13+AI13+AK13+AM13+AO13 -> 0 | AR13: =D13+F13+H13+J13+L13+N13+P13+R13+T13+V13+X13+Z13+AB13+AD13+AF13+AH13+AJ13+AL13+AN13+AP13 -> 0
A14: Personnel Classification | C14: 0 | D14: =B14*C14 -> 0 | E14: 0 | F14: =$B14*E14 -> 0 | G14: 0 | H14: =$B14*G14 -> 0 | I14: 0 | J14: =$B14*I14 -> 0 | K14: 0 | L14: =$B14*K14 -> 0 | M14: 0 | N14: =$B14*M14 -> 0 | O14: 0 | P14: =$B14*O14 -> 0 | Q14: 0 | R14: =$B14*Q14 -> 0 | S14: 0 | T14: =$B14*S14 -> 0 | U14: 0 | V14: =$B14*U14 -> 0 | W14: 0 | X14: =$B14*W14 -> 0 | Y14: 0 | Z14: =$B14*Y14 -> 0 | AA14: 0 | AB14: =$B14*AA14 -> 0 | AC14: 0 | AD14: =$B14*AC14 -> 0 | AE14: 0 | AF14: =$B14*AE14 -> 0 | AG14: 0 | AH14: =$B14*AG14 -> 0 | AI14: 0 | AJ14: =$B14*AI14 -> 0 | AK14: 0 | AL14: =$B14*AK14 -> 0 | AM14: 0 | AN14: =$B14*AM14 -> 0 | AO14: 0 | AP14: =$B14*AO14 -> 0 | AQ14: =C14+E14+G14+I14+K14+M14+O14+Q14+S14+U14+W14+Y14+AA14+AC14+AE14+AG14+AI14+AK14+AM14+AO14 -> 0 | AR14: =D14+F14+H14+J14+L14+N14+P14+R14+T14+V14+X14+Z14+AB14+AD14+AF14+AH14+AJ14+AL14+AN14+AP14 -> 0
A15: Personnel Classification | C15: 0 | D15: =B15*C15 -> 0 | E15: 0 | F15: =$B15*E15 -> 0 | G15: 0 | H15: =$B15*G15 -> 0 | I15: 0 | J15: =$B15*I15 -> 0 | K15: 0 | L15: =$B15*K15 -> 0 | M15: 0 | N15: =$B15*M15 -> 0 | O15: 0 | P15: =$B15*O15 -> 0 | Q15: 0 | R15: =$B15*Q15 -> 0 | S15: 0 | T15: =$B15*S15 -> 0 | U15: 0 | V15: =$B15*U15 -> 0 | W15: 0 | X15: =$B15*W15 -> 0 | Y15: 0 | Z15: =$B15*Y15 -> 0 | AA15: 0 | AB15: =$B15*AA15 -> 0 | AC15: 0 | AD15: =$B15*AC15 -> 0 | AE15: 0 | AF15: =$B15*AE15 -> 0 | AG15: 0 | AH15: =$B15*AG15 -> 0 | AI15: 0 | AJ15: =$B15*AI15 -> 0 | AK15: 0 | AL15: =$B15*AK15 -> 0 | AM15: 0 | AN15: =$B15*AM15 -> 0 | AO15: 0 | AP15: =$B15*AO15 -> 0 | AQ15: =C15+E15+G15+I15+K15+M15+O15+Q15+S15+U15+W15+Y15+AA15+AC15+AE15+AG15+AI15+AK15+AM15+AO15 -> 0 | AR15: =D15+F15+H15+J15+L15+N15+P15+R15+T15+V15+X15+Z15+AB15+AD15+AF15+AH15+AJ15+AL15+AN15+AP15 -> 0
A16: Personnel Classification | C16: 0 | D16: =B16*C16 -> 0 | E16: 0 | F16: =$B16*E16 -> 0 | G16: 0 | H16: =$B16*G16 -> 0 | I16: 0 | J16: =$B16*I16 -> 0 | K16: 0 | L16: =$B16*K16 -> 0 | M16: 0 | N16: =$B16*M16 -> 0 | O16: 0 | P16: =$B16*O16 -> 0 | Q16: 0 | R16: =$B16*Q16 -> 0 | S16: 0 | T16: =$B16*S16 -> 0 | U16: 0 | V16: =$B16*U16 -> 0 | W16: 0 | X16: =$B16*W16 -> 0 | Y16: 0 | Z16: =$B16*Y16 -> 0 | AA16: 0 | AB16: =$B16*AA16 -> 0 | AC16: 0 | AD16: =$B16*AC16 -> 0 | AE16: 0 | AF16: =$B16*AE16 -> 0 | AG16: 0 | AH16: =$B16*AG16 -> 0 | AI16: 0 | AJ16: =$B16*AI16 -> 0 | AK16: 0 | AL16: =$B16*AK16 -> 0 | AM16: 0 | AN16: =$B16*AM16 -> 0 | AO16: 0 | AP16: =$B16*AO16 -> 0 | AQ16: =C16+E16+G16+I16+K16+M16+O16+Q16+S16+U16+W16+Y16+AA16+AC16+AE16+AG16+AI16+AK16+AM16+AO16 -> 0 | AR16: =D16+F16+H16+J16+L16+N16+P16+R16+T16+V16+X16+Z16+AB16+AD16+AF16+AH16+AJ16+AL16+AN16+AP16 -> 0
A17: Personnel Classification | C17: 0 | D17: =B17*C17 -> 0 | E17: 0 | F17: =$B17*E17 -> 0 | G17: 0 | H17: =$B17*G17 -> 0 | I17: 0 | J17: =$B17*I17 -> 0 | K17: 0 | L17: =$B17*K17 -> 0 | M17: 0 | N17: =$B17*M17 -> 0 | O17: 0 | P17: =$B17*O17 -> 0 | Q17: 0 | R17: =$B17*Q17 -> 0 | S17: 0 | T17: =$B17*S17 -> 0 | U17: 0 | V17: =$B17*U17 -> 0 | W17: 0 | X17: =$B17*W17 -> 0 | Y17: 0 | Z17: =$B17*Y17 -> 0 | AA17: 0 | AB17: =$B17*AA17 -> 0 | AC17: 0 | AD17: =$B17*AC17 -> 0 | AE17: 0 | AF17: =$B17*AE17 -> 0 | AG17: 0 | AH17: =$B17*AG17 -> 0 | AI17: 0 | AJ17: =$B17*AI17 -> 0 | AK17: 0 | AL17: =$B17*AK17 -> 0 | AM17: 0 | AN17: =$B17*AM17 -> 0 | AO17: 0 | AP17: =$B17*AO17 -> 0 | AQ17: =C17+E17+G17+I17+K17+M17+O17+Q17+S17+U17+W17+Y17+AA17+AC17+AE17+AG17+AI17+AK17+AM17+AO17 -> 0 | AR17: =D17+F17+H17+J17+L17+N17+P17+R17+T17+V17+X17+Z17+AB17+AD17+AF17+AH17+AJ17+AL17+AN17+AP17 -> 0
A18: Personnel Classification | C18: 0 | D18: =B18*C18 -> 0 | E18: 0 | F18: =$B18*E18 -> 0 | G18: 0 | H18: =$B18*G18 -> 0 | I18: 0 | J18: =$B18*I18 -> 0 | K18: 0 | L18: =$B18*K18 -> 0 | M18: 0 | N18: =$B18*M18 -> 0 | O18: 0 | P18: =$B18*O18 -> 0 | Q18: 0 | R18: =$B18*Q18 -> 0 | S18: 0 | T18: =$B18*S18 -> 0 | U18: 0 | V18: =$B18*U18 -> 0 | W18: 0 | X18: =$B18*W18 -> 0 | Y18: 0 | Z18: =$B18*Y18 -> 0 | AA18: 0 | AB18: =$B18*AA18 -> 0 | AC18: 0 | AD18: =$B18*AC18 -> 0 | AE18: 0 | AF18: =$B18*AE18 -> 0 | AG18: 0 | AH18: =$B18*AG18 -> 0 | AI18: 0 | AJ18: =$B18*AI18 -> 0 | AK18: 0 | AL18: =$B18*AK18 -> 0 | AM18: 0 | AN18: =$B18*AM18 -> 0 | AO18: 0 | AP18: =$B18*AO18 -> 0 | AQ18: =C18+E18+G18+I18+K18+M18+O18+Q18+S18+U18+W18+Y18+AA18+AC18+AE18+AG18+AI18+AK18+AM18+AO18 -> 0 | AR18: =D18+F18+H18+J18+L18+N18+P18+R18+T18+V18+X18+Z18+AB18+AD18+AF18+AH18+AJ18+AL18+AN18+AP18 -> 0
A19: Personnel Classification | C19: 0 | D19: =B19*C19 -> 0 | E19: 0 | F19: =$B19*E19 -> 0 | G19: 0 | H19: =$B19*G19 -> 0 | I19: 0 | J19: =$B19*I19 -> 0 | K19: 0 | L19: =$B19*K19 -> 0 | M19: 0 | N19: =$B19*M19 -> 0 | O19: 0 | P19: =$B19*O19 -> 0 | Q19: 0 | R19: =$B19*Q19 -> 0 | S19: 0 | T19: =$B19*S19 -> 0 | U19: 0 | V19: =$B19*U19 -> 0 | W19: 0 | X19: =$B19*W19 -> 0 | Y19: 0 | Z19: =$B19*Y19 -> 0 | AA19: 0 | AB19: =$B19*AA19 -> 0 | AC19: 0 | AD19: =$B19*AC19 -> 0 | AE19: 0 | AF19: =$B19*AE19 -> 0 | AG19: 0 | AH19: =$B19*AG19 -> 0 | AI19: 0 | AJ19: =$B19*AI19 -> 0 | AK19: 0 | AL19: =$B19*AK19 -> 0 | AM19: 0 | AN19: =$B19*AM19 -> 0 | AO19: 0 | AP19: =$B19*AO19 -> 0 | AQ19: =C19+E19+G19+I19+K19+M19+O19+Q19+S19+U19+W19+Y19+AA19+AC19+AE19+AG19+AI19+AK19+AM19+AO19 -> 0 | AR19: =D19+F19+H19+J19+L19+N19+P19+R19+T19+V19+X19+Z19+AB19+AD19+AF19+AH19+AJ19+AL19+AN19+AP19 -> 0
A20: Personnel Classification | C20: 0 | D20: =B20*C20 -> 0 | E20: 0 | F20: =$B20*E20 -> 0 | G20: 0 | H20: =$B20*G20 -> 0 | I20: 0 | J20: =$B20*I20 -> 0 | K20: 0 | L20: =$B20*K20 -> 0 | M20: 0 | N20: =$B20*M20 -> 0 | O20: 0 | P20: =$B20*O20 -> 0 | Q20: 0 | R20: =$B20*Q20 -> 0 | S20: 0 | T20: =$B20*S20 -> 0 | U20: 0 | V20: =$B20*U20 -> 0 | W20: 0 | X20: =$B20*W20 -> 0 | Y20: 0 | Z20: =$B20*Y20 -> 0 | AA20: 0 | AB20: =$B20*AA20 -> 0 | AC20: 0 | AD20: =$B20*AC20 -> 0 | AE20: 0 | AF20: =$B20*AE20 -> 0 | AG20: 0 | AH20: =$B20*AG20 -> 0 | AI20: 0 | AJ20: =$B20*AI20 -> 0 | AK20: 0 | AL20: =$B20*AK20 -> 0 | AM20: 0 | AN20: =$B20*AM20 -> 0 | AO20: 0 | AP20: =$B20*AO20 -> 0 | AQ20: =C20+E20+G20+I20+K20+M20+O20+Q20+S20+U20+W20+Y20+AA20+AC20+AE20+AG20+AI20+AK20+AM20+AO20 -> 0 | AR20: =D20+F20+H20+J20+L20+N20+P20+R20+T20+V20+X20+Z20+AB20+AD20+AF20+AH20+AJ20+AL20+AN20+AP20 -> 0
A21: Personnel Classification | C21: 0 | D21: =B21*C21 -> 0 | E21: 0 | F21: =$B21*E21 -> 0 | G21: 0 | H21: =$B21*G21 -> 0 | I21: 0 | J21: =$B21*I21 -> 0 | K21: 0 | L21: =$B21*K21 -> 0 | M21: 0 | N21: =$B21*M21 -> 0 | O21: 0 | P21: =$B21*O21 -> 0 | Q21: 0 | R21: =$B21*Q21 -> 0 | S21: 0 | T21: =$B21*S21 -> 0 | U21: 0 | V21: =$B21*U21 -> 0 | W21: 0 | X21: =$B21*W21 -> 0 | Y21: 0 | Z21: =$B21*Y21 -> 0 | AA21: 0 | AB21: =$B21*AA21 -> 0 | AC21: 0 | AD21: =$B21*AC21 -> 0 | AE21: 0 | AF21: =$B21*AE21 -> 0 | AG21: 0 | AH21: =$B21*AG21 -> 0 | AI21: 0 | AJ21: =$B21*AI21 -> 0 | AK21: 0 | AL21: =$B21*AK21 -> 0 | AM21: 0 | AN21: =$B21*AM21 -> 0 | AO21: 0 | AP21: =$B21*AO21 -> 0 | AQ21: =C21+E21+G21+I21+K21+M21+O21+Q21+S21+U21+W21+Y21+AA21+AC21+AE21+AG21+AI21+AK21+AM21+AO21 -> 0 | AR21: =D21+F21+H21+J21+L21+N21+P21+R21+T21+V21+X21+Z21+AB21+AD21+AF21+AH21+AJ21+AL21+AN21+AP21 -> 0
A22: Personnel Classification | C22: 0 | D22: =B22*C22 -> 0 | E22: 0 | F22: =$B22*E22 -> 0 | G22: 0 | H22: =$B22*G22 -> 0 | I22: 0 | J22: =$B22*I22 -> 0 | K22: 0 | L22: =$B22*K22 -> 0 | M22: 0 | N22: =$B22*M22 -> 0 | O22: 0 | P22: =$B22*O22 -> 0 | Q22: 0 | R22: =$B22*Q22 -> 0 | S22: 0 | T22: =$B22*S22 -> 0 | U22: 0 | V22: =$B22*U22 -> 0 | W22: 0 | X22: =$B22*W22 -> 0 | Y22: 0 | Z22: =$B22*Y22 -> 0 | AA22: 0 | AB22: =$B22*AA22 -> 0 | AC22: 0 | AD22: =$B22*AC22 -> 0 | AE22: 0 | AF22: =$B22*AE22 -> 0 | AG22: 0 | AH22: =$B22*AG22 -> 0 | AI22: 0 | AJ22: =$B22*AI22 -> 0 | AK22: 0 | AL22: =$B22*AK22 -> 0 | AM22: 0 | AN22: =$B22*AM22 -> 0 | AO22: 0 | AP22: =$B22*AO22 -> 0 | AQ22: =C22+E22+G22+I22+K22+M22+O22+Q22+S22+U22+W22+Y22+AA22+AC22+AE22+AG22+AI22+AK22+AM22+AO22 -> 0 | AR22: =D22+F22+H22+J22+L22+N22+P22+R22+T22+V22+X22+Z22+AB22+AD22+AF22+AH22+AJ22+AL22+AN22+AP22 -> 0
A23: Personnel Classification | C23: 0 | D23: =B23*C23 -> 0 | E23: 0 | F23: =$B23*E23 -> 0 | G23: 0 | H23: =$B23*G23 -> 0 | I23: 0 | J23: =$B23*I23 -> 0 | K23: 0 | L23: =$B23*K23 -> 0 | M23: 0 | N23: =$B23*M23 -> 0 | O23: 0 | P23: =$B23*O23 -> 0 | Q23: 0 | R23: =$B23*Q23 -> 0 | S23: 0 | T23: =$B23*S23 -> 0 | U23: 0 | V23: =$B23*U23 -> 0 | W23: 0 | X23: =$B23*W23 -> 0 | Y23: 0 | Z23: =$B23*Y23 -> 0 | AA23: 0 | AB23: =$B23*AA23 -> 0 | AC23: 0 | AD23: =$B23*AC23 -> 0 | AE23: 0 | AF23: =$B23*AE23 -> 0 | AG23: 0 | AH23: =$B23*AG23 -> 0 | AI23: 0 | AJ23: =$B23*AI23 -> 0 | AK23: 0 | AL23: =$B23*AK23 -> 0 | AM23: 0 | AN23: =$B23*AM23 -> 0 | AO23: 0 | AP23: =$B23*AO23 -> 0 | AQ23: =C23+E23+G23+I23+K23+M23+O23+Q23+S23+U23+W23+Y23+AA23+AC23+AE23+AG23+AI23+AK23+AM23+AO23 -> 0 | AR23: =D23+F23+H23+J23+L23+N23+P23+R23+T23+V23+X23+Z23+AB23+AD23+AF23+AH23+AJ23+AL23+AN23+AP23 -> 0
... A36: Personnel Classification | C36: 0 | D36: =B36*C36 -> 0 | E36: 0 | F36: =$B36*E36 -> 0 | G36: 0 | H36: =$B36*G36 -> 0 | I36: 0 | J36: =$B36*I36 -> 0 | K36: 0 | L36: =$B36*K36 -> 0 | M36: 0 | N36: =$B36*M36 -> 0 | O36: 0 | P36: =$B36*O36 -> 0 | Q36: 0 | R36: =$B36*Q36 -> 0 | S36: 0 | T36: =$B36*S36 -> 0 | U36: 0 | V36: =$B36*U36 -> 0 | W36: 0 | X36: =$B36*W36 -> 0 | Y36: 0 | Z36: =$B36*Y36 -> 0 | AA36: 0 | AB36: =$B36*AA36 -> 0 | AC36: 0 | AD36: =$B36*AC36 -> 0 | AE36: 0 | AF36: =$B36*AE36 -> 0 | AG36: 0 | AH36: =$B36*AG36 -> 0 | AI36: 0 | AJ36: =$B36*AI36 -> 0 | AK36: 0 | AL36: =$B36*AK36 -> 0 | AM36: 0 | AN36: =$B36*AM36 -> 0 | AO36: 0 | AP36: =$B36*AO36 -> 0 | AQ36: =C36+E36+G36+I36+K36+M36+O36+Q36+S36+U36+W36+Y36+AA36+AC36+AE36+AG36+AI36+AK36+AM36+AO36 -> 0 | AR36: =D36+F36+H36+J36+L36+N36+P36+R36+T36+V36+X36+Z36+AB36+AD36+AF36+AH36+AJ36+AL36+AN36+AP36 -> 0
A37: Subtotal - Direct Labor | C37: =SUM(C11:C36) -> 0 | D37: =SUM(D11:D36) -> 0 | E37: =SUM(E11:E36) -> 0 | F37: =SUM(F11:F36) -> 0 | G37: =SUM(G11:G36) -> 0 | H37: =SUM(H11:H36) -> 0 | I37: =SUM(I11:I36) -> 0 | J37: =SUM(J11:J36) -> 0 | ... AR37: =SUM(AR11:AR36) -> 0
A38: Overhead & Fringe (inc. G & A)
A39: Overhead | B39: 0 | D39: =D37*$B39 -> 0 | F39: =F37*$B39 -> 0 | H39: =H37*$B39 -> 0 | J39: =J37*$B39 -> 0 | L39: =L37*$B39 -> 0 | N39: =N37*$B39 -> 0 | P39: =P37*$B39 -> 0 | R39: =R37*$B39 -> 0 | T39: =T37*$B39 -> 0 | V39: =V37*$B39 -> 0 | X39: =X37*$B39 -> 0 | Z39: =Z37*$B39 -> 0 | AB39: =AB37*$B39 -> 0 | AD39: =AD37*$B39 -> 0 | AF39: =AF37*$B39 -> 0 | AH39: =AH37*$B39 -> 0 | AJ39: =AJ37*$B39 -> 0 | AL39: =AL37*$B39 -> 0 | AN39: =AN37*$B39 -> 0 | AP39: =AP37*$B39 -> 0 | AR39: =D39+F39+H39+J39+L39+N39+P39+R39+T39+V39+X39+Z39+AB39+AD39+AF39+AH39+AJ39+AL39+AN39+AP39 -> 0
A40: Fringe | B40: 0 | D40: =$B40*D37 -> 0 | F40: =$B40*F37 -> 0 | H40: =$B40*H37 -> 0 | J40: =$B40*J37 -> 0 | L40: =$B40*L37 -> 0 | N40: =$B40*N37 -> 0 | P40: =$B40*P37 -> 0 | R40: =$B40*R37 -> 0 | T40: =$B40*T37 -> 0 | V40: =$B40*V37 -> 0 | X40: =$B40*X37 -> 0 | Z40: =$B40*Z37 -> 0 | AB40: =$B40*AB37 -> 0 | AD40: =$B40*AD37 -> 0 | AF40: =$B40*AF37 -> 0 | AH40: =$B40*AH37 -> 0 | AJ40: =$B40*AJ37 -> 0 | AL40: =$B40*AL37 -> 0 | AN40: =$B40*AN37 -> 0 | AP40: =$B40*AP37 -> 0 | AR40: =D40+F40+H40+J40+L40+N40+P40+R40+T40+V40+X40+Z40+AB40+AD40+AF40+AH40+AJ40+AL40+AN40+AP40 -> 0
AR41: =D41+F41+H41+J41+L41+N41+P41+R41+T41+V41+X41+Z41+AB41+AD41+AF41+AH41+AJ41+AL41+AN41+AP41 -> 0
A42: Subtotal - Overhead & Fringe (inc. G & A) | D42: =SUM(D38:D41) -> 0 | F42: =SUM(F38:F41) -> 0 | H42: =SUM(H38:H41) -> 0 | J42: =SUM(J38:J41) -> 0 | L42: =SUM(L38:L41) -> 0 | N42: =SUM(N38:N41) -> 0 | P42: =SUM(P38:P41) -> 0 | R42: =SUM(R38:R41) -> 0 | T42: =SUM(T38:T41) -> 0 | V42: =SUM(V38:V41) -> 0 | X42: =SUM(X38:X41) -> 0 | Z42: =SUM(Z38:Z41) -> 0 | AB42: =SUM(AB38:AB41) -> 0 | AD42: =SUM(AD38:AD41) -> 0 | AF42: =SUM(AF38:AF41) -> 0 | AH42: =SUM(AH38:AH41) -> 0 | AJ42: =SUM(AJ38:AJ41) -> 0 | AL42: =SUM(AL38:AL41) -> 0 | AN42: =SUM(AN38:AN41) -> 0 | AP42: =SUM(AP38:AP41) -> 0 | AR42: =SUM(AR38:AR41) -> 0
A43: Fixed Fee
A44: Fixed Fee | B44: 0 | D44: =$B44*(D37+D42) -> 0 | F44: =$B44*(F37+F42) -> 0 | H44: =$B44*(H37+H42) -> 0 | J44: =$B44*(J37+J42) -> 0 | L44: =$B44*(L37+L42) -> 0 | N44: =$B44*(N37+N42) -> 0 | P44: =$B44*(P37+P42) -> 0 | R44: =$B44*(R37+R42) -> 0 | T44: =$B44*(T37+T42) -> 0 | V44: =$B44*(V37+V42) -> 0 | X44: =$B44*(X37+X42) -> 0 | Z44: =$B44*(Z37+Z42) -> 0 | AB44: =$B44*(AB37+AB42) -> 0 | AD44: =$B44*(AD37+AD42) -> 0 | AF44: =$B44*(AF37+AF42) -> 0 | AH44: =$B44*(AH37+AH42) -> 0 | AJ44: =$B44*(AJ37+AJ42) -> 0 | AL44: =$B44*(AL37+AL42) -> 0 | AN44: =$B44*(AN37+AN42) -> 0 | AP44: =$B44*(AP37+AP42) -> 0 | AR44: =D44+F44+H44+J44+L44+N44+P44+R44+T44+V44+X44+Z44+AB44+AD44+AF44 -> 0
A45: Other Direct Costs (ODC's)
A46: Travel | D46: 0 | F46: 0 | H46: 0 | J46: 0 | L46: 0 | N46: 0 | P46: 0 | R46: 0 | T46: 0 | V46: 0 | X46: 0 | Z46: 0 | AB46: 0 | AD46: 0 | AF46: 0 | AH46: 0 | AJ46: 0 | AL46: 0 | AN46: 0 | AP46: 0 | AR46: =D46+F46+H46+J46+L46+N46+P46+R46+T46+V46+X46+Z46+AB46+AD46+AF46+AH46+AJ46+AL46+AN46+AP46 -> 0
A47: Printing - Directly Chargeable only | D47: 0 | F47: 0 | H47: 0 | J47: 0 | L47: 0 | N47: 0 | P47: 0 | R47: 0 | T47: 0 | V47: 0 | X47: 0 | Z47: 0 | AB47: 0 | AD47: 0 | AF47: 0 | AH47: 0 | AJ47: 0 | AL47: 0 | AN47: 0 | AP47: 0 | AR47: =D47+F47+H47+J47+L47+N47+P47+R47+T47+V47+X47+Z47+AB47+AD47+AF47+AH47+AJ47+AL47+AN47+AP47 -> 0
A48: Supplies & Materials - Directly Chargeable only | D48: 0 | F48: 0 | H48: 0 | J48: 0 | L48: 0 | N48: 0 | P48: 0 | R48: 0 | T48: 0 | V48: 0 | X48: 0 | Z48: 0 | AB48: 0 | AD48: 0 | AF48: 0 | AH48: 0 | AJ48: 0 | AL48: 0 | AN48: 0 | AP48: 0 | AR48: =D48+F48+H48+J48+L48+N48+P48+R48+T48+V48+X48+Z48+AB48+AD48+AF48+AH48+AJ48+AL48+AN48+AP48 -> 0
A49: ODC Description | D49: 0 | F49: 0 | H49: 0 | J49: 0 | L49: 0 | N49: 0 | P49: 0 | R49: 0 | T49: 0 | V49: 0 | X49: 0 | Z49: 0 | AB49: 0 | AD49: 0 | AF49: 0 | AH49: 0 | AJ49: 0 | AL49: 0 | AN49: 0 | AP49: 0 | AR49: =D49+F49+H49+J49+L49+N49+P49+R49+T49+V49+X49+Z49+AB49+AD49+AF49+AH49+AJ49+AL49+AN49+AP49 -> 0
A50: ODC Description | D50: 0 | F50: 0 | H50: 0 | J50: 0 | L50: 0 | N50: 0 | P50: 0 | R50: 0 | T50: 0 | V50: 0 | X50: 0 | Z50: 0 | AB50: 0 | AD50: 0 | AF50: 0 | AH50: 0 | AJ50: 0 | AL50: 0 | AN50: 0 | AP50: 0 | AR50: =D50+F50+H50+J50+L50+N50+P50+R50+T50+V50+X50+Z50+AB50+AD50+AF50+AH50+AJ50+AL50+AN50+AP50 -> 0
A51: ODC Description | D51: 0 | F51: 0 | H51: 0 | J51: 0 | L51: 0 | N51: 0 | P51: 0 | R51: 0 | T51: 0 | V51: 0 | X51: 0 | Z51: 0 | AB51: 0 | AD51: 0 | AF51: 0 | AH51: 0 | AJ51: 0 | AL51: 0 | AN51: 0 | AP51: 0 | AR51: =D51+F51+H51+J51+L51+N51+P51+R51+T51+V51+X51+Z51+AB51+AD51+AF51+AH51+AJ51+AL51+AN51+AP51 -> 0
A52: ODC Description | D52: 0 | F52: 0 | H52: 0 | J52: 0 | L52: 0 | N52: 0 | P52: 0 | R52: 0 | T52: 0 | V52: 0 | X52: 0 | Z52: 0 | AB52: 0 | AD52: 0 | AF52: 0 | AH52: 0 | AJ52: 0 | AL52: 0 | AN52: 0 | AP52: 0 | AR52: =D52+F52+H52+J52+L52+N52+P52+R52+T52+V52+X52+Z52+AB52+AD52+AF52+AH52+AJ52+AL52+AN52+AP52 -> 0
A53: ODC Description | D53: 0 | F53: 0 | H53: 0 | J53: 0 | L53: 0 | N53: 0 | P53: 0 | R53: 0 | T53: 0 | V53: 0 | X53: 0 | Z53: 0 | AB53: 0 | AD53: 0 | AF53: 0 | AH53: 0 | AJ53: 0 | AL53: 0 | AN53: 0 | AP53: 0 | AR53: =D53+F53+H53+J53+L53+N53+P53+R53+T53+V53+X53+Z53+AB53+AD53+AF53+AH53+AJ53+AL53+AN53+AP53 -> 0
A54: ODC Description | D54: 0 | F54: 0 | H54: 0 | J54: 0 | L54: 0 | N54: 0 | P54: 0 | R54: 0 | T54: 0 | V54: 0 | X54: 0 | Z54: 0 | AB54: 0 | AD54: 0 | AF54: 0 | AH54: 0 | AJ54: 0 | AL54: 0 | AN54: 0 | AP54: 0 | AR54: =D54+F54+H54+J54+L54+N54+P54+R54+T54+V54+X54+Z54+AB54+AD54+AF54+AH54+AJ54+AL54+AN54+AP54 -> 0
A55: ODC Description | D55: 0 | F55: 0 | H55: 0 | J55: 0 | L55: 0 | N55: 0 | P55: 0 | R55: 0 | T55: 0 | V55: 0 | X55: 0 | Z55: 0 | AB55: 0 | AD55: 0 | AF55: 0 | AH55: 0 | AJ55: 0 | AL55: 0 | AN55: 0 | AP55: 0 | AR55: =D55+F55+H55+J55+L55+N55+P55+R55+T55+V55+X55+Z55+AB55+AD55+AF55+AH55+AJ55+AL55+AN55+AP55 -> 0
A56: ODC Description | D56: 0 | F56: 0 | H56: 0 | J56: 0 | L56: 0 | N56: 0 | P56: 0 | R56: 0 | T56: 0 | V56: 0 | X56: 0 | Z56: 0 | AB56: 0 | AD56: 0 | AF56: 0 | AH56: 0 | AJ56: 0 | AL56: 0 | AN56: 0 | AP56: 0 | AR56: =D56+F56+H56+J56+L56+N56+P56+R56+T56+V56+X56+Z56+AB56+AD56+AF56+AH56+AJ56+AL56+AN56+AP56 -> 0
A57: ODC Description | D57: 0 | F57: 0 | H57: 0 | J57: 0 | L57: 0 | N57: 0 | P57: 0 | R57: 0 | T57: 0 | V57: 0 | X57: 0 | Z57: 0 | AB57: 0 | AD57: 0 | AF57: 0 | AH57: 0 | AJ57: 0 | AL57: 0 | AN57: 0 | AP57: 0 | AR57: =D57+F57+H57+J57+L57+N57+P57+R57+T57+V57+X57+Z57+AB57+AD57+AF57+AH57+AJ57+AL57+AN57+AP57 -> 0
... A65: ODC Description | D65: 0 | F65: 0 | H65: 0 | J65: 0 | L65: 0 | N65: 0 | P65: 0 | R65: 0 | T65: 0 | V65: 0 | X65: 0 | Z65: 0 | AB65: 0 | AD65: 0 | AF65: 0 | AH65: 0 | AJ65: 0 | AL65: 0 | AN65: 0 | AP65: 0 | AR65: =D65+F65+H65+J65+L65+N65+P65+R65+T65+V65+X65+Z65+AB65+AD65+AF65+AH65+AJ65+AL65+AN65+AP65 -> 0
A66: Subtotal - ODC's | D66: =SUM(D45:D65) -> 0 | F66: =SUM(F45:F65) -> 0 | H66: =SUM(H45:H65) -> 0 | J66: =SUM(J45:J65) -> 0 | L66: =SUM(L45:L65) -> 0 | N66: =SUM(N45:N65) -> 0 | P66: =SUM(P45:P65) -> 0 | R66: =SUM(R45:R65) -> 0 | T66: =SUM(T45:T65) -> 0 | V66: =SUM(V45:V65) -> 0 | X66: =SUM(X45:X65) -> 0 | Z66: =SUM(Z45:Z65) -> 0 | AB66: =SUM(AB45:AB65) -> 0 | AD66: =SUM(AD45:AD65) -> 0 | AF66: =SUM(AF45:AF65) -> 0 | AH66: =SUM(AH45:AH65) -> 0 | AJ66: =SUM(AJ45:AJ65) -> 0 | AL66: =SUM(AL45:AL65) -> 0 | AN66: =SUM(AN45:AN65) -> 0 | AP66: =SUM(AP45:AP65) -> 0 | AR66: =SUM(AR45:AR65) -> 0
A67: Subconsultant(s)
AQ68: =C68+E68+G68+I68+K68+M68+O68+Q68+S68+U68+W68+Y68+AA68+AC68+AE68+AG68+AI68+AK68+AM68+AO68 -> 0 | AR68: =D68+F68+H68+J68+L68+N68+P68+R68+T68+V68+X68+Z68+AB68+AD68+AF68+AH68+AJ68+AL68+AN68+AP68 -> 0
AQ69: =C69+E69+G69+I69+K69+M69+O69+Q69+S69+U69+W69+Y69+AA69+AC69+AE69+AG69+AI69+AK69+AM69+AO69 -> 0 | AR69: =D69+F69+H69+J69+L69+N69+P69+R69+T69+V69+X69+Z69+AB69+AD69+AF69+AH69+AJ69+AL69+AN69+AP69 -> 0
A70: Subtotal - Subconsultant(s) | C70: =SUM(C67:C69) -> 0 | D70: =SUM(D67:D69) -> 0 | E70: =SUM(E67:E69) -> 0 | F70: =SUM(F67:F69) -> 0 | G70: =SUM(G67:G69) -> 0 | H70: =SUM(H67:H69) -> 0 | I70: =SUM(I67:I69) -> 0 | J70: =SUM(J67:J69) -> 0 | ... AR70: =SUM(AR67:AR69) -> 0
A72: GRAND TOTAL | C72: =C37+C42+C44+C66+C70 -> 0 | D72: =D37+D42+D44+D66+D70 -> 0 | E72: =E37+E42+E44+E66+E70 -> 0 | F72: =F37+F42+F44+F66+F70 -> 0 | G72: =G37+G42+G44+G66+G70 -> 0 | H72: =H37+H42+H44+H66+H70 -> 0 | I72: =I37+I42+I44+I66+I70 -> 0 | J72: =J37+J42+J44+J66+J70 -> 0 | ... AR72: =AR37+AR42+AR44+AR66+AR70 -> 0
A73: Check Totals | C73: =SUM(C12:C36)+SUM(C68:C69) -> 0 | D73: =SUM(D12:D36)+SUM(D39:D41)+D44+SUM(D46:D65)+SUM(D68:D69) -> 0 | E73: =SUM(E12:E36)+SUM(E68:E69) -> 0 | F73: =SUM(F12:F36)+SUM(F39:F41)+F44+SUM(F46:F65)+SUM(F68:F69) -> 0 | G73: =SUM(G12:G36)+SUM(G68:G69) -> 0 | H73: =SUM(H12:H36)+SUM(H39:H41)+H44+SUM(H46:H65)+SUM(H68:H69) -> 0 | I73: =SUM(I12:I36)+SUM(I68:I69) -> 0 | J73: =SUM(J12:J36)+SUM(J39:J41)+J44+SUM(J46:J65)+SUM(J68:J69) -> 0 | K73: =SUM(K12:K36)+SUM(K68:K69) -> 0 | L73: =SUM(L12:L36)+SUM(L39:L41)+L44+SUM(L46:L65)+SUM(L68:L69) -> 0 | M73: =SUM(M12:M36)+SUM(M68:M69) -> 0 | N73: =SUM(N12:N36)+SUM(N39:N41)+N44+SUM(N46:N65)+SUM(N68:N69) -> 0 | O73: =SUM(O12:O36)+SUM(O68:O69) -> 0 | P73: =SUM(P12:P36)+SUM(P39:P41)+P44+SUM(P46:P65)+SUM(P68:P69) -> 0 | Q73: =SUM(Q12:Q36)+SUM(Q68:Q69) -> 0 | R73: =SUM(R12:R36)+SUM(R39:R41)+R44+SUM(R46:R65)+SUM(R68:R69) -> 0 | S73: =SUM(S12:S36)+SUM(S68:S69) -> 0 | T73: =SUM(T12:T36)+SUM(T39:T41)+T44+SUM(T46:T65)+SUM(T68:T69) -> 0 | U73: =SUM(U12:U36)+SUM(U68:U69) -> 0 | V73: =SUM(V12:V36)+SUM(V39:V41)+V44+SUM(V46:V65)+SUM(V68:V69) -> 0 | W73: =SUM(W12:W36)+SUM(W68:W69) -> 0 | X73: =SUM(X12:X36)+SUM(X39:X41)+X44+SUM(X46:X65)+SUM(X68:X69) -> 0 | Y73: =SUM(Y12:Y36)+SUM(Y68:Y69) -> 0 | Z73: =SUM(Z12:Z36)+SUM(Z39:Z41)+Z44+SUM(Z46:Z65)+SUM(Z68:Z69) -> 0 | AA73: =SUM(AA12:AA36)+SUM(AA68:AA69) -> 0 | AB73: =SUM(AB12:AB36)+SUM(AB39:AB41)+AB44+SUM(AB46:AB65)+SUM(AB68:AB69) -> 0 | AC73: =SUM(AC12:AC36)+SUM(AC68:AC69) -> 0 | AD73: =SUM(AD12:AD36)+SUM(AD39:AD41)+AD44+SUM(AD46:AD65)+SUM(AD68:AD69) -> 0 | AE73: =SUM(AE12:AE36)+SUM(AE68:AE69) -> 0 | AF73: =SUM(AF12:AF36)+SUM(AF39:AF41)+AF44+SUM(AF46:AF65)+SUM(AF68:AF69) -> 0 | AG73: =SUM(AG12:AG36)+SUM(AG68:AG69) -> 0 | AH73: =SUM(AH12:AH36)+SUM(AH39:AH41)+AH44+SUM(AH46:AH65)+SUM(AH68:AH69) -> 0 | AI73: =SUM(AI12:AI36)+SUM(AI68:AI69) -> 0 | AJ73: =SUM(AJ12:AJ36)+SUM(AJ39:AJ41)+AJ44+SUM(AJ46:AJ65)+SUM(AJ68:AJ69) -> 0 | AK73: =SUM(AK12:AK36)+SUM(AK68:AK69) -> 0 | AL73: =SUM(AL12:AL36)+SUM(AL39:AL41)+AL44+SUM(AL46:AL65)+SUM(AL68:AL69) -> 0 | AM73: =SUM(AM12:AM36)+SUM(AM68:AM69) -> 0 | AN73: =SUM(AN12:AN36)+SUM(AN39:AN41)+AN44+SUM(AN46:AN65)+SUM(AN68:AN69) -> 0 | AO73: =SUM(AO12:AO36)+SUM(AO68:AO69) -> 0 | AP73: =SUM(AP12:AP36)+SUM(AP39:AP41)+AP44+SUM(AP46:AP65)+SUM(AP68:AP69) -> 0 | AQ73: =C73+E73+G73+I73+K73+M73+O73+Q73+S73+U73+W73+Y73+AA73+AC73+AE73+AG73+AI73+AK73+AM73+AO73 -> 0 | AR73: =D73+F73+H73+J73+L73+N73+P73+R73+T73+V73+X73+Z73+AB73+AD73+AF73+AH73+AJ73+AL73+AN73+AP73 -> 0
V74: Variance | AR74: =AR72-AR73 -> 0

Sheet Sub 6
A1: Sub 6 | E1: LINE ITEM BUDGET
A2: Address
A3: Address | H3: Title of Project: | R3: Title of Project: | S3: =I3 -> 0 | AB3: Title of Project: | AC3: =I3 -> 0 | AL3: Title of Project: | AM3: =S3 -> 0
A4: email
A5: Phone | H5: RFP Number: | R5: RFP Number: | S5: =I5 -> 0 | AB5: RFP Number: | AC5: =S5 -> 0 | AL5: RFP Number: | AM5: =AC5 -> 0
A7: (a) | B7: (b) | C7: (c) | D7: (d) | E7: (e) | F7: (f) | G7: (g) | H7: (h) | I7: (i) | J7: (j) | K7: (k) | L7: (l) | M7: (m) | N7: (n) | O7: (o) | P7: (p) | Q7: (q) | R7: (r) | S7: (s) | T7: (t) | U7: (u) | V7: (v) | W7: (w) | X7: (x) | Y7: (y) | Z7: (z) | AA7: (aa) | AB7: (ab) | AC7: (ac) | AD7: (ad) | AE7: (ae) | AF7: (af) | AG7: (ag) | AH7: (ah) | AI7: (ai) | AJ7: (aj) | AK7: (ak) | AL7: (al) | AM7: (am) | AN7: (an) | AO7: (ao) | AP7: (ap)
A8: Cost Categories | B8: Maximum Hourly Rate | C8: Task 1 | E8: Task 2 | G8: Task 3 | I8: Task 4 | K8: Task 5 | M8: Task 6 | O8: Task 7 | Q8: Task 8 | S8: Task 9 | U8: Task 10 | W8: Task 11 | Y8: Task 12 | AA8: Task 13 | AC8: Task 14 | AE8: Task 15 | AG8: Task 16 | AI8: Task 17 | AK8: Task 18 | AM8: Task 19 | AO8: Task 20 | AQ8: Grand Total (All Tasks)
C9: Task Name | E9: Task Name | G9: Task Name | I9: Task Name | K9: Task Name | M9: Task Name | O9: Task Name | Q9: Task Name | S9: Task Name | U9: Task Name | W9: Task Name | Y9: Task Name | AA9: Task Name | AC9: Task Name | AE9: Task Name | AG9: Task Name | AI9: Task Name | AK9: Task Name | AM9: Task Name | AO9: Task Name
C10: Hours | D10: Amount | E10: Hours | F10: Amount | G10: Hours | H10: Amount | I10: Hours | J10: Amount | K10: Hours | L10: Amount | M10: Hours | N10: Amount | O10: Hours | P10: Amount | Q10: Hours | R10: Amount | S10: Hours | T10: Amount | U10: Hours | V10: Amount | W10: Hours | X10: Amount | Y10: Hours | Z10: Amount | AA10: Hours | AB10: Amount | AC10: Hours | AD10: Amount | AE10: Hours | AF10: Amount | AG10: Hours | AH10: Amount | AI10: Hours | AJ10: Amount | AK10: Hours | AL10: Amount | AM10: Hours | AN10: Amount | AO10: Hours | AP10: Amount | AQ10: Hours | AR10: Amount
A11: Direct Labor Classification(s)
A12: Personnel Classification | C12: 0 | D12: =B12*C12 -> 0 | E12: 0 | F12: =$B12*E12 -> 0 | G12: 0 | H12: =$B12*G12 -> 0 | I12: 0 | J12: =$B12*I12 -> 0 | K12: 0 | L12: =$B12*K12 -> 0 | M12: 0 | N12: =$B12*M12 -> 0 | O12: 0 | P12: =$B12*O12 -> 0 | Q12: 0 | R12: =$B12*Q12 -> 0 | S12: 0 | T12: =$B12*S12 -> 0 | U12: 0 | V12: =$B12*U12 -> 0 | W12: 0 | X12: =$B12*W12 -> 0 | Y12: 0 | Z12: =$B12*Y12 -> 0 | AA12: 0 | AB12: =$B12*AA12 -> 0 | AC12: 0 | AD12: =$B12*AC12 -> 0 | AE12: 0 | AF12: =$B12*AE12 -> 0 | AG12: 0 | AH12: =$B12*AG12 -> 0 | AI12: 0 | AJ12: =$B12*AI12 -> 0 | AK12: 0 | AL12: =$B12*AK12 -> 0 | AM12: 0 | AN12: =$B12*AM12 -> 0 | AO12: 0 | AP12: =$B12*AO12 -> 0 | AQ12: =C12+E12+G12+I12+K12+M12+O12+Q12+S12+U12+W12+Y12+AA12+AC12+AE12+AG12+AI12+AK12+AM12+AO12 -> 0 | AR12: =D12+F12+H12+J12+L12+N12+P12+R12+T12+V12+X12+Z12+AB12+AD12+AF12+AH12+AJ12+AL12+AN12+AP12 -> 0
A13: Personnel Classification | C13: 0 | D13: =B13*C13 -> 0 | E13: 0 | F13: =$B13*E13 -> 0 | G13: 0 | H13: =$B13*G13 -> 0 | I13: 0 | J13: =$B13*I13 -> 0 | K13: 0 | L13: =$B13*K13 -> 0 | M13: 0 | N13: =$B13*M13 -> 0 | O13: 0 | P13: =$B13*O13 -> 0 | Q13: 0 | R13: =$B13*Q13 -> 0 | S13: 0 | T13: =$B13*S13 -> 0 | U13: 0 | V13: =$B13*U13 -> 0 | W13: 0 | X13: =$B13*W13 -> 0 | Y13: 0 | Z13: =$B13*Y13 -> 0 | AA13: 0 | AB13: =$B13*AA13 -> 0 | AC13: 0 | AD13: =$B13*AC13 -> 0 | AE13: 0 | AF13: =$B13*AE13 -> 0 | AG13: 0 | AH13: =$B13*AG13 -> 0 | AI13: 0 | AJ13: =$B13*AI13 -> 0 | AK13: 0 | AL13: =$B13*AK13 -> 0 | AM13: 0 | AN13: =$B13*AM13 -> 0 | AO13: 0 | AP13: =$B13*AO13 -> 0 | AQ13: =C13+E13+G13+I13+K13+M13+O13+Q13+S13+U13+W13+Y13+AA13+AC13+AE13+AG13+AI13+AK13+AM13+AO13 -> 0 | AR13: =D13+F13+H13+J13+L13+N13+P13+R13+T13+V13+X13+Z13+AB13+AD13+AF13+AH13+AJ13+AL13+AN13+AP13 -> 0
A14: Personnel Classification | C14: 0 | D14: =B14*C14 -> 0 | E14: 0 | F14: =$B14*E14 -> 0 | G14: 0 | H14: =$B14*G14 -> 0 | I14: 0 | J14: =$B14*I14 -> 0 | K14: 0 | L14: =$B14*K14 -> 0 | M14: 0 | N14: =$B14*M14 -> 0 | O14: 0 | P14: =$B14*O14 -> 0 | Q14: 0 | R14: =$B14*Q14 -> 0 | S14: 0 | T14: =$B14*S14 -> 0 | U14: 0 | V14: =$B14*U14 -> 0 | W14: 0 | X14: =$B14*W14 -> 0 | Y14: 0 | Z14: =$B14*Y14 -> 0 | AA14: 0 | AB14: =$B14*AA14 -> 0 | AC14: 0 | AD14: =$B14*AC14 -> 0 | AE14: 0 | AF14: =$B14*AE14 -> 0 | AG14: 0 | AH14: =$B14*AG14 -> 0 | AI14: 0 | AJ14: =$B14*AI14 -> 0 | AK14: 0 | AL14: =$B14*AK14 -> 0 | AM14: 0 | AN14: =$B14*AM14 -> 0 | AO14: 0 | AP14: =$B14*AO14 -> 0 | AQ14: =C14+E14+G14+I14+K14+M14+O14+Q14+S14+U14+W14+Y14+AA14+AC14+AE14+AG14+AI14+AK14+AM14+AO14 -> 0 | AR14: =D14+F14+H14+J14+L14+N14+P14+R14+T14+V14+X14+Z14+AB14+AD14+AF14+AH14+AJ14+AL14+AN14+AP14 -> 0
A15: Personnel Classification | C15: 0 | D15: =B15*C15 -> 0 | E15: 0 | F15: =$B15*E15 -> 0 | G15: 0 | H15: =$B15*G15 -> 0 | I15: 0 | J15: =$B15*I15 -> 0 | K15: 0 | L15: =$B15*K15 -> 0 | M15: 0 | N15: =$B15*M15 -> 0 | O15: 0 | P15: =$B15*O15 -> 0 | Q15: 0 | R15: =$B15*Q15 -> 0 | S15: 0 | T15: =$B15*S15 -> 0 | U15: 0 | V15: =$B15*U15 -> 0 | W15: 0 | X15: =$B15*W15 -> 0 | Y15: 0 | Z15: =$B15*Y15 -> 0 | AA15: 0 | AB15: =$B15*AA15 -> 0 | AC15: 0 | AD15: =$B15*AC15 -> 0 | AE15: 0 | AF15: =$B15*AE15 -> 0 | AG15: 0 | AH15: =$B15*AG15 -> 0 | AI15: 0 | AJ15: =$B15*AI15 -> 0 | AK15: 0 | AL15: =$B15*AK15 -> 0 | AM15: 0 | AN15: =$B15*AM15 -> 0 | AO15: 0 | AP15: =$B15*AO15 -> 0 | AQ15: =C15+E15+G15+I15+K15+M15+O15+Q15+S15+U15+W15+Y15+AA15+AC15+AE15+AG15+AI15+AK15+AM15+AO15 -> 0 | AR15: =D15+F15+H15+J15+L15+N15+P15+R15+T15+V15+X15+Z15+AB15+AD15+AF15+AH15+AJ15+AL15+AN15+AP15 -> 0
A16: Personnel Classification | C16: 0 | D16: =B16*C16 -> 0 | E16: 0 | F16: =$B16*E16 -> 0 | G16: 0 | H16: =$B16*G16 -> 0 | I16: 0 | J16: =$B16*I16 -> 0 | K16: 0 | L16: =$B16*K16 -> 0 | M16: 0 | N16: =$B16*M16 -> 0 | O16: 0 | P16: =$B16*O16 -> 0 | Q16: 0 | R16: =$B16*Q16 -> 0 | S16: 0 | T16: =$B16*S16 -> 0 | U16: 0 | V16: =$B16*U16 -> 0 | W16: 0 | X16: =$B16*W16 -> 0 | Y16: 0 | Z16: =$B16*Y16 -> 0 | AA16: 0 | AB16: =$B16*AA16 -> 0 | AC16: 0 | AD16: =$B16*AC16 -> 0 | AE16: 0 | AF16: =$B16*AE16 -> 0 | AG16: 0 | AH16: =$B16*AG16 -> 0 | AI16: 0 | AJ16: =$B16*AI16 -> 0 | AK16: 0 | AL16: =$B16*AK16 -> 0 | AM16: 0 | AN16: =$B16*AM16 -> 0 | AO16: 0 | AP16: =$B16*AO16 -> 0 | AQ16: =C16+E16+G16+I16+K16+M16+O16+Q16+S16+U16+W16+Y16+AA16+AC16+AE16+AG16+AI16+AK16+AM16+AO16 -> 0 | AR16: =D16+F16+H16+J16+L16+N16+P16+R16+T16+V16+X16+Z16+AB16+AD16+AF16+AH16+AJ16+AL16+AN16+AP16 -> 0
A17: Personnel Classification | C17: 0 | D17: =B17*C17 -> 0 | E17: 0 | F17: =$B17*E17 -> 0 | G17: 0 | H17: =$B17*G17 -> 0 | I17: 0 | J17: =$B17*I17 -> 0 | K17: 0 | L17: =$B17*K17 -> 0 | M17: 0 | N17: =$B17*M17 -> 0 | O17: 0 | P17: =$B17*O17 -> 0 | Q17: 0 | R17: =$B17*Q17 -> 0 | S17: 0 | T17: =$B17*S17 -> 0 | U17: 0 | V17: =$B17*U17 -> 0 | W17: 0 | X17: =$B17*W17 -> 0 | Y17: 0 | Z17: =$B17*Y17 -> 0 | AA17: 0 | AB17: =$B17*AA17 -> 0 | AC17: 0 | AD17: =$B17*AC17 -> 0 | AE17: 0 | AF17: =$B17*AE17 -> 0 | AG17: 0 | AH17: =$B17*AG17 -> 0 | AI17: 0 | AJ17: =$B17*AI17 -> 0 | AK17: 0 | AL17: =$B17*AK17 -> 0 | AM17: 0 | AN17: =$B17*AM17 -> 0 | AO17: 0 | AP17: =$B17*AO17 -> 0 | AQ17: =C17+E17+G17+I17+K17+M17+O17+Q17+S17+U17+W17+Y17+AA17+AC17+AE17+AG17+AI17+AK17+AM17+AO17 -> 0 | AR17: =D17+F17+H17+J17+L17+N17+P17+R17+T17+V17+X17+Z17+AB17+AD17+AF17+AH17+AJ17+AL17+AN17+AP17 -> 0
A18: Personnel Classification | C18: 0 | D18: =B18*C18 -> 0 | E18: 0 | F18: =$B18*E18 -> 0 | G18: 0 | H18: =$B18*G18 -> 0 | I18: 0 | J18: =$B18*I18 -> 0 | K18: 0 | L18: =$B18*K18 -> 0 | M18: 0 | N18: =$B18*M18 -> 0 | O18: 0 | P18: =$B18*O18 -> 0 | Q18: 0 | R18: =$B18*Q18 -> 0 | S18: 0 | T18: =$B18*S18 -> 0 | U18: 0 | V18: =$B18*U18 -> 0 | W18: 0 | X18: =$B18*W18 -> 0 | Y18: 0 | Z18: =$B18*Y18 -> 0 | AA18: 0 | AB18: =$B18*AA18 -> 0 | AC18: 0 | AD18: =$B18*AC18 -> 0 | AE18: 0 | AF18: =$B18*AE18 -> 0 | AG18: 0 | AH18: =$B18*AG18 -> 0 | AI18: 0 | AJ18: =$B18*AI18 -> 0 | AK18: 0 | AL18: =$B18*AK18 -> 0 | AM18: 0 | AN18: =$B18*AM18 -> 0 | AO18: 0 | AP18: =$B18*AO18 -> 0 | AQ18: =C18+E18+G18+I18+K18+M18+O18+Q18+S18+U18+W18+Y18+AA18+AC18+AE18+AG18+AI18+AK18+AM18+AO18 -> 0 | AR18: =D18+F18+H18+J18+L18+N18+P18+R18+T18+V18+X18+Z18+AB18+AD18+AF18+AH18+AJ18+AL18+AN18+AP18 -> 0
A19: Personnel Classification | C19: 0 | D19: =B19*C19 -> 0 | E19: 0 | F19: =$B19*E19 -> 0 | G19: 0 | H19: =$B19*G19 -> 0 | I19: 0 | J19: =$B19*I19 -> 0 | K19: 0 | L19: =$B19*K19 -> 0 | M19: 0 | N19: =$B19*M19 -> 0 | O19: 0 | P19: =$B19*O19 -> 0 | Q19: 0 | R19: =$B19*Q19 -> 0 | S19: 0 | T19: =$B19*S19 -> 0 | U19: 0 | V19: =$B19*U19 -> 0 | W19: 0 | X19: =$B19*W19 -> 0 | Y19: 0 | Z19: =$B19*Y19 -> 0 | AA19: 0 | AB19: =$B19*AA19 -> 0 | AC19: 0 | AD19: =$B19*AC19 -> 0 | AE19: 0 | AF19: =$B19*AE19 -> 0 | AG19: 0 | AH19: =$B19*AG19 -> 0 | AI19: 0 | AJ19: =$B19*AI19 -> 0 | AK19: 0 | AL19: =$B19*AK19 -> 0 | AM19: 0 | AN19: =$B19*AM19 -> 0 | AO19: 0 | AP19: =$B19*AO19 -> 0 | AQ19: =C19+E19+G19+I19+K19+M19+O19+Q19+S19+U19+W19+Y19+AA19+AC19+AE19+AG19+AI19+AK19+AM19+AO19 -> 0 | AR19: =D19+F19+H19+J19+L19+N19+P19+R19+T19+V19+X19+Z19+AB19+AD19+AF19+AH19+AJ19+AL19+AN19+AP19 -> 0
A20: Personnel Classification | C20: 0 | D20: =B20*C20 -> 0 | E20: 0 | F20: =$B20*E20 -> 0 | G20: 0 | H20: =$B20*G20 -> 0 | I20: 0 | J20: =$B20*I20 -> 0 | K20: 0 | L20: =$B20*K20 -> 0 | M20: 0 | N20: =$B20*M20 -> 0 | O20: 0 | P20: =$B20*O20 -> 0 | Q20: 0 | R20: =$B20*Q20 -> 0 | S20: 0 | T20: =$B20*S20 -> 0 | U20: 0 | V20: =$B20*U20 -> 0 | W20: 0 | X20: =$B20*W20 -> 0 | Y20: 0 | Z20: =$B20*Y20 -> 0 | AA20: 0 | AB20: =$B20*AA20 -> 0 | AC20: 0 | AD20: =$B20*AC20 -> 0 | AE20: 0 | AF20: =$B20*AE20 -> 0 | AG20: 0 | AH20: =$B20*AG20 -> 0 | AI20: 0 | AJ20: =$B20*AI20 -> 0 | AK20: 0 | AL20: =$B20*AK20 -> 0 | AM20: 0 | AN20: =$B20*AM20 -> 0 | AO20: 0 | AP20: =$B20*AO20 -> 0 | AQ20: =C20+E20+G20+I20+K20+M20+O20+Q20+S20+U20+W20+Y20+AA20+AC20+AE20+AG20+AI20+AK20+AM20+AO20 -> 0 | AR20: =D20+F20+H20+J20+L20+N20+P20+R20+T20+V20+X20+Z20+AB20+AD20+AF20+AH20+AJ20+AL20+AN20+AP20 -> 0
A21: Personnel Classification | C21: 0 | D21: =B21*C21 -> 0 | E21: 0 | F21: =$B21*E21 -> 0 | G21: 0 | H21: =$B21*G21 -> 0 | I21: 0 | J21: =$B21*I21 -> 0 | K21: 0 | L21: =$B21*K21 -> 0 | M21: 0 | N21: =$B21*M21 -> 0 | O21: 0 | P21: =$B21*O21 -> 0 | Q21: 0 | R21: =$B21*Q21 -> 0 | S21: 0 | T21: =$B21*S21 -> 0 | U21: 0 | V21: =$B21*U21 -> 0 | W21: 0 | X21: =$B21*W21 -> 0 | Y21: 0 | Z21: =$B21*Y21 -> 0 | AA21: 0 | AB21: =$B21*AA21 -> 0 | AC21: 0 | AD21: =$B21*AC21 -> 0 | AE21: 0 | AF21: =$B21*AE21 -> 0 | AG21: 0 | AH21: =$B21*AG21 -> 0 | AI21: 0 | AJ21: =$B21*AI21 -> 0 | AK21: 0 | AL21: =$B21*AK21 -> 0 | AM21: 0 | AN21: =$B21*AM21 -> 0 | AO21: 0 | AP21: =$B21*AO21 -> 0 | AQ21: =C21+E21+G21+I21+K21+M21+O21+Q21+S21+U21+W21+Y21+AA21+AC21+AE21+AG21+AI21+AK21+AM21+AO21 -> 0 | AR21: =D21+F21+H21+J21+L21+N21+P21+R21+T21+V21+X21+Z21+AB21+AD21+AF21+AH21+AJ21+AL21+AN21+AP21 -> 0
A22: Personnel Classification | C22: 0 | D22: =B22*C22 -> 0 | E22: 0 | F22: =$B22*E22 -> 0 | G22: 0 | H22: =$B22*G22 -> 0 | I22: 0 | J22: =$B22*I22 -> 0 | K22: 0 | L22: =$B22*K22 -> 0 | M22: 0 | N22: =$B22*M22 -> 0 | O22: 0 | P22: =$B22*O22 -> 0 | Q22: 0 | R22: =$B22*Q22 -> 0 | S22: 0 | T22: =$B22*S22 -> 0 | U22: 0 | V22: =$B22*U22 -> 0 | W22: 0 | X22: =$B22*W22 -> 0 | Y22: 0 | Z22: =$B22*Y22 -> 0 | AA22: 0 | AB22: =$B22*AA22 -> 0 | AC22: 0 | AD22: =$B22*AC22 -> 0 | AE22: 0 | AF22: =$B22*AE22 -> 0 | AG22: 0 | AH22: =$B22*AG22 -> 0 | AI22: 0 | AJ22: =$B22*AI22 -> 0 | AK22: 0 | AL22: =$B22*AK22 -> 0 | AM22: 0 | AN22: =$B22*AM22 -> 0 | AO22: 0 | AP22: =$B22*AO22 -> 0 | AQ22: =C22+E22+G22+I22+K22+M22+O22+Q22+S22+U22+W22+Y22+AA22+AC22+AE22+AG22+AI22+AK22+AM22+AO22 -> 0 | AR22: =D22+F22+H22+J22+L22+N22+P22+R22+T22+V22+X22+Z22+AB22+AD22+AF22+AH22+AJ22+AL22+AN22+AP22 -> 0
A23: Personnel Classification | C23: 0 | D23: =B23*C23 -> 0 | E23: 0 | F23: =$B23*E23 -> 0 | G23: 0 | H23: =$B23*G23 -> 0 | I23: 0 | J23: =$B23*I23 -> 0 | K23: 0 | L23: =$B23*K23 -> 0 | M23: 0 | N23: =$B23*M23 -> 0 | O23: 0 | P23: =$B23*O23 -> 0 | Q23: 0 | R23: =$B23*Q23 -> 0 | S23: 0 | T23: =$B23*S23 -> 0 | U23: 0 | V23: =$B23*U23 -> 0 | W23: 0 | X23: =$B23*W23 -> 0 | Y23: 0 | Z23: =$B23*Y23 -> 0 | AA23: 0 | AB23: =$B23*AA23 -> 0 | AC23: 0 | AD23: =$B23*AC23 -> 0 | AE23: 0 | AF23: =$B23*AE23 -> 0 | AG23: 0 | AH23: =$B23*AG23 -> 0 | AI23: 0 | AJ23: =$B23*AI23 -> 0 | AK23: 0 | AL23: =$B23*AK23 -> 0 | AM23: 0 | AN23: =$B23*AM23 -> 0 | AO23: 0 | AP23: =$B23*AO23 -> 0 | AQ23: =C23+E23+G23+I23+K23+M23+O23+Q23+S23+U23+W23+Y23+AA23+AC23+AE23+AG23+AI23+AK23+AM23+AO23 -> 0 | AR23: =D23+F23+H23+J23+L23+N23+P23+R23+T23+V23+X23+Z23+AB23+AD23+AF23+AH23+AJ23+AL23+AN23+AP23 -> 0
... A36: Personnel Classification | C36: 0 | D36: =B36*C36 -> 0 | E36: 0 | F36: =$B36*E36 -> 0 | G36: 0 | H36: =$B36*G36 -> 0 | I36: 0 | J36: =$B36*I36 -> 0 | K36: 0 | L36: =$B36*K36 -> 0 | M36: 0 | N36: =$B36*M36 -> 0 | O36: 0 | P36: =$B36*O36 -> 0 | Q36: 0 | R36: =$B36*Q36 -> 0 | S36: 0 | T36: =$B36*S36 -> 0 | U36: 0 | V36: =$B36*U36 -> 0 | W36: 0 | X36: =$B36*W36 -> 0 | Y36: 0 | Z36: =$B36*Y36 -> 0 | AA36: 0 | AB36: =$B36*AA36 -> 0 | AC36: 0 | AD36: =$B36*AC36 -> 0 | AE36: 0 | AF36: =$B36*AE36 -> 0 | AG36: 0 | AH36: =$B36*AG36 -> 0 | AI36: 0 | AJ36: =$B36*AI36 -> 0 | AK36: 0 | AL36: =$B36*AK36 -> 0 | AM36: 0 | AN36: =$B36*AM36 -> 0 | AO36: 0 | AP36: =$B36*AO36 -> 0 | AQ36: =C36+E36+G36+I36+K36+M36+O36+Q36+S36+U36+W36+Y36+AA36+AC36+AE36+AG36+AI36+AK36+AM36+AO36 -> 0 | AR36: =D36+F36+H36+J36+L36+N36+P36+R36+T36+V36+X36+Z36+AB36+AD36+AF36+AH36+AJ36+AL36+AN36+AP36 -> 0
A37: Subtotal - Direct Labor | C37: =SUM(C11:C36) -> 0 | D37: =SUM(D11:D36) -> 0 | E37: =SUM(E11:E36) -> 0 | F37: =SUM(F11:F36) -> 0 | G37: =SUM(G11:G36) -> 0 | H37: =SUM(H11:H36) -> 0 | I37: =SUM(I11:I36) -> 0 | J37: =SUM(J11:J36) -> 0 | ... AR37: =SUM(AR11:AR36) -> 0
A38: Overhead & Fringe (inc. G & A)
A39: Overhead | B39: 0 | D39: =D37*$B39 -> 0 | F39: =F37*$B39 -> 0 | H39: =H37*$B39 -> 0 | J39: =J37*$B39 -> 0 | L39: =L37*$B39 -> 0 | N39: =N37*$B39 -> 0 | P39: =P37*$B39 -> 0 | R39: =R37*$B39 -> 0 | T39: =T37*$B39 -> 0 | V39: =V37*$B39 -> 0 | X39: =X37*$B39 -> 0 | Z39: =Z37*$B39 -> 0 | AB39: =AB37*$B39 -> 0 | AD39: =AD37*$B39 -> 0 | AF39: =AF37*$B39 -> 0 | AH39: =AH37*$B39 -> 0 | AJ39: =AJ37*$B39 -> 0 | AL39: =AL37*$B39 -> 0 | AN39: =AN37*$B39 -> 0 | AP39: =AP37*$B39 -> 0 | AR39: =D39+F39+H39+J39+L39+N39+P39+R39+T39+V39+X39+Z39+AB39+AD39+AF39+AH39+AJ39+AL39+AN39+AP39 -> 0
A40: Fringe | B40: 0 | D40: =$B40*D37 -> 0 | F40: =$B40*F37 -> 0 | H40: =$B40*H37 -> 0 | J40: =$B40*J37 -> 0 | L40: =$B40*L37 -> 0 | N40: =$B40*N37 -> 0 | P40: =$B40*P37 -> 0 | R40: =$B40*R37 -> 0 | T40: =$B40*T37 -> 0 | V40: =$B40*V37 -> 0 | X40: =$B40*X37 -> 0 | Z40: =$B40*Z37 -> 0 | AB40: =$B40*AB37 -> 0 | AD40: =$B40*AD37 -> 0 | AF40: =$B40*AF37 -> 0 | AH40: =$B40*AH37 -> 0 | AJ40: =$B40*AJ37 -> 0 | AL40: =$B40*AL37 -> 0 | AN40: =$B40*AN37 -> 0 | AP40: =$B40*AP37 -> 0 | AR40: =D40+F40+H40+J40+L40+N40+P40+R40+T40+V40+X40+Z40+AB40+AD40+AF40+AH40+AJ40+AL40+AN40+AP40 -> 0
AR41: =D41+F41+H41+J41+L41+N41+P41+R41+T41+V41+X41+Z41+AB41+AD41+AF41+AH41+AJ41+AL41+AN41+AP41 -> 0
A42: Subtotal - Overhead & Fringe (inc. G & A) | D42: =SUM(D38:D41) -> 0 | F42: =SUM(F38:F41) -> 0 | H42: =SUM(H38:H41) -> 0 | J42: =SUM(J38:J41) -> 0 | L42: =SUM(L38:L41) -> 0 | N42: =SUM(N38:N41) -> 0 | P42: =SUM(P38:P41) -> 0 | R42: =SUM(R38:R41) -> 0 | T42: =SUM(T38:T41) -> 0 | V42: =SUM(V38:V41) -> 0 | X42: =SUM(X38:X41) -> 0 | Z42: =SUM(Z38:Z41) -> 0 | AB42: =SUM(AB38:AB41) -> 0 | AD42: =SUM(AD38:AD41) -> 0 | AF42: =SUM(AF38:AF41) -> 0 | AH42: =SUM(AH38:AH41) -> 0 | AJ42: =SUM(AJ38:AJ41) -> 0 | AL42: =SUM(AL38:AL41) -> 0 | AN42: =SUM(AN38:AN41) -> 0 | AP42: =SUM(AP38:AP41) -> 0 | AR42: =SUM(AR38:AR41) -> 0
A43: Fixed Fee
A44: Fixed Fee | B44: 0 | D44: =$B44*(D37+D42) -> 0 | F44: =$B44*(F37+F42) -> 0 | H44: =$B44*(H37+H42) -> 0 | J44: =$B44*(J37+J42) -> 0 | L44: =$B44*(L37+L42) -> 0 | N44: =$B44*(N37+N42) -> 0 | P44: =$B44*(P37+P42) -> 0 | R44: =$B44*(R37+R42) -> 0 | T44: =$B44*(T37+T42) -> 0 | V44: =$B44*(V37+V42) -> 0 | X44: =$B44*(X37+X42) -> 0 | Z44: =$B44*(Z37+Z42) -> 0 | AB44: =$B44*(AB37+AB42) -> 0 | AD44: =$B44*(AD37+AD42) -> 0 | AF44: =$B44*(AF37+AF42) -> 0 | AH44: =$B44*(AH37+AH42) -> 0 | AJ44: =$B44*(AJ37+AJ42) -> 0 | AL44: =$B44*(AL37+AL42) -> 0 | AN44: =$B44*(AN37+AN42) -> 0 | AP44: =$B44*(AP37+AP42) -> 0 | AR44: =D44+F44+H44+J44+L44+N44+P44+R44+T44+V44+X44+Z44+AB44+AD44+AF44 -> 0
A45: Other Direct Costs (ODC's)
A46: Travel | D46: 0 | F46: 0 | H46: 0 | J46: 0 | L46: 0 | N46: 0 | P46: 0 | R46: 0 | T46: 0 | V46: 0 | X46: 0 | Z46: 0 | AB46: 0 | AD46: 0 | AF46: 0 | AH46: 0 | AJ46: 0 | AL46: 0 | AN46: 0 | AP46: 0 | AR46: =D46+F46+H46+J46+L46+N46+P46+R46+T46+V46+X46+Z46+AB46+AD46+AF46+AH46+AJ46+AL46+AN46+AP46 -> 0
A47: Printing - Directly Chargeable only | D47: 0 | F47: 0 | H47: 0 | J47: 0 | L47: 0 | N47: 0 | P47: 0 | R47: 0 | T47: 0 | V47: 0 | X47: 0 | Z47: 0 | AB47: 0 | AD47: 0 | AF47: 0 | AH47: 0 | AJ47: 0 | AL47: 0 | AN47: 0 | AP47: 0 | AR47: =D47+F47+H47+J47+L47+N47+P47+R47+T47+V47+X47+Z47+AB47+AD47+AF47+AH47+AJ47+AL47+AN47+AP47 -> 0
A48: Supplies & Materials - Directly Chargeable only | D48: 0 | F48: 0 | H48: 0 | J48: 0 | L48: 0 | N48: 0 | P48: 0 | R48: 0 | T48: 0 | V48: 0 | X48: 0 | Z48: 0 | AB48: 0 | AD48: 0 | AF48: 0 | AH48: 0 | AJ48: 0 | AL48: 0 | AN48: 0 | AP48: 0 | AR48: =D48+F48+H48+J48+L48+N48+P48+R48+T48+V48+X48+Z48+AB48+AD48+AF48+AH48+AJ48+AL48+AN48+AP48 -> 0
A49: ODC Description | D49: 0 | F49: 0 | H49: 0 | J49: 0 | L49: 0 | N49: 0 | P49: 0 | R49: 0 | T49: 0 | V49: 0 | X49: 0 | Z49: 0 | AB49: 0 | AD49: 0 | AF49: 0 | AH49: 0 | AJ49: 0 | AL49: 0 | AN49: 0 | AP49: 0 | AR49: =D49+F49+H49+J49+L49+N49+P49+R49+T49+V49+X49+Z49+AB49+AD49+AF49+AH49+AJ49+AL49+AN49+AP49 -> 0
A50: ODC Description | D50: 0 | F50: 0 | H50: 0 | J50: 0 | L50: 0 | N50: 0 | P50: 0 | R50: 0 | T50: 0 | V50: 0 | X50: 0 | Z50: 0 | AB50: 0 | AD50: 0 | AF50: 0 | AH50: 0 | AJ50: 0 | AL50: 0 | AN50: 0 | AP50: 0 | AR50: =D50+F50+H50+J50+L50+N50+P50+R50+T50+V50+X50+Z50+AB50+AD50+AF50+AH50+AJ50+AL50+AN50+AP50 -> 0
A51: ODC Description | D51: 0 | F51: 0 | H51: 0 | J51: 0 | L51: 0 | N51: 0 | P51: 0 | R51: 0 | T51: 0 | V51: 0 | X51: 0 | Z51: 0 | AB51: 0 | AD51: 0 | AF51: 0 | AH51: 0 | AJ51: 0 | AL51: 0 | AN51: 0 | AP51: 0 | AR51: =D51+F51+H51+J51+L51+N51+P51+R51+T51+V51+X51+Z51+AB51+AD51+AF51+AH51+AJ51+AL51+AN51+AP51 -> 0
A52: ODC Description | D52: 0 | F52: 0 | H52: 0 | J52: 0 | L52: 0 | N52: 0 | P52: 0 | R52: 0 | T52: 0 | V52: 0 | X52: 0 | Z52: 0 | AB52: 0 | AD52: 0 | AF52: 0 | AH52: 0 | AJ52: 0 | AL52: 0 | AN52: 0 | AP52: 0 | AR52: =D52+F52+H52+J52+L52+N52+P52+R52+T52+V52+X52+Z52+AB52+AD52+AF52+AH52+AJ52+AL52+AN52+AP52 -> 0
A53: ODC Description | D53: 0 | F53: 0 | H53: 0 | J53: 0 | L53: 0 | N53: 0 | P53: 0 | R53: 0 | T53: 0 | V53: 0 | X53: 0 | Z53: 0 | AB53: 0 | AD53: 0 | AF53: 0 | AH53: 0 | AJ53: 0 | AL53: 0 | AN53: 0 | AP53: 0 | AR53: =D53+F53+H53+J53+L53+N53+P53+R53+T53+V53+X53+Z53+AB53+AD53+AF53+AH53+AJ53+AL53+AN53+AP53 -> 0
A54: ODC Description | D54: 0 | F54: 0 | H54: 0 | J54: 0 | L54: 0 | N54: 0 | P54: 0 | R54: 0 | T54: 0 | V54: 0 | X54: 0 | Z54: 0 | AB54: 0 | AD54: 0 | AF54: 0 | AH54: 0 | AJ54: 0 | AL54: 0 | AN54: 0 | AP54: 0 | AR54: =D54+F54+H54+J54+L54+N54+P54+R54+T54+V54+X54+Z54+AB54+AD54+AF54+AH54+AJ54+AL54+AN54+AP54 -> 0
A55: ODC Description | D55: 0 | F55: 0 | H55: 0 | J55: 0 | L55: 0 | N55: 0 | P55: 0 | R55: 0 | T55: 0 | V55: 0 | X55: 0 | Z55: 0 | AB55: 0 | AD55: 0 | AF55: 0 | AH55: 0 | AJ55: 0 | AL55: 0 | AN55: 0 | AP55: 0 | AR55: =D55+F55+H55+J55+L55+N55+P55+R55+T55+V55+X55+Z55+AB55+AD55+AF55+AH55+AJ55+AL55+AN55+AP55 -> 0
A56: ODC Description | D56: 0 | F56: 0 | H56: 0 | J56: 0 | L56: 0 | N56: 0 | P56: 0 | R56: 0 | T56: 0 | V56: 0 | X56: 0 | Z56: 0 | AB56: 0 | AD56: 0 | AF56: 0 | AH56: 0 | AJ56: 0 | AL56: 0 | AN56: 0 | AP56: 0 | AR56: =D56+F56+H56+J56+L56+N56+P56+R56+T56+V56+X56+Z56+AB56+AD56+AF56+AH56+AJ56+AL56+AN56+AP56 -> 0
A57: ODC Description | D57: 0 | F57: 0 | H57: 0 | J57: 0 | L57: 0 | N57: 0 | P57: 0 | R57: 0 | T57: 0 | V57: 0 | X57: 0 | Z57: 0 | AB57: 0 | AD57: 0 | AF57: 0 | AH57: 0 | AJ57: 0 | AL57: 0 | AN57: 0 | AP57: 0 | AR57: =D57+F57+H57+J57+L57+N57+P57+R57+T57+V57+X57+Z57+AB57+AD57+AF57+AH57+AJ57+AL57+AN57+AP57 -> 0
... A65: ODC Description | D65: 0 | F65: 0 | H65: 0 | J65: 0 | L65: 0 | N65: 0 | P65: 0 | R65: 0 | T65: 0 | V65: 0 | X65: 0 | Z65: 0 | AB65: 0 | AD65: 0 | AF65: 0 | AH65: 0 | AJ65: 0 | AL65: 0 | AN65: 0 | AP65: 0 | AR65: =D65+F65+H65+J65+L65+N65+P65+R65+T65+V65+X65+Z65+AB65+AD65+AF65+AH65+AJ65+AL65+AN65+AP65 -> 0
A66: Subtotal - ODC's | D66: =SUM(D45:D65) -> 0 | F66: =SUM(F45:F65) -> 0 | H66: =SUM(H45:H65) -> 0 | J66: =SUM(J45:J65) -> 0 | L66: =SUM(L45:L65) -> 0 | N66: =SUM(N45:N65) -> 0 | P66: =SUM(P45:P65) -> 0 | R66: =SUM(R45:R65) -> 0 | T66: =SUM(T45:T65) -> 0 | V66: =SUM(V45:V65) -> 0 | X66: =SUM(X45:X65) -> 0 | Z66: =SUM(Z45:Z65) -> 0 | AB66: =SUM(AB45:AB65) -> 0 | AD66: =SUM(AD45:AD65) -> 0 | AF66: =SUM(AF45:AF65) -> 0 | AH66: =SUM(AH45:AH65) -> 0 | AJ66: =SUM(AJ45:AJ65) -> 0 | AL66: =SUM(AL45:AL65) -> 0 | AN66: =SUM(AN45:AN65) -> 0 | AP66: =SUM(AP45:AP65) -> 0 | AR66: =SUM(AR45:AR65) -> 0
A67: Subconsultant(s)
AQ68: =C68+E68+G68+I68+K68+M68+O68+Q68+S68+U68+W68+Y68+AA68+AC68+AE68+AG68+AI68+AK68+AM68+AO68 -> 0 | AR68: =D68+F68+H68+J68+L68+N68+P68+R68+T68+V68+X68+Z68+AB68+AD68+AF68+AH68+AJ68+AL68+AN68+AP68 -> 0
AQ69: =C69+E69+G69+I69+K69+M69+O69+Q69+S69+U69+W69+Y69+AA69+AC69+AE69+AG69+AI69+AK69+AM69+AO69 -> 0 | AR69: =D69+F69+H69+J69+L69+N69+P69+R69+T69+V69+X69+Z69+AB69+AD69+AF69+AH69+AJ69+AL69+AN69+AP69 -> 0
A70: Subtotal - Subconsultant(s) | C70: =SUM(C67:C69) -> 0 | D70: =SUM(D67:D69) -> 0 | E70: =SUM(E67:E69) -> 0 | F70: =SUM(F67:F69) -> 0 | G70: =SUM(G67:G69) -> 0 | H70: =SUM(H67:H69) -> 0 | I70: =SUM(I67:I69) -> 0 | J70: =SUM(J67:J69) -> 0 | ... AR70: =SUM(AR67:AR69) -> 0
A72: GRAND TOTAL | C72: =C37+C42+C44+C66+C70 -> 0 | D72: =D37+D42+D44+D66+D70 -> 0 | E72: =E37+E42+E44+E66+E70 -> 0 | F72: =F37+F42+F44+F66+F70 -> 0 | G72: =G37+G42+G44+G66+G70 -> 0 | H72: =H37+H42+H44+H66+H70 -> 0 | I72: =I37+I42+I44+I66+I70 -> 0 | J72: =J37+J42+J44+J66+J70 -> 0 | ... AR72: =AR37+AR42+AR44+AR66+AR70 -> 0
A73: Check Totals | C73: =SUM(C12:C36)+SUM(C68:C69) -> 0 | D73: =SUM(D12:D36)+SUM(D39:D41)+D44+SUM(D46:D65)+SUM(D68:D69) -> 0 | E73: =SUM(E12:E36)+SUM(E68:E69) -> 0 | F73: =SUM(F12:F36)+SUM(F39:F41)+F44+SUM(F46:F65)+SUM(F68:F69) -> 0 | G73: =SUM(G12:G36)+SUM(G68:G69) -> 0 | H73: =SUM(H12:H36)+SUM(H39:H41)+H44+SUM(H46:H65)+SUM(H68:H69) -> 0 | I73: =SUM(I12:I36)+SUM(I68:I69) -> 0 | J73: =SUM(J12:J36)+SUM(J39:J41)+J44+SUM(J46:J65)+SUM(J68:J69) -> 0 | K73: =SUM(K12:K36)+SUM(K68:K69) -> 0 | L73: =SUM(L12:L36)+SUM(L39:L41)+L44+SUM(L46:L65)+SUM(L68:L69) -> 0 | M73: =SUM(M12:M36)+SUM(M68:M69) -> 0 | N73: =SUM(N12:N36)+SUM(N39:N41)+N44+SUM(N46:N65)+SUM(N68:N69) -> 0 | O73: =SUM(O12:O36)+SUM(O68:O69) -> 0 | P73: =SUM(P12:P36)+SUM(P39:P41)+P44+SUM(P46:P65)+SUM(P68:P69) -> 0 | Q73: =SUM(Q12:Q36)+SUM(Q68:Q69) -> 0 | R73: =SUM(R12:R36)+SUM(R39:R41)+R44+SUM(R46:R65)+SUM(R68:R69) -> 0 | S73: =SUM(S12:S36)+SUM(S68:S69) -> 0 | T73: =SUM(T12:T36)+SUM(T39:T41)+T44+SUM(T46:T65)+SUM(T68:T69) -> 0 | U73: =SUM(U12:U36)+SUM(U68:U69) -> 0 | V73: =SUM(V12:V36)+SUM(V39:V41)+V44+SUM(V46:V65)+SUM(V68:V69) -> 0 | W73: =SUM(W12:W36)+SUM(W68:W69) -> 0 | X73: =SUM(X12:X36)+SUM(X39:X41)+X44+SUM(X46:X65)+SUM(X68:X69) -> 0 | Y73: =SUM(Y12:Y36)+SUM(Y68:Y69) -> 0 | Z73: =SUM(Z12:Z36)+SUM(Z39:Z41)+Z44+SUM(Z46:Z65)+SUM(Z68:Z69) -> 0 | AA73: =SUM(AA12:AA36)+SUM(AA68:AA69) -> 0 | AB73: =SUM(AB12:AB36)+SUM(AB39:AB41)+AB44+SUM(AB46:AB65)+SUM(AB68:AB69) -> 0 | AC73: =SUM(AC12:AC36)+SUM(AC68:AC69) -> 0 | AD73: =SUM(AD12:AD36)+SUM(AD39:AD41)+AD44+SUM(AD46:AD65)+SUM(AD68:AD69) -> 0 | AE73: =SUM(AE12:AE36)+SUM(AE68:AE69) -> 0 | AF73: =SUM(AF12:AF36)+SUM(AF39:AF41)+AF44+SUM(AF46:AF65)+SUM(AF68:AF69) -> 0 | AG73: =SUM(AG12:AG36)+SUM(AG68:AG69) -> 0 | AH73: =SUM(AH12:AH36)+SUM(AH39:AH41)+AH44+SUM(AH46:AH65)+SUM(AH68:AH69) -> 0 | AI73: =SUM(AI12:AI36)+SUM(AI68:AI69) -> 0 | AJ73: =SUM(AJ12:AJ36)+SUM(AJ39:AJ41)+AJ44+SUM(AJ46:AJ65)+SUM(AJ68:AJ69) -> 0 | AK73: =SUM(AK12:AK36)+SUM(AK68:AK69) -> 0 | AL73: =SUM(AL12:AL36)+SUM(AL39:AL41)+AL44+SUM(AL46:AL65)+SUM(AL68:AL69) -> 0 | AM73: =SUM(AM12:AM36)+SUM(AM68:AM69) -> 0 | AN73: =SUM(AN12:AN36)+SUM(AN39:AN41)+AN44+SUM(AN46:AN65)+SUM(AN68:AN69) -> 0 | AO73: =SUM(AO12:AO36)+SUM(AO68:AO69) -> 0 | AP73: =SUM(AP12:AP36)+SUM(AP39:AP41)+AP44+SUM(AP46:AP65)+SUM(AP68:AP69) -> 0 | AQ73: =C73+E73+G73+I73+K73+M73+O73+Q73+S73+U73+W73+Y73+AA73+AC73+AE73+AG73+AI73+AK73+AM73+AO73 -> 0 | AR73: =D73+F73+H73+J73+L73+N73+P73+R73+T73+V73+X73+Z73+AB73+AD73+AF73+AH73+AJ73+AL73+AN73+AP73 -> 0
V74: Variance | AR74: =AR72-AR73 -> 0

Sheet Sub 7
A1: Sub 7 | E1: LINE ITEM BUDGET
A2: Address
A3: Address | H3: Title of Project: | R3: Title of Project: | S3: =I3 -> 0 | AB3: Title of Project: | AC3: =I3 -> 0 | AL3: Title of Project: | AM3: =S3 -> 0
A4: email
A5: Phone | H5: RFP Number: | R5: RFP Number: | S5: =I5 -> 0 | AB5: RFP Number: | AC5: =S5 -> 0 | AL5: RFP Number: | AM5: =AC5 -> 0
A7: (a) | B7: (b) | C7: (c) | D7: (d) | E7: (e) | F7: (f) | G7: (g) | H7: (h) | I7: (i) | J7: (j) | K7: (k) | L7: (l) | M7: (m) | N7: (n) | O7: (o) | P7: (p) | Q7: (q) | R7: (r) | S7: (s) | T7: (t) | U7: (u) | V7: (v) | W7: (w) | X7: (x) | Y7: (y) | Z7: (z) | AA7: (aa) | AB7: (ab) | AC7: (ac) | AD7: (ad) | AE7: (ae) | AF7: (af) | AG7: (ag) | AH7: (ah) | AI7: (ai) | AJ7: (aj) | AK7: (ak) | AL7: (al) | AM7: (am) | AN7: (an) | AO7: (ao) | AP7: (ap)
A8: Cost Categories | B8: Maximum Hourly Rate | C8: Task 1 | E8: Task 2 | G8: Task 3 | I8: Task 4 | K8: Task 5 | M8: Task 6 | O8: Task 7 | Q8: Task 8 | S8: Task 9 | U8: Task 10 | W8: Task 11 | Y8: Task 12 | AA8: Task 13 | AC8: Task 14 | AE8: Task 15 | AG8: Task 16 | AI8: Task 17 | AK8: Task 18 | AM8: Task 19 | AO8: Task 20 | AQ8: Grand Total (All Tasks)
C9: Task Name | E9: Task Name | G9: Task Name | I9: Task Name | K9: Task Name | M9: Task Name | O9: Task Name | Q9: Task Name | S9: Task Name | U9: Task Name | W9: Task Name | Y9: Task Name | AA9: Task Name | AC9: Task Name | AE9: Task Name | AG9: Task Name | AI9: Task Name | AK9: Task Name | AM9: Task Name | AO9: Task Name
C10: Hours | D10: Amount | E10: Hours | F10: Amount | G10: Hours | H10: Amount | I10: Hours | J10: Amount | K10: Hours | L10: Amount | M10: Hours | N10: Amount | O10: Hours | P10: Amount | Q10: Hours | R10: Amount | S10: Hours | T10: Amount | U10: Hours | V10: Amount | W10: Hours | X10: Amount | Y10: Hours | Z10: Amount | AA10: Hours | AB10: Amount | AC10: Hours | AD10: Amount | AE10: Hours | AF10: Amount | AG10: Hours | AH10: Amount | AI10: Hours | AJ10: Amount | AK10: Hours | AL10: Amount | AM10: Hours | AN10: Amount | AO10: Hours | AP10: Amount | AQ10: Hours | AR10: Amount
A11: Direct Labor Classification(s)
A12: Personnel Classification | C12: 0 | D12: =B12*C12 -> 0 | E12: 0 | F12: =$B12*E12 -> 0 | G12: 0 | H12: =$B12*G12 -> 0 | I12: 0 | J12: =$B12*I12 -> 0 | K12: 0 | L12: =$B12*K12 -> 0 | M12: 0 | N12: =$B12*M12 -> 0 | O12: 0 | P12: =$B12*O12 -> 0 | Q12: 0 | R12: =$B12*Q12 -> 0 | S12: 0 | T12: =$B12*S12 -> 0 | U12: 0 | V12: =$B12*U12 -> 0 | W12: 0 | X12: =$B12*W12 -> 0 | Y12: 0 | Z12: =$B12*Y12 -> 0 | AA12: 0 | AB12: =$B12*AA12 -> 0 | AC12: 0 | AD12: =$B12*AC12 -> 0 | AE12: 0 | AF12: =$B12*AE12 -> 0 | AG12: 0 | AH12: =$B12*AG12 -> 0 | AI12: 0 | AJ12: =$B12*AI12 -> 0 | AK12: 0 | AL12: =$B12*AK12 -> 0 | AM12: 0 | AN12: =$B12*AM12 -> 0 | AO12: 0 | AP12: =$B12*AO12 -> 0 | AQ12: =C12+E12+G12+I12+K12+M12+O12+Q12+S12+U12+W12+Y12+AA12+AC12+AE12+AG12+AI12+AK12+AM12+AO12 -> 0 | AR12: =D12+F12+H12+J12+L12+N12+P12+R12+T12+V12+X12+Z12+AB12+AD12+AF12+AH12+AJ12+AL12+AN12+AP12 -> 0
A13: Personnel Classification | C13: 0 | D13: =B13*C13 -> 0 | E13: 0 | F13: =$B13*E13 -> 0 | G13: 0 | H13: =$B13*G13 -> 0 | I13: 0 | J13: =$B13*I13 -> 0 | K13: 0 | L13: =$B13*K13 -> 0 | M13: 0 | N13: =$B13*M13 -> 0 | O13: 0 | P13: =$B13*O13 -> 0 | Q13: 0 | R13: =$B13*Q13 -> 0 | S13: 0 | T13: =$B13*S13 -> 0 | U13: 0 | V13: =$B13*U13 -> 0 | W13: 0 | X13: =$B13*W13 -> 0 | Y13: 0 | Z13: =$B13*Y13 -> 0 | AA13: 0 | AB13: =$B13*AA13 -> 0 | AC13: 0 | AD13: =$B13*AC13 -> 0 | AE13: 0 | AF13: =$B13*AE13 -> 0 | AG13: 0 | AH13: =$B13*AG13 -> 0 | AI13: 0 | AJ13: =$B13*AI13 -> 0 | AK13: 0 | AL13: =$B13*AK13 -> 0 | AM13: 0 | AN13: =$B13*AM13 -> 0 | AO13: 0 | AP13: =$B13*AO13 -> 0 | AQ13: =C13+E13+G13+I13+K13+M13+O13+Q13+S13+U13+W13+Y13+AA13+AC13+AE13+AG13+AI13+AK13+AM13+AO13 -> 0 | AR13: =D13+F13+H13+J13+L13+N13+P13+R13+T13+V13+X13+Z13+AB13+AD13+AF13+AH13+AJ13+AL13+AN13+AP13 -> 0
A14: Personnel Classification | C14: 0 | D14: =B14*C14 -> 0 | E14: 0 | F14: =$B14*E14 -> 0 | G14: 0 | H14: =$B14*G14 -> 0 | I14: 0 | J14: =$B14*I14 -> 0 | K14: 0 | L14: =$B14*K14 -> 0 | M14: 0 | N14: =$B14*M14 -> 0 | O14: 0 | P14: =$B14*O14 -> 0 | Q14: 0 | R14: =$B14*Q14 -> 0 | S14: 0 | T14: =$B14*S14 -> 0 | U14: 0 | V14: =$B14*U14 -> 0 | W14: 0 | X14: =$B14*W14 -> 0 | Y14: 0 | Z14: =$B14*Y14 -> 0 | AA14: 0 | AB14: =$B14*AA14 -> 0 | AC14: 0 | AD14: =$B14*AC14 -> 0 | AE14: 0 | AF14: =$B14*AE14 -> 0 | AG14: 0 | AH14: =$B14*AG14 -> 0 | AI14: 0 | AJ14: =$B14*AI14 -> 0 | AK14: 0 | AL14: =$B14*AK14 -> 0 | AM14: 0 | AN14: =$B14*AM14 -> 0 | AO14: 0 | AP14: =$B14*AO14 -> 0 | AQ14: =C14+E14+G14+I14+K14+M14+O14+Q14+S14+U14+W14+Y14+AA14+AC14+AE14+AG14+AI14+AK14+AM14+AO14 -> 0 | AR14: =D14+F14+H14+J14+L14+N14+P14+R14+T14+V14+X14+Z14+AB14+AD14+AF14+AH14+AJ14+AL14+AN14+AP14 -> 0
A15: Personnel Classification | C15: 0 | D15: =B15*C15 -> 0 | E15: 0 | F15: =$B15*E15 -> 0 | G15: 0 | H15: =$B15*G15 -> 0 | I15: 0 | J15: =$B15*I15 -> 0 | K15: 0 | L15: =$B15*K15 -> 0 | M15: 0 | N15: =$B15*M15 -> 0 | O15: 0 | P15: =$B15*O15 -> 0 | Q15: 0 | R15: =$B15*Q15 -> 0 | S15: 0 | T15: =$B15*S15 -> 0 | U15: 0 | V15: =$B15*U15 -> 0 | W15: 0 | X15: =$B15*W15 -> 0 | Y15: 0 | Z15: =$B15*Y15 -> 0 | AA15: 0 | AB15: =$B15*AA15 -> 0 | AC15: 0 | AD15: =$B15*AC15 -> 0 | AE15: 0 | AF15: =$B15*AE15 -> 0 | AG15: 0 | AH15: =$B15*AG15 -> 0 | AI15: 0 | AJ15: =$B15*AI15 -> 0 | AK15: 0 | AL15: =$B15*AK15 -> 0 | AM15: 0 | AN15: =$B15*AM15 -> 0 | AO15: 0 | AP15: =$B15*AO15 -> 0 | AQ15: =C15+E15+G15+I15+K15+M15+O15+Q15+S15+U15+W15+Y15+AA15+AC15+AE15+AG15+AI15+AK15+AM15+AO15 -> 0 | AR15: =D15+F15+H15+J15+L15+N15+P15+R15+T15+V15+X15+Z15+AB15+AD15+AF15+AH15+AJ15+AL15+AN15+AP15 -> 0
A16: Personnel Classification | C16: 0 | D16: =B16*C16 -> 0 | E16: 0 | F16: =$B16*E16 -> 0 | G16: 0 | H16: =$B16*G16 -> 0 | I16: 0 | J16: =$B16*I16 -> 0 | K16: 0 | L16: =$B16*K16 -> 0 | M16: 0 | N16: =$B16*M16 -> 0 | O16: 0 | P16: =$B16*O16 -> 0 | Q16: 0 | R16: =$B16*Q16 -> 0 | S16: 0 | T16: =$B16*S16 -> 0 | U16: 0 | V16: =$B16*U16 -> 0 | W16: 0 | X16: =$B16*W16 -> 0 | Y16: 0 | Z16: =$B16*Y16 -> 0 | AA16: 0 | AB16: =$B16*AA16 -> 0 | AC16: 0 | AD16: =$B16*AC16 -> 0 | AE16: 0 | AF16: =$B16*AE16 -> 0 | AG16: 0 | AH16: =$B16*AG16 -> 0 | AI16: 0 | AJ16: =$B16*AI16 -> 0 | AK16: 0 | AL16: =$B16*AK16 -> 0 | AM16: 0 | AN16: =$B16*AM16 -> 0 | AO16: 0 | AP16: =$B16*AO16 -> 0 | AQ16: =C16+E16+G16+I16+K16+M16+O16+Q16+S16+U16+W16+Y16+AA16+AC16+AE16+AG16+AI16+AK16+AM16+AO16 -> 0 | AR16: =D16+F16+H16+J16+L16+N16+P16+R16+T16+V16+X16+Z16+AB16+AD16+AF16+AH16+AJ16+AL16+AN16+AP16 -> 0
A17: Personnel Classification | C17: 0 | D17: =B17*C17 -> 0 | E17: 0 | F17: =$B17*E17 -> 0 | G17: 0 | H17: =$B17*G17 -> 0 | I17: 0 | J17: =$B17*I17 -> 0 | K17: 0 | L17: =$B17*K17 -> 0 | M17: 0 | N17: =$B17*M17 -> 0 | O17: 0 | P17: =$B17*O17 -> 0 | Q17: 0 | R17: =$B17*Q17 -> 0 | S17: 0 | T17: =$B17*S17 -> 0 | U17: 0 | V17: =$B17*U17 -> 0 | W17: 0 | X17: =$B17*W17 -> 0 | Y17: 0 | Z17: =$B17*Y17 -> 0 | AA17: 0 | AB17: =$B17*AA17 -> 0 | AC17: 0 | AD17: =$B17*AC17 -> 0 | AE17: 0 | AF17: =$B17*AE17 -> 0 | AG17: 0 | AH17: =$B17*AG17 -> 0 | AI17: 0 | AJ17: =$B17*AI17 -> 0 | AK17: 0 | AL17: =$B17*AK17 -> 0 | AM17: 0 | AN17: =$B17*AM17 -> 0 | AO17: 0 | AP17: =$B17*AO17 -> 0 | AQ17: =C17+E17+G17+I17+K17+M17+O17+Q17+S17+U17+W17+Y17+AA17+AC17+AE17+AG17+AI17+AK17+AM17+AO17 -> 0 | AR17: =D17+F17+H17+J17+L17+N17+P17+R17+T17+V17+X17+Z17+AB17+AD17+AF17+AH17+AJ17+AL17+AN17+AP17 -> 0
A18: Personnel Classification | C18: 0 | D18: =B18*C18 -> 0 | E18: 0 | F18: =$B18*E18 -> 0 | G18: 0 | H18: =$B18*G18 -> 0 | I18: 0 | J18: =$B18*I18 -> 0 | K18: 0 | L18: =$B18*K18 -> 0 | M18: 0 | N18: =$B18*M18 -> 0 | O18: 0 | P18: =$B18*O18 -> 0 | Q18: 0 | R18: =$B18*Q18 -> 0 | S18: 0 | T18: =$B18*S18 -> 0 | U18: 0 | V18: =$B18*U18 -> 0 | W18: 0 | X18: =$B18*W18 -> 0 | Y18: 0 | Z18: =$B18*Y18 -> 0 | AA18: 0 | AB18: =$B18*AA18 -> 0 | AC18: 0 | AD18: =$B18*AC18 -> 0 | AE18: 0 | AF18: =$B18*AE18 -> 0 | AG18: 0 | AH18: =$B18*AG18 -> 0 | AI18: 0 | AJ18: =$B18*AI18 -> 0 | AK18: 0 | AL18: =$B18*AK18 -> 0 | AM18: 0 | AN18: =$B18*AM18 -> 0 | AO18: 0 | AP18: =$B18*AO18 -> 0 | AQ18: =C18+E18+G18+I18+K18+M18+O18+Q18+S18+U18+W18+Y18+AA18+AC18+AE18+AG18+AI18+AK18+AM18+AO18 -> 0 | AR18: =D18+F18+H18+J18+L18+N18+P18+R18+T18+V18+X18+Z18+AB18+AD18+AF18+AH18+AJ18+AL18+AN18+AP18 -> 0
A19: Personnel Classification | C19: 0 | D19: =B19*C19 -> 0 | E19: 0 | F19: =$B19*E19 -> 0 | G19: 0 | H19: =$B19*G19 -> 0 | I19: 0 | J19: =$B19*I19 -> 0 | K19: 0 | L19: =$B19*K19 -> 0 | M19: 0 | N19: =$B19*M19 -> 0 | O19: 0 | P19: =$B19*O19 -> 0 | Q19: 0 | R19: =$B19*Q19 -> 0 | S19: 0 | T19: =$B19*S19 -> 0 | U19: 0 | V19: =$B19*U19 -> 0 | W19: 0 | X19: =$B19*W19 -> 0 | Y19: 0 | Z19: =$B19*Y19 -> 0 | AA19: 0 | AB19: =$B19*AA19 -> 0 | AC19: 0 | AD19: =$B19*AC19 -> 0 | AE19: 0 | AF19: =$B19*AE19 -> 0 | AG19: 0 | AH19: =$B19*AG19 -> 0 | AI19: 0 | AJ19: =$B19*AI19 -> 0 | AK19: 0 | AL19: =$B19*AK19 -> 0 | AM19: 0 | AN19: =$B19*AM19 -> 0 | AO19: 0 | AP19: =$B19*AO19 -> 0 | AQ19: =C19+E19+G19+I19+K19+M19+O19+Q19+S19+U19+W19+Y19+AA19+AC19+AE19+AG19+AI19+AK19+AM19+AO19 -> 0 | AR19: =D19+F19+H19+J19+L19+N19+P19+R19+T19+V19+X19+Z19+AB19+AD19+AF19+AH19+AJ19+AL19+AN19+AP19 -> 0
A20: Personnel Classification | C20: 0 | D20: =B20*C20 -> 0 | E20: 0 | F20: =$B20*E20 -> 0 | G20: 0 | H20: =$B20*G20 -> 0 | I20: 0 | J20: =$B20*I20 -> 0 | K20: 0 | L20: =$B20*K20 -> 0 | M20: 0 | N20: =$B20*M20 -> 0 | O20: 0 | P20: =$B20*O20 -> 0 | Q20: 0 | R20: =$B20*Q20 -> 0 | S20: 0 | T20: =$B20*S20 -> 0 | U20: 0 | V20: =$B20*U20 -> 0 | W20: 0 | X20: =$B20*W20 -> 0 | Y20: 0 | Z20: =$B20*Y20 -> 0 | AA20: 0 | AB20: =$B20*AA20 -> 0 | AC20: 0 | AD20: =$B20*AC20 -> 0 | AE20: 0 | AF20: =$B20*AE20 -> 0 | AG20: 0 | AH20: =$B20*AG20 -> 0 | AI20: 0 | AJ20: =$B20*AI20 -> 0 | AK20: 0 | AL20: =$B20*AK20 -> 0 | AM20: 0 | AN20: =$B20*AM20 -> 0 | AO20: 0 | AP20: =$B20*AO20 -> 0 | AQ20: =C20+E20+G20+I20+K20+M20+O20+Q20+S20+U20+W20+Y20+AA20+AC20+AE20+AG20+AI20+AK20+AM20+AO20 -> 0 | AR20: =D20+F20+H20+J20+L20+N20+P20+R20+T20+V20+X20+Z20+AB20+AD20+AF20+AH20+AJ20+AL20+AN20+AP20 -> 0
A21: Personnel Classification | C21: 0 | D21: =B21*C21 -> 0 | E21: 0 | F21: =$B21*E21 -> 0 | G21: 0 | H21: =$B21*G21 -> 0 | I21: 0 | J21: =$B21*I21 -> 0 | K21: 0 | L21: =$B21*K21 -> 0 | M21: 0 | N21: =$B21*M21 -> 0 | O21: 0 | P21: =$B21*O21 -> 0 | Q21: 0 | R21: =$B21*Q21 -> 0 | S21: 0 | T21: =$B21*S21 -> 0 | U21: 0 | V21: =$B21*U21 -> 0 | W21: 0 | X21: =$B21*W21 -> 0 | Y21: 0 | Z21: =$B21*Y21 -> 0 | AA21: 0 | AB21: =$B21*AA21 -> 0 | AC21: 0 | AD21: =$B21*AC21 -> 0 | AE21: 0 | AF21: =$B21*AE21 -> 0 | AG21: 0 | AH21: =$B21*AG21 -> 0 | AI21: 0 | AJ21: =$B21*AI21 -> 0 | AK21: 0 | AL21: =$B21*AK21 -> 0 | AM21: 0 | AN21: =$B21*AM21 -> 0 | AO21: 0 | AP21: =$B21*AO21 -> 0 | AQ21: =C21+E21+G21+I21+K21+M21+O21+Q21+S21+U21+W21+Y21+AA21+AC21+AE21+AG21+AI21+AK21+AM21+AO21 -> 0 | AR21: =D21+F21+H21+J21+L21+N21+P21+R21+T21+V21+X21+Z21+AB21+AD21+AF21+AH21+AJ21+AL21+AN21+AP21 -> 0
A22: Personnel Classification | C22: 0 | D22: =B22*C22 -> 0 | E22: 0 | F22: =$B22*E22 -> 0 | G22: 0 | H22: =$B22*G22 -> 0 | I22: 0 | J22: =$B22*I22 -> 0 | K22: 0 | L22: =$B22*K22 -> 0 | M22: 0 | N22: =$B22*M22 -> 0 | O22: 0 | P22: =$B22*O22 -> 0 | Q22: 0 | R22: =$B22*Q22 -> 0 | S22: 0 | T22: =$B22*S22 -> 0 | U22: 0 | V22: =$B22*U22 -> 0 | W22: 0 | X22: =$B22*W22 -> 0 | Y22: 0 | Z22: =$B22*Y22 -> 0 | AA22: 0 | AB22: =$B22*AA22 -> 0 | AC22: 0 | AD22: =$B22*AC22 -> 0 | AE22: 0 | AF22: =$B22*AE22 -> 0 | AG22: 0 | AH22: =$B22*AG22 -> 0 | AI22: 0 | AJ22: =$B22*AI22 -> 0 | AK22: 0 | AL22: =$B22*AK22 -> 0 | AM22: 0 | AN22: =$B22*AM22 -> 0 | AO22: 0 | AP22: =$B22*AO22 -> 0 | AQ22: =C22+E22+G22+I22+K22+M22+O22+Q22+S22+U22+W22+Y22+AA22+AC22+AE22+AG22+AI22+AK22+AM22+AO22 -> 0 | AR22: =D22+F22+H22+J22+L22+N22+P22+R22+T22+V22+X22+Z22+AB22+AD22+AF22+AH22+AJ22+AL22+AN22+AP22 -> 0
A23: Personnel Classification | C23: 0 | D23: =B23*C23 -> 0 | E23: 0 | F23: =$B23*E23 -> 0 | G23: 0 | H23: =$B23*G23 -> 0 | I23: 0 | J23: =$B23*I23 -> 0 | K23: 0 | L23: =$B23*K23 -> 0 | M23: 0 | N23: =$B23*M23 -> 0 | O23: 0 | P23: =$B23*O23 -> 0 | Q23: 0 | R23: =$B23*Q23 -> 0 | S23: 0 | T23: =$B23*S23 -> 0 | U23: 0 | V23: =$B23*U23 -> 0 | W23: 0 | X23: =$B23*W23 -> 0 | Y23: 0 | Z23: =$B23*Y23 -> 0 | AA23: 0 | AB23: =$B23*AA23 -> 0 | AC23: 0 | AD23: =$B23*AC23 -> 0 | AE23: 0 | AF23: =$B23*AE23 -> 0 | AG23: 0 | AH23: =$B23*AG23 -> 0 | AI23: 0 | AJ23: =$B23*AI23 -> 0 | AK23: 0 | AL23: =$B23*AK23 -> 0 | AM23: 0 | AN23: =$B23*AM23 -> 0 | AO23: 0 | AP23: =$B23*AO23 -> 0 | AQ23: =C23+E23+G23+I23+K23+M23+O23+Q23+S23+U23+W23+Y23+AA23+AC23+AE23+AG23+AI23+AK23+AM23+AO23 -> 0 | AR23: =D23+F23+H23+J23+L23+N23+P23+R23+T23+V23+X23+Z23+AB23+AD23+AF23+AH23+AJ23+AL23+AN23+AP23 -> 0
... A36: Personnel Classification | C36: 0 | D36: =B36*C36 -> 0 | E36: 0 | F36: =$B36*E36 -> 0 | G36: 0 | H36: =$B36*G36 -> 0 | I36: 0 | J36: =$B36*I36 -> 0 | K36: 0 | L36: =$B36*K36 -> 0 | M36: 0 | N36: =$B36*M36 -> 0 | O36: 0 | P36: =$B36*O36 -> 0 | Q36: 0 | R36: =$B36*Q36 -> 0 | S36: 0 | T36: =$B36*S36 -> 0 | U36: 0 | V36: =$B36*U36 -> 0 | W36: 0 | X36: =$B36*W36 -> 0 | Y36: 0 | Z36: =$B36*Y36 -> 0 | AA36: 0 | AB36: =$B36*AA36 -> 0 | AC36: 0 | AD36: =$B36*AC36 -> 0 | AE36: 0 | AF36: =$B36*AE36 -> 0 | AG36: 0 | AH36: =$B36*AG36 -> 0 | AI36: 0 | AJ36: =$B36*AI36 -> 0 | AK36: 0 | AL36: =$B36*AK36 -> 0 | AM36: 0 | AN36: =$B36*AM36 -> 0 | AO36: 0 | AP36: =$B36*AO36 -> 0 | AQ36: =C36+E36+G36+I36+K36+M36+O36+Q36+S36+U36+W36+Y36+AA36+AC36+AE36+AG36+AI36+AK36+AM36+AO36 -> 0 | AR36: =D36+F36+H36+J36+L36+N36+P36+R36+T36+V36+X36+Z36+AB36+AD36+AF36+AH36+AJ36+AL36+AN36+AP36 -> 0
A37: Subtotal - Direct Labor | C37: =SUM(C11:C36) -> 0 | D37: =SUM(D11:D36) -> 0 | E37: =SUM(E11:E36) -> 0 | F37: =SUM(F11:F36) -> 0 | G37: =SUM(G11:G36) -> 0 | H37: =SUM(H11:H36) -> 0 | I37: =SUM(I11:I36) -> 0 | J37: =SUM(J11:J36) -> 0 | ... AR37: =SUM(AR11:AR36) -> 0
A38: Overhead & Fringe (inc. G & A)
A39: Overhead | B39: 0 | D39: =D37*$B39 -> 0 | F39: =F37*$B39 -> 0 | H39: =H37*$B39 -> 0 | J39: =J37*$B39 -> 0 | L39: =L37*$B39 -> 0 | N39: =N37*$B39 -> 0 | P39: =P37*$B39 -> 0 | R39: =R37*$B39 -> 0 | T39: =T37*$B39 -> 0 | V39: =V37*$B39 -> 0 | X39: =X37*$B39 -> 0 | Z39: =Z37*$B39 -> 0 | AB39: =AB37*$B39 -> 0 | AD39: =AD37*$B39 -> 0 | AF39: =AF37*$B39 -> 0 | AH39: =AH37*$B39 -> 0 | AJ39: =AJ37*$B39 -> 0 | AL39: =AL37*$B39 -> 0 | AN39: =AN37*$B39 -> 0 | AP39: =AP37*$B39 -> 0 | AR39: =D39+F39+H39+J39+L39+N39+P39+R39+T39+V39+X39+Z39+AB39+AD39+AF39+AH39+AJ39+AL39+AN39+AP39 -> 0
A40: Fringe | B40: 0 | D40: =$B40*D37 -> 0 | F40: =$B40*F37 -> 0 | H40: =$B40*H37 -> 0 | J40: =$B40*J37 -> 0 | L40: =$B40*L37 -> 0 | N40: =$B40*N37 -> 0 | P40: =$B40*P37 -> 0 | R40: =$B40*R37 -> 0 | T40: =$B40*T37 -> 0 | V40: =$B40*V37 -> 0 | X40: =$B40*X37 -> 0 | Z40: =$B40*Z37 -> 0 | AB40: =$B40*AB37 -> 0 | AD40: =$B40*AD37 -> 0 | AF40: =$B40*AF37 -> 0 | AH40: =$B40*AH37 -> 0 | AJ40: =$B40*AJ37 -> 0 | AL40: =$B40*AL37 -> 0 | AN40: =$B40*AN37 -> 0 | AP40: =$B40*AP37 -> 0 | AR40: =D40+F40+H40+J40+L40+N40+P40+R40+T40+V40+X40+Z40+AB40+AD40+AF40+AH40+AJ40+AL40+AN40+AP40 -> 0
AR41: =D41+F41+H41+J41+L41+N41+P41+R41+T41+V41+X41+Z41+AB41+AD41+AF41+AH41+AJ41+AL41+AN41+AP41 -> 0
A42: Subtotal - Overhead & Fringe (inc. G & A) | D42: =SUM(D38:D41) -> 0 | F42: =SUM(F38:F41) -> 0 | H42: =SUM(H38:H41) -> 0 | J42: =SUM(J38:J41) -> 0 | L42: =SUM(L38:L41) -> 0 | N42: =SUM(N38:N41) -> 0 | P42: =SUM(P38:P41) -> 0 | R42: =SUM(R38:R41) -> 0 | T42: =SUM(T38:T41) -> 0 | V42: =SUM(V38:V41) -> 0 | X42: =SUM(X38:X41) -> 0 | Z42: =SUM(Z38:Z41) -> 0 | AB42: =SUM(AB38:AB41) -> 0 | AD42: =SUM(AD38:AD41) -> 0 | AF42: =SUM(AF38:AF41) -> 0 | AH42: =SUM(AH38:AH41) -> 0 | AJ42: =SUM(AJ38:AJ41) -> 0 | AL42: =SUM(AL38:AL41) -> 0 | AN42: =SUM(AN38:AN41) -> 0 | AP42: =SUM(AP38:AP41) -> 0 | AR42: =SUM(AR38:AR41) -> 0
A43: Fixed Fee
A44: Fixed Fee | B44: 0 | D44: =$B44*(D37+D42) -> 0 | F44: =$B44*(F37+F42) -> 0 | H44: =$B44*(H37+H42) -> 0 | J44: =$B44*(J37+J42) -> 0 | L44: =$B44*(L37+L42) -> 0 | N44: =$B44*(N37+N42) -> 0 | P44: =$B44*(P37+P42) -> 0 | R44: =$B44*(R37+R42) -> 0 | T44: =$B44*(T37+T42) -> 0 | V44: =$B44*(V37+V42) -> 0 | X44: =$B44*(X37+X42) -> 0 | Z44: =$B44*(Z37+Z42) -> 0 | AB44: =$B44*(AB37+AB42) -> 0 | AD44: =$B44*(AD37+AD42) -> 0 | AF44: =$B44*(AF37+AF42) -> 0 | AH44: =$B44*(AH37+AH42) -> 0 | AJ44: =$B44*(AJ37+AJ42) -> 0 | AL44: =$B44*(AL37+AL42) -> 0 | AN44: =$B44*(AN37+AN42) -> 0 | AP44: =$B44*(AP37+AP42) -> 0 | AR44: =D44+F44+H44+J44+L44+N44+P44+R44+T44+V44+X44+Z44+AB44+AD44+AF44 -> 0
A45: Other Direct Costs (ODC's)
A46: Travel | D46: 0 | F46: 0 | H46: 0 | J46: 0 | L46: 0 | N46: 0 | P46: 0 | R46: 0 | T46: 0 | V46: 0 | X46: 0 | Z46: 0 | AB46: 0 | AD46: 0 | AF46: 0 | AH46: 0 | AJ46: 0 | AL46: 0 | AN46: 0 | AP46: 0 | AR46: =D46+F46+H46+J46+L46+N46+P46+R46+T46+V46+X46+Z46+AB46+AD46+AF46+AH46+AJ46+AL46+AN46+AP46 -> 0
A47: Printing - Directly Chargeable only | D47: 0 | F47: 0 | H47: 0 | J47: 0 | L47: 0 | N47: 0 | P47: 0 | R47: 0 | T47: 0 | V47: 0 | X47: 0 | Z47: 0 | AB47: 0 | AD47: 0 | AF47: 0 | AH47: 0 | AJ47: 0 | AL47: 0 | AN47: 0 | AP47: 0 | AR47: =D47+F47+H47+J47+L47+N47+P47+R47+T47+V47+X47+Z47+AB47+AD47+AF47+AH47+AJ47+AL47+AN47+AP47 -> 0
A48: Supplies & Materials - Directly Chargeable only | D48: 0 | F48: 0 | H48: 0 | J48: 0 | L48: 0 | N48: 0 | P48: 0 | R48: 0 | T48: 0 | V48: 0 | X48: 0 | Z48: 0 | AB48: 0 | AD48: 0 | AF48: 0 | AH48: 0 | AJ48: 0 | AL48: 0 | AN48: 0 | AP48: 0 | AR48: =D48+F48+H48+J48+L48+N48+P48+R48+T48+V48+X48+Z48+AB48+AD48+AF48+AH48+AJ48+AL48+AN48+AP48 -> 0
A49: ODC Description | D49: 0 | F49: 0 | H49: 0 | J49: 0 | L49: 0 | N49: 0 | P49: 0 | R49: 0 | T49: 0 | V49: 0 | X49: 0 | Z49: 0 | AB49: 0 | AD49: 0 | AF49: 0 | AH49: 0 | AJ49: 0 | AL49: 0 | AN49: 0 | AP49: 0 | AR49: =D49+F49+H49+J49+L49+N49+P49+R49+T49+V49+X49+Z49+AB49+AD49+AF49+AH49+AJ49+AL49+AN49+AP49 -> 0
A50: ODC Description | D50: 0 | F50: 0 | H50: 0 | J50: 0 | L50: 0 | N50: 0 | P50: 0 | R50: 0 | T50: 0 | V50: 0 | X50: 0 | Z50: 0 | AB50: 0 | AD50: 0 | AF50: 0 | AH50: 0 | AJ50: 0 | AL50: 0 | AN50: 0 | AP50: 0 | AR50: =D50+F50+H50+J50+L50+N50+P50+R50+T50+V50+X50+Z50+AB50+AD50+AF50+AH50+AJ50+AL50+AN50+AP50 -> 0
