Workbook

Sheet Prime
A1: Vendor Name | E1: LINE ITEM BUDGET
A2: Address
A3: Address | H3: Title of Project: | R3: Title of Project: | S3: =I3 -> 0 | AB3: Title of Project: | AC3: =I3 -> 0 | AL3: Title of Project: | AM3: =S3 -> 0
A4: email
A5: Phone | H5: RFP Number: | R5: RFP Number: | S5: =I5 -> 0 | AB5: RFP Number: | AC5: =S5 -> 0 | AL5: RFP Number: | AM5: =AC5 -> 0
A7: (a) | B7: (b) | C7: (c) | D7: (d) | E7: (e) | F7: (f) | G7: (g) | H7: (h) | I7: (i) | J7: (j) | K7: (k) | L7: (l) | M7: (m) | N7: (n) | O7: (o) | P7: (p) | Q7: (q) | R7: (r) | S7: (s) | T7: (t) | U7: (u) | V7: (v) | W7: (w) | X7: (x) | Y7: (y) | Z7: (z) | AA7: (aa) | AB7: (ab) | AC7: (ac) | AD7: (ad) | AE7: (ae) | AF7: (af) | AG7: (ag) | AH7: (ah) | AI7: (ai) | AJ7: (aj) | AK7: (ak) | AL7: (al) | AM7: (am) | AN7: (an) | AO7: (ao) | AP7: (ap)
A8: Cost Categories | B8: Maximum Hourly Rate | C8: Task 1 | E8: Task 2 | G8: Task 3 | I8: Task 4 | K8: Task 5 | M8: Task 6 | O8: Task 7 | Q8: Task 8 | S8: Task 9 | U8: Task 10 | W8: Task 11 | Y8: Task 12 | AA8: Task 13 | AC8: Task 14 | AE8: Task 15 | AG8: Task 16 | AI8: Task 17 | AK8: Task 18 | AM8: Task 19 | AO8: Task 20 | AQ8: Grand Total (All Tasks)
C9: Task Name | E9: Task Name | G9: Task Name | I9: Task Name | K9: Task Name | M9: Task Name | O9: Task Name | Q9: Task Name | S9: Task Name | U9: Task Name | W9: Task Name | Y9: Task Name | AA9: Task Name | AC9: Task Name | AE9: Task Name | AG9: Task Name | AI9: Task Name | AK9: Task Name | AM9: Task Name | AO9: Task Name
C10: Hours | D10: Amount | E10: Hours | F10: Amount | G10: Hours | H10: Amount | I10: Hours | J10: Amount | K10: Hours | L10: Amount | M10: Hours | N10: Amount | O10: Hours | P10: Amount | Q10: Hours | R10: Amount | S10: Hours | T10: Amount | U10: Hours | V10: Amount | W10: Hours | X10: Amount | Y10: Hours | Z10: Amount | AA10: Hours | AB10: Amount | AC10: Hours | AD10: Amount | AE10: Hours | AF10: Amount | AG10: Hours | AH10: Amount | AI10: Hours | AJ10: Amount | AK10: Hours | AL10: Amount | AM10: Hours | AN10: Amount | AO10: Hours | AP10: Amount | AQ10: Hours | AR10: Amount
A11: Direct Labor Classification(s)
A12: Personnel Classification | C12: 0 | D12: =B12*C12 -> 0 | E12: 0 | F12: =$B12*E12 -> 0 | G12: 0 | H12: =$B12*G12 -> 0 | I12: 0 | J12: =$B12*I12 -> 0 | K12: 0 | L12: =$B12*K12 -> 0 | M12: 0 | N12: =$B12*M12 -> 0 | O12: 0 | P12: =$B12*O12 -> 0 | Q12: 0 | R12: =$B12*Q12 -> 0 | S12: 0 | T12: =$B12*S12 -> 0 | U12: 0 | V12: =$B12*U12 -> 0 | W12: 0 | X12: =$B12*W12 -> 0 | Y12: 0 | Z12: =$B12*Y12 -> 0 | AA12: 0 | AB12: =$B12*AA12 -> 0 | AC12: 0 | AD12: =$B12*AC12 -> 0 | AE12: 0 | AF12: =$B12*AE12 -> 0 | AG12: 0 | AH12: =$B12*AG12 -> 0 | AI12: 0 | AJ12: =$B12*AI12 -> 0 | AK12: 0 | AL12: =$B12*AK12 -> 0 | AM12: 0 | AN12: =$B12*AM12 -> 0 | AO12: 0 | AP12: =$B12*AO12 -> 0 | AQ12: =C12+E12+G12+I12+K12+M12+O12+Q12+S12+U12+W12+Y12+AA12+AC12+AE12+AG12+AI12+AK12+AM12+AO12 -> 0 | AR12: =D12+F12+H12+J12+L12+N12+P12+R12+T12+V12+X12+Z12+AB12+AD12+AF12+AH12+AJ12+AL12+AN12+AP12 -> 0
A13: Personnel Classification | C13: 0 | D13: =B13*C13 -> 0 | E13: 0 | F13: =$B13*E13 -> 0 | G13: 0 | H13: =$B13*G13 -> 0 | I13: 0 | J13: =$B13*I13 -> 0 | K13: 0 | L13: =$B13*K13 -> 0 | M13: 0 | N13: =$B13*M13 -> 0 | O13: 0 | P13: =$B13*O13 -> 0 | Q13: 0 | R13: =$B13*Q13 -> 0 | S13: 0 | T13: =$B13*S13 -> 0 | U13: 0 | V13: =$B13*U13 -> 0 | W13: 0 | X13: =$B13*W13 -> 0 | Y13: 0 | Z13: =$B13*Y13 -> 0 | AA13: 0 | AB13: =$B13*AA13 -> 0 | AC13: 0 | AD13: =$B13*AC13 -> 0 | AE13: 0 | AF13: =$B13*AE13 -> 0 | AG13: 0 | AH13: =$B13*AG13 -> 0 | AI13: 0 | AJ13: =$B13*AI13 -> 0 | AK13: 0 | AL13: =$B13*AK13 -> 0 | AM13: 0 | AN13: =$B13*AM13 -> 0 | AO13: 0 | AP13: =$B13*AO13 -> 0 | AQ13: =C13+E13+G13+I13+K13+M13+O13+Q13+S13+U13+W13+Y13+AA13+AC13+AE13+AG13+AI13+AK13+AM13+AO13 -> 0 | AR13: =D13+F13+H13+J13+L13+N13+P13+R13+T13+V13+X13+Z13+AB13+AD13+AF13+AH13+AJ13+AL13+AN13+AP13 -> 0
A14: Personnel Classification | C14: 0 | D14: =B14*C14 -> 0 | E14: 0 | F14: =$B14*E14 -> 0 | G14: 0 | H14: =$B14*G14 -> 0 | I14: 0 | J14: =$B14*I14 -> 0 | K14: 0 | L14: =$B14*K14 -> 0 | M14: 0 | N14: =$B14*M14 -> 0 | O14: 0 | P14: =$B14*O14 -> 0 | Q14: 0 | R14: =$B14*Q14 -> 0 | S14: 0 | T14: =$B14*S14 -> 0 | U14: 0 | V14: =$B14*U14 -> 0 | W14: 0 | X14: =$B14*W14 -> 0 | Y14: 0 | Z14: =$B14*Y14 -> 0 | AA14: 0 | AB14: =$B14*AA14 -> 0 | AC14: 0 | AD14: =$B14*AC14 -> 0 | AE14: 0 | AF14: =$B14*AE14 -> 0 | AG14: 0 | AH14: =$B14*AG14 -> 0 | AI14: 0 | AJ14: =$B14*AI14 -> 0 | AK14: 0 | AL14: =$B14*AK14 -> 0 | AM14: 0 | AN14: =$B14*AM14 -> 0 | AO14: 0 | AP14: =$B14*AO14 -> 0 | AQ14: =C14+E14+G14+I14+K14+M14+O14+Q14+S14+U14+W14+Y14+AA14+AC14+AE14+AG14+AI14+AK14+AM14+AO14 -> 0 | AR14: =D14+F14+H14+J14+L14+N14+P14+R14+T14+V14+X14+Z14+AB14+AD14+AF14+AH14+AJ14+AL14+AN14+AP14 -> 0
A15: Personnel Classification | C15: 0 | D15: =B15*C15 -> 0 | E15: 0 | F15: =$B15*E15 -> 0 | G15: 0 | H15: =$B15*G15 -> 0 | I15: 0 | J15: =$B15*I15 -> 0 | K15: 0 | L15: =$B15*K15 -> 0 | M15: 0 | N15: =$B15*M15 -> 0 | O15: 0 | P15: =$B15*O15 -> 0 | Q15: 0 | R15: =$B15*Q15 -> 0 | S15: 0 | T15: =$B15*S15 -> 0 | U15: 0 | V15: =$B15*U15 -> 0 | W15: 0 | X15: =$B15*W15 -> 0 | Y15: 0 | Z15: =$B15*Y15 -> 0 | AA15: 0 | AB15: =$B15*AA15 -> 0 | AC15: 0 | AD15: =$B15*AC15 -> 0 | AE15: 0 | AF15: =$B15*AE15 -> 0 | AG15: 0 | AH15: =$B15*AG15 -> 0 | AI15: 0 | AJ15: =$B15*AI15 -> 0 | AK15: 0 | AL15: =$B15*AK15 -> 0 | AM15: 0 | AN15: =$B15*AM15 -> 0 | AO15: 0 | AP15: =$B15*AO15 -> 0 | AQ15: =C15+E15+G15+I15+K15+M15+O15+Q15+S15+U15+W15+Y15+AA15+AC15+AE15+AG15+AI15+AK15+AM15+AO15 -> 0 | AR15: =D15+F15+H15+J15+L15+N15+P15+R15+T15+V15+X15+Z15+AB15+AD15+AF15+AH15+AJ15+AL15+AN15+AP15 -> 0
A16: Personnel Classification | C16: 0 | D16: =B16*C16 -> 0 | E16: 0 | F16: =$B16*E16 -> 0 | G16: 0 | H16: =$B16*G16 -> 0 | I16: 0 | J16: =$B16*I16 -> 0 | K16: 0 | L16: =$B16*K16 -> 0 | M16: 0 | N16: =$B16*M16 -> 0 | O16: 0 | P16: =$B16*O16 -> 0 | Q16: 0 | R16: =$B16*Q16 -> 0 | S16: 0 | T16: =$B16*S16 -> 0 | U16: 0 | V16: =$B16*U16 -> 0 | W16: 0 | X16: =$B16*W16 -> 0 | Y16: 0 | Z16: =$B16*Y16 -> 0 | AA16: 0 | AB16: =$B16*AA16 -> 0 | AC16: 0 | AD16: =$B16*AC16 -> 0 | AE16: 0 | AF16: =$B16*AE16 -> 0 | AG16: 0 | AH16: =$B16*AG16 -> 0 | AI16: 0 | AJ16: =$B16*AI16 -> 0 | AK16: 0 | AL16: =$B16*AK16 -> 0 | AM16: 0 | AN16: =$B16*AM16 -> 0 | AO16: 0 | AP16: =$B16*AO16 -> 0 | AQ16: =C16+E16+G16+I16+K16+M16+O16+Q16+S16+U16+W16+Y16+AA16+AC16+AE16+AG16+AI16+AK16+AM16+AO16 -> 0 | AR16: =D16+F16+H16+J16+L16+N16+P16+R16+T16+V16+X16+Z16+AB16+AD16+AF16+AH16+AJ16+AL16+AN16+AP16 -> 0
A17: Personnel Classification | C17: 0 | D17: =B17*C17 -> 0 | E17: 0 | F17: =$B17*E17 -> 0 | G17: 0 | H17: =$B17*G17 -> 0 | I17: 0 | J17: =$B17*I17 -> 0 | K17: 0 | L17: =$B17*K17 -> 0 | M17: 0 | N17: =$B17*M17 -> 0 | O17: 0 | P17: =$B17*O17 -> 0 | Q17: 0 | R17: =$B17*Q17 -> 0 | S17: 0 | T17: =$B17*S17 -> 0 | U17: 0 | V17: =$B17*U17 -> 0 | W17: 0 | X17: =$B17*W17 -> 0 | Y17: 0 | Z17: =$B17*Y17 -> 0 | AA17: 0 | AB17: =$B17*AA17 -> 0 | AC17: 0 | AD17: =$B17*AC17 -> 0 | AE17: 0 | AF17: =$B17*AE17 -> 0 | AG17: 0 | AH17: =$B17*AG17 -> 0 | AI17: 0 | AJ17: =$B17*AI17 -> 0 | AK17: 0 | AL17: =$B17*AK17 -> 0 | AM17: 0 | AN17: =$B17*AM17 -> 0 | AO17: 0 | AP17: =$B17*AO17 -> 0 | AQ17: =C17+E17+G17+I17+K17+M17+O17+Q17+S17+U17+W17+Y17+AA17+AC17+AE17+AG17+AI17+AK17+AM17+AO17 -> 0 | AR17: =D17+F17+H17+J17+L17+N17+P17+R17+T17+V17+X17+Z17+AB17+AD17+AF17+AH17+AJ17+AL17+AN17+AP17 -> 0
A18: Personnel Classification | C18: 0 | D18: =B18*C18 -> 0 | E18: 0 | F18: =$B18*E18 -> 0 | G18: 0 | H18: =$B18*G18 -> 0 | I18: 0 | J18: =$B18*I18 -> 0 | K18: 0 | L18: =$B18*K18 -> 0 | M18: 0 | N18: =$B18*M18 -> 0 | O18: 0 | P18: =$B18*O18 -> 0 | Q18: 0 | R18: =$B18*Q18 -> 0 | S18: 0 | T18: =$B18*S18 -> 0 | U18: 0 | V18: =$B18*U18 -> 0 | W18: 0 | X18: =$B18*W18 -> 0 | Y18: 0 | Z18: =$B18*Y18 -> 0 | AA18: 0 | AB18: =$B18*AA18 -> 0 | AC18: 0 | AD18: =$B18*AC18 -> 0 | AE18: 0 | AF18: =$B18*AE18 -> 0 | AG18: 0 | AH18: =$B18*AG18 -> 0 | AI18: 0 | AJ18: =$B18*AI18 -> 0 | AK18: 0 | AL18: =$B18*AK18 -> 0 | AM18: 0 | AN18: =$B18*AM18 -> 0 | AO18: 0 | AP18: =$B18*AO18 -> 0 | AQ18: =C18+E18+G18+I18+K18+M18+O18+Q18+S18+U18+W18+Y18+AA18+AC18+AE18+AG18+AI18+AK18+AM18+AO18 -> 0 | AR18: =D18+F18+H18+J18+L18+N18+P18+R18+T18+V18+X18+Z18+AB18+AD18+AF18+AH18+AJ18+AL18+AN18+AP18 -> 0
A19: Personnel Classification | C19: 0 | D19: =B19*C19 -> 0 | E19: 0 | F19: =$B19*E19 -> 0 | G19: 0 | H19: =$B19*G19 -> 0 | I19: 0 | J19: =$B19*I19 -> 0 | K19: 0 | L19: =$B19*K19 -> 0 | M19: 0 | N19: =$B19*M19 -> 0 | O19: 0 | P19: =$B19*O19 -> 0 | Q19: 0 | R19: =$B19*Q19 -> 0 | S19: 0 | T19: =$B19*S19 -> 0 | U19: 0 | V19: =$B19*U19 -> 0 | W19: 0 | X19: =$B19*W19 -> 0 | Y19: 0 | Z19: =$B19*Y19 -> 0 | AA19: 0 | AB19: =$B19*AA19 -> 0 | AC19: 0 | AD19: =$B19*AC19 -> 0 | AE19: 0 | AF19: =$B19*AE19 -> 0 | AG19: 0 | AH19: =$B19*AG19 -> 0 | AI19: 0 | AJ19: =$B19*AI19 -> 0 | AK19: 0 | AL19: =$B19*AK19 -> 0 | AM19: 0 | AN19: =$B19*AM19 -> 0 | AO19: 0 | AP19: =$B19*AO19 -> 0 | AQ19: =C19+E19+G19+I19+K19+M19+O19+Q19+S19+U19+W19+Y19+AA19+AC19+AE19+AG19+AI19+AK19+AM19+AO19 -> 0 | AR19: =D19+F19+H19+J19+L19+N19+P19+R19+T19+V19+X19+Z19+AB19+AD19+AF19+AH19+AJ19+AL19+AN19+AP19 -> 0
A20: Personnel Classification | C20: 0 | D20: =B20*C20 -> 0 | E20: 0 | F20: =$B20*E20 -> 0 | G20: 0 | H20: =$B20*G20 -> 0 | I20: 0 | J20: =$B20*I20 -> 0 | K20: 0 | L20: =$B20*K20 -> 0 | M20: 0 | N20: =$B20*M20 -> 0 | O20: 0 | P20: =$B20*O20 -> 0 | Q20: 0 | R20: =$B20*Q20 -> 0 | S20: 0 | T20: =$B20*S20 -> 0 | U20: 0 | V20: =$B20*U20 -> 0 | W20: 0 | X20: =$B20*W20 -> 0 | Y20: 0 | Z20: =$B20*Y20 -> 0 | AA20: 0 | AB20: =$B20*AA20 -> 0 | AC20: 0 | AD20: =$B20*AC20 -> 0 | AE20: 0 | AF20: =$B20*AE20 -> 0 | AG20: 0 | AH20: =$B20*AG20 -> 0 | AI20: 0 | AJ20: =$B20*AI20 -> 0 | AK20: 0 | AL20: =$B20*AK20 -> 0 | AM20: 0 | AN20: =$B20*AM20 -> 0 | AO20: 0 | AP20: =$B20*AO20 -> 0 | AQ20: =C20+E20+G20+I20+K20+M20+O20+Q20+S20+U20+W20+Y20+AA20+AC20+AE20+AG20+AI20+AK20+AM20+AO20 -> 0 | AR20: =D20+F20+H20+J20+L20+N20+P20+R20+T20+V20+X20+Z20+AB20+AD20+AF20+AH20+AJ20+AL20+AN20+AP20 -> 0
A21: Personnel Classification | C21: 0 | D21: =B21*C21 -> 0 | E21: 0 | F21: =$B21*E21 -> 0 | G21: 0 | H21: =$B21*G21 -> 0 | I21: 0 | J21: =$B21*I21 -> 0 | K21: 0 | L21: =$B21*K21 -> 0 | M21: 0 | N21: =$B21*M21 -> 0 | O21: 0 | P21: =$B21*O21 -> 0 | Q21: 0 | R21: =$B21*Q21 -> 0 | S21: 0 | T21: =$B21*S21 -> 0 | U21: 0 | V21: =$B21*U21 -> 0 | W21: 0 | X21: =$B21*W21 -> 0 | Y21: 0 | Z21: =$B21*Y21 -> 0 | AA21: 0 | AB21: =$B21*AA21 -> 0 | AC21: 0 | AD21: =$B21*AC21 -> 0 | AE21: 0 | AF21: =$B21*AE21 -> 0 | AG21: 0 | AH21: =$B21*AG21 -> 0 | AI21: 0 | AJ21: =$B21*AI21 -> 0 | AK21: 0 | AL21: =$B21*AK21 -> 0 | AM21: 0 | AN21: =$B21*AM21 -> 0 | AO21: 0 | AP21: =$B21*AO21 -> 0 | AQ21: =C21+E21+G21+I21+K21+M21+O21+Q21+S21+U21+W21+Y21+AA21+AC21+AE21+AG21+AI21+AK21+AM21+AO21 -> 0 | AR21: =D21+F21+H21+J21+L21+N21+P21+R21+T21+V21+X21+Z21+AB21+AD21+AF21+AH21+AJ21+AL21+AN21+AP21 -> 0
A22: Personnel Classification | C22: 0 | D22: =B22*C22 -> 0 | E22: 0 | F22: =$B22*E22 -> 0 | G22: 0 | H22: =$B22*G22 -> 0 | I22: 0 | J22: =$B22*I22 -> 0 | K22: 0 | L22: =$B22*K22 -> 0 | M22: 0 | N22: =$B22*M22 -> 0 | O22: 0 | P22: =$B22*O22 -> 0 | Q22: 0 | R22: =$B22*Q22 -> 0 | S22: 0 | T22: =$B22*S22 -> 0 | U22: 0 | V22: =$B22*U22 -> 0 | W22: 0 | X22: =$B22*W22 -> 0 | Y22: 0 | Z22: =$B22*Y22 -> 0 | AA22: 0 | AB22: =$B22*AA22 -> 0 | AC22: 0 | AD22: =$B22*AC22 -> 0 | AE22: 0 | AF22: =$B22*AE22 -> 0 | AG22: 0 | AH22: =$B22*AG22 -> 0 | AI22: 0 | AJ22: =$B22*AI22 -> 0 | AK22: 0 | AL22: =$B22*AK22 -> 0 | AM22: 0 | AN22: =$B22*AM22 -> 0 | AO22: 0 | AP22: =$B22*AO22 -> 0 | AQ22: =C22+E22+G22+I22+K22+M22+O22+Q22+S22+U22+W22+Y22+AA22+AC22+AE22+AG22+AI22+AK22+AM22+AO22 -> 0 | AR22: =D22+F22+H22+J22+L22+N22+P22+R22+T22+V22+X22+Z22+AB22+AD22+AF22+AH22+AJ22+AL22+AN22+AP22 -> 0
A23: Personnel Classification | C23: 0 | D23: =B23*C23 -> 0 | E23: 0 | F23: =$B23*E23 -> 0 | G23: 0 | H23: =$B23*G23 -> 0 | I23: 0 | J23: =$B23*I23 -> 0 | K23: 0 | L23: =$B23*K23 -> 0 | M23: 0 | N23: =$B23*M23 -> 0 | O23: 0 | P23: =$B23*O23 -> 0 | Q23: 0 | R23: =$B23*Q23 -> 0 | S23: 0 | T23: =$B23*S23 -> 0 | U23: 0 | V23: =$B23*U23 -> 0 | W23: 0 | X23: =$B23*W23 -> 0 | Y23: 0 | Z23: =$B23*Y23 -> 0 | AA23: 0 | AB23: =$B23*AA23 -> 0 | AC23: 0 | AD23: =$B23*AC23 -> 0 | AE23: 0 | AF23: =$B23*AE23 -> 0 | AG23: 0 | AH23: =$B23*AG23 -> 0 | AI23: 0 | AJ23: =$B23*AI23 -> 0 | AK23: 0 | AL23: =$B23*AK23 -> 0 | AM23: 0 | AN23: =$B23*AM23 -> 0 | AO23: 0 | AP23: =$B23*AO23 -> 0 | AQ23: =C23+E23+G23+I23+K23+M23+O23+Q23+S23+U23+W23+Y23+AA23+AC23+AE23+AG23+AI23+AK23+AM23+AO23 -> 0 | AR23: =D23+F23+H23+J23+L23+N23+P23+R23+T23+V23+X23+Z23+AB23+AD23+AF23+AH23+AJ23+AL23+AN23+AP23 -> 0
... A36: Personnel Classification | C36: 0 | D36: =B36*C36 -> 0 | E36: 0 | F36: =$B36*E36 -> 0 | G36: 0 | H36: =$B36*G36 -> 0 | I36: 0 | J36: =$B36*I36 -> 0 | K36: 0 | L36: =$B36*K36 -> 0 | M36: 0 | N36: =$B36*M36 -> 0 | O36: 0 | P36: =$B36*O36 -> 0 | Q36: 0 | R36: =$B36*Q36 -> 0 | S36: 0 | T36: =$B36*S36 -> 0 | U36: 0 | V36: =$B36*U36 -> 0 | W36: 0 | X36: =$B36*W36 -> 0 | Y36: 0 | Z36: =$B36*Y36 -> 0 | AA36: 0 | AB36: =$B36*AA36 -> 0 | AC36: 0 | AD36: =$B36*AC36 -> 0 | AE36: 0 | AF36: =$B36*AE36 -> 0 | AG36: 0 | AH36: =$B36*AG36 -> 0 | AI36: 0 | AJ36: =$B36*AI36 -> 0 | AK36: 0 | AL36: =$B36*AK36 -> 0 | AM36: 0 | AN36: =$B36*AM36 -> 0 | AO36: 0 | AP36: =$B36*AO36 -> 0 | AQ36: =C36+E36+G36+I36+K36+M36+O36+Q36+S36+U36+W36+Y36+AA36+AC36+AE36+AG36+AI36+AK36+AM36+AO36 -> 0 | AR36: =D36+F36+H36+J36+L36+N36+P36+R36+T36+V36+X36+Z36+AB36+AD36+AF36+AH36+AJ36+AL36+AN36+AP36 -> 0
A37: Subtotal - Direct Labor | C37: =SUM(C11:C36) -> 0 | D37: =SUM(D11:D36) -> 0 | E37: =SUM(E11:E36) -> 0 | F37: =SUM(F11:F36) -> 0 | G37: =SUM(G11:G36) -> 0 | H37: =SUM(H11:H36) -> 0 | I37: =SUM(I11:I36) -> 0 | J37: =SUM(J11:J36) -> 0 | ... AR37: =SUM(AR11:AR36) -> 0
A38: Overhead & Fringe (inc. G & A)
A39: Overhead | B39: 0 | D39: =D37*$B39 -> 0 | F39: =F37*$B39 -> 0 | H39: =H37*$B39 -> 0 | J39: =J37*$B39 -> 0 | L39: =L37*$B39 -> 0 | N39: =N37*$B39 -> 0 | P39: =P37*$B39 -> 0 | R39: =R37*$B39 -> 0 | T39: =T37*$B39 -> 0 | V39: =V37*$B39 -> 0 | X39: =X37*$B39 -> 0 | Z39: =Z37*$B39 -> 0 | AB39: =AB37*$B39 -> 0 | AD39: =AD37*$B39 -> 0 | AF39: =AF37*$B39 -> 0 | AH39: =AH37*$B39 -> 0 | AJ39: =AJ37*$B39 -> 0 | AL39: =AL37*$B39 -> 0 | AN39: =AN37*$B39 -> 0 | AP39: =AP37*$B39 -> 0 | AR39: =D39+F39+H39+J39+L39+N39+P39+R39+T39+V39+X39+Z39+AB39+AD39+AF39+AH39+AJ39+AL39+AN39+AP39 -> 0
A40: Fringe | B40: 0 | D40: =$B40*D37 -> 0 | F40: =$B40*F37 -> 0 | H40: =$B40*H37 -> 0 | J40: =$B40*J37 -> 0 | L40: =$B40*L37 -> 0 | N40: =$B40*N37 -> 0 | P40: =$B40*P37 -> 0 | R40: =$B40*R37 -> 0 | T40: =$B40*T37 -> 0 | V40: =$B40*V37 -> 0 | X40: =$B40*X37 -> 0 | Z40: =$B40*Z37 -> 0 | AB40: =$B40*AB37 -> 0 | AD40: =$B40*AD37 -> 0 | AF40: =$B40*AF37 -> 0 | AH40: =$B40*AH37 -> 0 | AJ40: =$B40*AJ37 -> 0 | AL40: =$B40*AL37 -> 0 | AN40: =$B40*AN37 -> 0 | AP40: =$B40*AP37 -> 0 | AR40: =D40+F40+H40+J40+L40+N40+P40+R40+T40+V40+X40+Z40+AB40+AD40+AF40+AH40+AJ40+AL40+AN40+AP40 -> 0
AR41: =D41+F41+H41+J41+L41+N41+P41+R41+T41+V41+X41+Z41+AB41+AD41+AF41+AH41+AJ41+AL41+AN41+AP41 -> 0
A42: Subtotal - Overhead & Fringe (inc. G & A) | D42: =SUM(D38:D41) -> 0 | F42: =SUM(F38:F41) -> 0 | H42: =SUM(H38:H41) -> 0 | J42: =SUM(J38:J41) -> 0 | L42: =SUM(L38:L41) -> 0 | N42: =SUM(N38:N41) -> 0 | P42: =SUM(P38:P41) -> 0 | R42: =SUM(R38:R41) -> 0 | T42: =SUM(T38:T41) -> 0 | V42: =SUM(V38:V41) -> 0 | X42: =SUM(X38:X41) -> 0 | Z42: =SUM(Z38:Z41) -> 0 | AB42: =SUM(AB38:AB41) -> 0 | AD42: =SUM(AD38:AD41) -> 0 | AF42: =SUM(AF38:AF41) -> 0 | AH42: =SUM(AH38:AH41) -> 0 | AJ42: =SUM(AJ38:AJ41) -> 0 | AL42: =SUM(AL38:AL41) -> 0 | AN42: =SUM(AN38:AN41) -> 0 | AP42: =SUM(AP38:AP41) -> 0 | AR42: =SUM(AR38:AR41) -> 0
A43: Fixed Fee
A44: Fixed Fee | B44: 0 | D44: =$B44*(D37+D42) -> 0 | F44: =$B44*(F37+F42) -> 0 | H44: =$B44*(H37+H42) -> 0 | J44: =$B44*(J37+J42) -> 0 | L44: =$B44*(L37+L42) -> 0 | N44: =$B44*(N37+N42) -> 0 | P44: =$B44*(P37+P42) -> 0 | R44: =$B44*(R37+R42) -> 0 | T44: =$B44*(T37+T42) -> 0 | V44: =$B44*(V37+V42) -> 0 | X44: =$B44*(X37+X42) -> 0 | Z44: =$B44*(Z37+Z42) -> 0 | AB44: =$B44*(AB37+AB42) -> 0 | AD44: =$B44*(AD37+AD42) -> 0 | AF44: =$B44*(AF37+AF42) -> 0 | AH44: =$B44*(AH37+AH42) -> 0 | AJ44: =$B44*(AJ37+AJ42) -> 0 | AL44: =$B44*(AL37+AL42) -> 0 | AN44: =$B44*(AN37+AN42) -> 0 | AP44: =$B44*(AP37+AP42) -> 0 | AR44: =D44+F44+H44+J44+L44+N44+P44+R44+T44+V44+X44+Z44+AB44+AD44+AF44 -> 0
A45: Other Direct Costs (ODC's)
A46: Travel | D46: 0 | F46: 0 | H46: 0 | J46: 0 | L46: 0 | N46: 0 | P46: 0 | R46: 0 | T46: 0 | V46: 0 | X46: 0 | Z46: 0 | AB46: 0 | AD46: 0 | AF46: 0 | AH46: 0 | AJ46: 0 | AL46: 0 | AN46: 0 | AP46: 0 | AR46: =D46+F46+H46+J46+L46+N46+P46+R46+T46+V46+X46+Z46+AB46+AD46+AF46+AH46+AJ46+AL46+AN46+AP46 -> 0
A47: Printing - Directly Chargeable only | D47: 0 | F47: 0 | H47: 0 | J47: 0 | L47: 0 | N47: 0 | P47: 0 | R47: 0 | T47: 0 | V47: 0 | X47: 0 | Z47: 0 | AB47: 0 | AD47: 0 | AF47: 0 | AH47: 0 | AJ47: 0 | AL47: 0 | AN47: 0 | AP47: 0 | AR47: =D47+F47+H47+J47+L47+N47+P47+R47+T47+V47+X47+Z47+AB47+AD47+AF47+AH47+AJ47+AL47+AN47+AP47 -> 0
A48: Supplies & Materials - Directly Chargeable only | D48: 0 | F48: 0 | H48: 0 | J48: 0 | L48: 0 | N48: 0 | P48: 0 | R48: 0 | T48: 0 | V48: 0 | X48: 0 | Z48: 0 | AB48: 0 | AD48: 0 | AF48: 0 | AH48: 0 | AJ48: 0 | AL48: 0 | AN48: 0 | AP48: 0 | AR48: =D48+F48+H48+J48+L48+N48+P48+R48+T48+V48+X48+Z48+AB48+AD48+AF48+AH48+AJ48+AL48+AN48+AP48 -> 0
A49: ODC Description | D49: 0 | F49: 0 | H49: 0 | J49: 0 | L49: 0 | N49: 0 | P49: 0 | R49: 0 | T49: 0 | V49: 0 | X49: 0 | Z49: 0 | AB49: 0 | AD49: 0 | AF49: 0 | AH49: 0 | AJ49: 0 | AL49: 0 | AN49: 0 | AP49: 0 | AR49: =D49+F49+H49+J49+L49+N49+P49+R49+T49+V49+X49+Z49+AB49+AD49+AF49+AH49+AJ49+AL49+AN49+AP49 -> 0
A50: ODC Description | D50: 0 | F50: 0 | H50: 0 | J50: 0 | L50: 0 | N50: 0 | P50: 0 | R50: 0 | T50: 0 | V50: 0 | X50: 0 | Z50: 0 | AB50: 0 | AD50: 0 | AF50: 0 | AH50: 0 | AJ50: 0 | AL50: 0 | AN50: 0 | AP50: 0 | AR50: =D50+F50+H50+J50+L50+N50+P50+R50+T50+V50+X50+Z50+AB50+AD50+AF50+AH50+AJ50+AL50+AN50+AP50 -> 0
A51: ODC Description | D51: 0 | F51: 0 | H51: 0 | J51: 0 | L51: 0 | N51: 0 | P51: 0 | R51: 0 | T51: 0 | V51: 0 | X51: 0 | Z51: 0 | AB51: 0 | AD51: 0 | AF51: 0 | AH51: 0 | AJ51: 0 | AL51: 0 | AN51: 0 | AP51: 0 | AR51: =D51+F51+H51+J51+L51+N51+P51+R51+T51+V51+X51+Z51+AB51+AD51+AF51+AH51+AJ51+AL51+AN51+AP51 -> 0
A52: ODC Description | D52: 0 | F52: 0 | H52: 0 | J52: 0 | L52: 0 | N52: 0 | P52: 0 | R52: 0 | T52: 0 | V52: 0 | X52: 0 | Z52: 0 | AB52: 0 | AD52: 0 | AF52: 0 | AH52: 0 | AJ52: 0 | AL52: 0 | AN52: 0 | AP52: 0 | AR52: =D52+F52+H52+J52+L52+N52+P52+R52+T52+V52+X52+Z52+AB52+AD52+AF52+AH52+AJ52+AL52+AN52+AP52 -> 0
A53: ODC Description | D53: 0 | F53: 0 | H53: 0 | J53: 0 | L53: 0 | N53: 0 | P53: 0 | R53: 0 | T53: 0 | V53: 0 | X53: 0 | Z53: 0 | AB53: 0 | AD53: 0 | AF53: 0 | AH53: 0 | AJ53: 0 | AL53: 0 | AN53: 0 | AP53: 0 | AR53: =D53+F53+H53+J53+L53+N53+P53+R53+T53+V53+X53+Z53+AB53+AD53+AF53+AH53+AJ53+AL53+AN53+AP53 -> 0
...

Sheet Sub 1
A1: Sub 1 | E1: LINE ITEM BUDGET
A2: Address
A3: Address | H3: Title of Project: | R3: Title of Project: | S3: =I3 -> 0 | AB3: Title of Project: | AC3: =I3 -> 0 | AL3: Title of Project: | AM3: =S3 -> 0
A4: email
A5: Phone | H5: RFP Number: | R5: RFP Number: | S5: =I5 -> 0 | AB5: RFP Number: | AC5: =S5 -> 0 | AL5: RFP Number: | AM5: =AC5 -> 0
A7: (a) | B7: (b) | C7: (c) | D7: (d) | E7: (e) | F7: (f) | G7: (g) | H7: (h) | I7: (i) | J7: (j) | K7: (k) | L7: (l) | M7: (m) | N7: (n) | O7: (o) | P7: (p) | Q7: (q) | R7: (r) | S7: (s) | T7: (t) | U7: (u) | V7: (v) | W7: (w) | X7: (x) | Y7: (y) | Z7: (z) | AA7: (aa) | AB7: (ab) | AC7: (ac) | AD7: (ad) | AE7: (ae) | AF7: (af) | AG7: (ag) | AH7: (ah) | AI7: (ai) | AJ7: (aj) | AK7: (ak) | AL7: (al) | AM7: (am) | AN7: (an) | AO7: (ao) | AP7: (ap)
A8: Cost Categories | B8: Maximum Hourly Rate | C8: Task 1 | E8: Task 2 | G8: Task 3 | I8: Task 4 | K8: Task 5 | M8: Task 6 | O8: Task 7 | Q8: Task 8 | S8: Task 9 | U8: Task 10 | W8: Task 11 | Y8: Task 12 | AA8: Task 13 | AC8: Task 14 | AE8: Task 15 | AG8: Task 16 | AI8: Task 17 | AK8: Task 18 | AM8: Task 19 | AO8: Task 20 | AQ8: Grand Total (All Tasks)
C9: Task Name | E9: Task Name | G9: Task Name | I9: Task Name | K9: Task Name | M9: Task Name | O9: Task Name | Q9: Task Name | S9: Task Name | U9: Task Name | W9: Task Name | Y9: Task Name | AA9: Task Name | AC9: Task Name | AE9: Task Name | AG9: Task Name | AI9: Task Name | AK9: Task Name | AM9: Task Name | AO9: Task Name
C10: Hours | D10: Amount | E10: Hours | F10: Amount | G10: Hours | H10: Amount | I10: Hours | J10: Amount | K10: Hours | L10: Amount | M10: Hours | N10: Amount | O10: Hours | P10: Amount | Q10: Hours | R10: Amount | S10: Hours | T10: Amount | U10: Hours | V10: Amount | W10: Hours | X10: Amount | Y10: Hours | Z10: Amount | AA10: Hours | AB10: Amount | AC10: Hours | AD10: Amount | AE10: Hours | AF10: Amount | AG10: Hours | AH10: Amount | AI10: Hours | AJ10: Amount | AK10: Hours | AL10: Amount | AM10: Hours | AN10: Amount | AO10: Hours | AP10: Amount | AQ10: Hours | AR10: Amount
A11: Direct Labor Classification(s)
A12: Personnel Classification | C12: 0 | D12: =B12*C12 -> 0 | E12: 0 | F12: =$B12*E12 -> 0 | G12: 0 | H12: =$B12*G12 -> 0 | I12: 0 | J12: =$B12*I12 -> 0 | K12: 0 | L12: =$B12*K12 -> 0 | M12: 0 | N12: =$B12*M12 -> 0 | O12: 0 | P12: =$B12*O12 -> 0 | Q12: 0 | R12: =$B12*Q12 -> 0 | S12: 0 | T12: =$B12*S12 -> 0 | U12: 0 | V12: =$B12*U12 -> 0 | W12: 0 | X12: =$B12*W12 -> 0 | Y12: 0 | Z12: =$B12*Y12 -> 0 | AA12: 0 | AB12: =$B12*AA12 -> 0 | AC12: 0 | AD12: =$B12*AC12 -> 0 | AE12: 0 | AF12: =$B12*AE12 -> 0 | AG12: 0 | AH12: =$B12*AG12 -> 0 | AI12: 0 | AJ12: =$B12*AI12 -> 0 | AK12: 0 | AL12: =$B12*AK12 -> 0 | AM12: 0 | AN12: =$B12*AM12 -> 0 | AO12: 0 | AP12: =$B12*AO12 -> 0 | AQ12: =C12+E12+G12+I12+K12+M12+O12+Q12+S12+U12+W12+Y12+AA12+AC12+AE12+AG12+AI12+AK12+AM12+AO12 -> 0 | AR12: =D12+F12+H12+J12+L12+N12+P12+R12+T12+V12+X12+Z12+AB12+AD12+AF12+AH12+AJ12+AL12+AN12+AP12 -> 0
A13: Personnel Classification | C13: 0 | D13: =B13*C13 -> 0 | E13: 0 | F13: =$B13*E13 -> 0 | G13: 0 | H13: =$B13*G13 -> 0 | I13: 0 | J13: =$B13*I13 -> 0 | K13: 0 | L13: =$B13*K13 -> 0 | M13: 0 | N13: =$B13*M13 -> 0 | O13: 0 | P13: =$B13*O13 -> 0 | Q13: 0 | R13: =$B13*Q13 -> 0 | S13: 0 | T13: =$B13*S13 -> 0 | U13: 0 | V13: =$B13*U13 -> 0 | W13: 0 | X13: =$B13*W13 -> 0 | Y13: 0 | Z13: =$B13*Y13 -> 0 | AA13: 0 | AB13: =$B13*AA13 -> 0 | AC13: 0 | AD13: =$B13*AC13 -> 0 | AE13: 0 | AF13: =$B13*AE13 -> 0 | AG13: 0 | AH13: =$B13*AG13 -> 0 | AI13: 0 | AJ13: =$B13*AI13 -> 0 | AK13: 0 | AL13: =$B13*AK13 -> 0 | AM13: 0 | AN13: =$B13*AM13 -> 0 | AO13: 0 | AP13: =$B13*AO13 -> 0 | AQ13: =C13+E13+G13+I13+K13+M13+O13+Q13+S13+U13+W13+Y13+AA13+AC13+AE13+AG13+AI13+AK13+AM13+AO13 -> 0 | AR13: =D13+F13+H13+J13+L13+N13+P13+R13+T13+V13+X13+Z13+AB13+AD13+AF13+AH13+AJ13+AL13+AN13+AP13 -> 0
A14: Personnel Classification | C14: 0 | D14: =B14*C14 -> 0 | E14: 0 | F14: =$B14*E14 -> 0 | G14: 0 | H14: =$B14*G14 -> 0 | I14: 0 | J14: =$B14*I14 -> 0 | K14: 0 | L14: =$B14*K14 -> 0 | M14: 0 | N14: =$B14*M14 -> 0 | O14: 0 | P14: =$B14*O14 -> 0 | Q14: 0 | R14: =$B14*Q14 -> 0 | S14: 0 | T14: =$B14*S14 -> 0 | U14: 0 | V14: =$B14*U14 -> 0 | W14: 0 | X14: =$B14*W14 -> 0 | Y14: 0 | Z14: =$B14*Y14 -> 0 | AA14: 0 | AB14: =$B14*AA14 -> 0 | AC14: 0 | AD14: =$B14*AC14 -> 0 | AE14: 0 | AF14: =$B14*AE14 -> 0 | AG14: 0 | AH14: =$B14*AG14 -> 0 | AI14: 0 | AJ14: =$B14*AI14 -> 0 | AK14: 0 | AL14: =$B14*AK14 -> 0 | AM14: 0 | AN14: =$B14*AM14 -> 0 | AO14: 0 | AP14: =$B14*AO14 -> 0 | AQ14: =C14+E14+G14+I14+K14+M14+O14+Q14+S14+U14+W14+Y14+AA14+AC14+AE14+AG14+AI14+AK14+AM14+AO14 -> 0 | AR14: =D14+F14+H14+J14+L14+N14+P14+R14+T14+V14+X14+Z14+AB14+AD14+AF14+AH14+AJ14+AL14+AN14+AP14 -> 0
A15: Personnel Classification | C15: 0 | D15: =B15*C15 -> 0 | E15: 0 | F15: =$B15*E15 -> 0 | G15: 0 | H15: =$B15*G15 -> 0 | I15: 0 | J15: =$B15*I15 -> 0 | K15: 0 | L15: =$B15*K15 -> 0 | M15: 0 | N15: =$B15*M15 -> 0 | O15: 0 | P15: =$B15*O15 -> 0 | Q15: 0 | R15: =$B15*Q15 -> 0 | S15: 0 | T15: =$B15*S15 -> 0 | U15: 0 | V15: =$B15*U15 -> 0 | W15: 0 | X15: =$B15*W15 -> 0 | Y15: 0 | Z15: =$B15*Y15 -> 0 | AA15: 0 | AB15: =$B15*AA15 -> 0 | AC15: 0 | AD15: =$B15*AC15 -> 0 | AE15: 0 | AF15: =$B15*AE15 -> 0 | AG15: 0 | AH15: =$B15*AG15 -> 0 | AI15: 0 | AJ15: =$B15*AI15 -> 0 | AK15: 0 | AL15: =$B15*AK15 -> 0 | AM15: 0 | AN15: =$B15*AM15 -> 0 | AO15: 0 | AP15: =$B15*AO15 -> 0 | AQ15: =C15+E15+G15+I15+K15+M15+O15+Q15+S15+U15+W15+Y15+AA15+AC15+AE15+AG15+AI15+AK15+AM15+AO15 -> 0 | AR15: =D15+F15+H15+J15+L15+N15+P15+R15+T15+V15+X15+Z15+AB15+AD15+AF15+AH15+AJ15+AL15+AN15+AP15 -> 0
A16: Personnel Classification | C16: 0 | D16: =B16*C16 -> 0 | E16: 0 | F16: =$B16*E16 -> 0 | G16: 0 | H16: =$B16*G16 -> 0 | I16: 0 | J16: =$B16*I16 -> 0 | K16: 0 | L16: =$B16*K16 -> 0 | M16: 0 | N16: =$B16*M16 -> 0 | O16: 0 | P16: =$B16*O16 -> 0 | Q16: 0 | R16: =$B16*Q16 -> 0 | S16: 0 | T16: =$B16*S16 -> 0 | U16: 0 | V16: =$B16*U16 -> 0 | W16: 0 | X16: =$B16*W16 -> 0 | Y16: 0 | Z16: =$B16*Y16 -> 0 | AA16: 0 | AB16: =$B16*AA16 -> 0 | AC16: 0 | AD16: =$B16*AC16 -> 0 | AE16: 0 | AF16: =$B16*AE16 -> 0 | AG16: 0 | AH16: =$B16*AG16 -> 0 | AI16: 0 | AJ16: =$B16*AI16 -> 0 | AK16: 0 | AL16: =$B16*AK16 -> 0 | AM16: 0 | AN16: =$B16*AM16 -> 0 | AO16: 0 | AP16: =$B16*AO16 -> 0 | AQ16: =C16+E16+G16+I16+K16+M16+O16+Q16+S16+U16+W16+Y16+AA16+AC16+AE16+AG16+AI16+AK16+AM16+AO16 -> 0 | AR16: =D16+F16+H16+J16+L16+N16+P16+R16+T16+V16+X16+Z16+AB16+AD16+AF16+AH16+AJ16+AL16+AN16+AP16 -> 0
A17: Personnel Classification | C17: 0 | D17: =B17*C17 -> 0 | E17: 0 | F17: =$B17*E17 -> 0 | G17: 0 | H17: =$B17*G17 -> 0 | I17: 0 | J17: =$B17*I17 -> 0 | K17: 0 | L17: =$B17*K17 -> 0 | M17: 0 | N17: =$B17*M17 -> 0 | O17: 0 | P17: =$B17*O17 -> 0 | Q17: 0 | R17: =$B17*Q17 -> 0 | S17: 0 | T17: =$B17*S17 -> 0 | U17: 0 | V17: =$B17*U17 -> 0 | W17: 0 | X17: =$B17*W17 -> 0 | Y17: 0 | Z17: =$B17*Y17 -> 0 | AA17: 0 | AB17: =$B17*AA17 -> 0 | AC17: 0 | AD17: =$B17*AC17 -> 0 | AE17: 0 | AF17: =$B17*AE17 -> 0 | AG17: 0 | AH17: =$B17*AG17 -> 0 | AI17: 0 | AJ17: =$B17*AI17 -> 0 | AK17: 0 | AL17: =$B17*AK17 -> 0 | AM17: 0 | AN17: =$B17*AM17 -> 0 | AO17: 0 | AP17: =$B17*AO17 -> 0 | AQ17: =C17+E17+G17+I17+K17+M17+O17+Q17+S17+U17+W17+Y17+AA17+AC17+AE17+AG17+AI17+AK17+AM17+AO17 -> 0 | AR17: =D17+F17+H17+J17+L17+N17+P17+R17+T17+V17+X17+Z17+AB17+AD17+AF17+AH17+AJ17+AL17+AN17+AP17 -> 0
A18: Personnel Classification | C18: 0 | D18: =B18*C18 -> 0 | E18: 0 | F18: =$B18*E18 -> 0 | G18: 0 | H18: =$B18*G18 -> 0 | I18: 0 | J18: =$B18*I18 -> 0 | K18: 0 | L18: =$B18*K18 -> 0 | M18: 0 | N18: =$B18*M18 -> 0 | O18: 0 | P18: =$B18*O18 -> 0 | Q18: 0 | R18: =$B18*Q18 -> 0 | S18: 0 | T18: =$B18*S18 -> 0 | U18: 0 | V18: =$B18*U18 -> 0 | W18: 0 | X18: =$B18*W18 -> 0 | Y18: 0 | Z18: =$B18*Y18 -> 0 | AA18: 0 | AB18: =$B18*AA18 -> 0 | AC18: 0 | AD18: =$B18*AC18 -> 0 | AE18: 0 | AF18: =$B18*AE18 -> 0 | AG18: 0 | AH18: =$B18*AG18 -> 0 | AI18: 0 | AJ18: =$B18*AI18 -> 0 | AK18: 0 | AL18: =$B18*AK18 -> 0 | AM18: 0 | AN18: =$B18*AM18 -> 0 | AO18: 0 | AP18: =$B18*AO18 -> 0 | AQ18: =C18+E18+G18+I18+K18+M18+O18+Q18+S18+U18+W18+Y18+AA18+AC18+AE18+AG18+AI18+AK18+AM18+AO18 -> 0 | AR18: =D18+F18+H18+J18+L18+N18+P18+R18+T18+V18+X18+Z18+AB18+AD18+AF18+AH18+AJ18+AL18+AN18+AP18 -> 0
A19: Personnel Classification | C19: 0 | D19: =B19*C19 -> 0 | E19: 0 | F19: =$B19*E19 -> 0 | G19: 0 | H19: =$B19*G19 -> 0 | I19: 0 | J19: =$B19*I19 -> 0 | K19: 0 | L19: =$B19*K19 -> 0 | M19: 0 | N19: =$B19*M19 -> 0 | O19: 0 | P19: =$B19*O19 -> 0 | Q19: 0 | R19: =$B19*Q19 -> 0 | S19: 0 | T19: =$B19*S19 -> 0 | U19: 0 | V19: =$B19*U19 -> 0 | W19: 0 | X19: =$B19*W19 -> 0 | Y19: 0 | Z19: =$B19*Y19 -> 0 | AA19: 0 | AB19: =$B19*AA19 -> 0 | AC19: 0 | AD19: =$B19*AC19 -> 0 | AE19: 0 | AF19: =$B19*AE19 -> 0 | AG19: 0 | AH19: =$B19*AG19 -> 0 | AI19: 0 | AJ19: =$B19*AI19 -> 0 | AK19: 0 | AL19: =$B19*AK19 -> 0 | AM19: 0 | AN19: =$B19*AM19 -> 0 | AO19: 0 | AP19: =$B19*AO19 -> 0 | AQ19: =C19+E19+G19+I19+K19+M19+O19+Q19+S19+U19+W19+Y19+AA19+AC19+AE19+AG19+AI19+AK19+AM19+AO19 -> 0 | AR19: =D19+F19+H19+J19+L19+N19+P19+R19+T19+V19+X19+Z19+AB19+AD19+AF19+AH19+AJ19+AL19+AN19+AP19 -> 0
A20: Personnel Classification | C20: 0 | D20: =B20*C20 -> 0 | E20: 0 | F20: =$B20*E20 -> 0 | G20: 0 | H20: =$B20*G20 -> 0 | I20: 0 | J20: =$B20*I20 -> 0 | K20: 0 | L20: =$B20*K20 -> 0 | M20: 0 | N20: =$B20*M20 -> 0 | O20: 0 | P20: =$B20*O20 -> 0 | Q20: 0 | R20: =$B20*Q20 -> 0 | S20: 0 | T20: =$B20*S20 -> 0 | U20: 0 | V20: =$B20*U20 -> 0 | W20: 0 | X20: =$B20*W20 -> 0 | Y20: 0 | Z20: =$B20*Y20 -> 0 | AA20: 0 | AB20: =$B20*AA20 -> 0 | AC20: 0 | AD20: =$B20*AC20 -> 0 | AE20: 0 | AF20: =$B20*AE20 -> 0 | AG20: 0 | AH20: =$B20*AG20 -> 0 | AI20: 0 | AJ20: =$B20*AI20 -> 0 | AK20: 0 | AL20: =$B20*AK20 -> 0 | AM20: 0 | AN20: =$B20*AM20 -> 0 | AO20: 0 | AP20: =$B20*AO20 -> 0 | AQ20: =C20+E20+G20+I20+K20+M20+O20+Q20+S20+U20+W20+Y20+AA20+AC20+AE20+AG20+AI20+AK20+AM20+AO20 -> 0 | AR20: =D20+F20+H20+J20+L20+N20+P20+R20+T20+V20+X20+Z20+AB20+AD20+AF20+AH20+AJ20+AL20+AN20+AP20 -> 0
A21: Personnel Classification | C21: 0 | D21: =B21*C21 -> 0 | E21: 0 | F21: =$B21*E21 -> 0 | G21: 0 | H21: =$B21*G21 -> 0 | I21: 0 | J21: =$B21*I21 -> 0 | K21: 0 | L21: =$B21*K21 -> 0 | M21: 0 | N21: =$B21*M21 -> 0 | O21: 0 | P21: =$B21*O21 -> 0 | Q21: 0 | R21: =$B21*Q21 -> 0 | S21: 0 | T21: =$B21*S21 -> 0 | U21: 0 | V21: =$B21*U21 -> 0 | W21: 0 | X21: =$B21*W21 -> 0 | Y21: 0 | Z21: =$B21*Y21 -> 0 | AA21: 0 | AB21: =$B21*AA21 -> 0 | AC21: 0 | AD21: =$B21*AC21 -> 0 | AE21: 0 | AF21: =$B21*AE21 -> 0 | AG21: 0 | AH21: =$B21*AG21 -> 0 | AI21: 0 | AJ21: =$B21*AI21 -> 0 | AK21: 0 | AL21: =$B21*AK21 -> 0 | AM21: 0 | AN21: =$B21*AM21 -> 0 | AO21: 0 | AP21: =$B21*AO21 -> 0 | AQ21: =C21+E21+G21+I21+K21+M21+O21+Q21+S21+U21+W21+Y21+AA21+AC21+AE21+AG21+AI21+AK21+AM21+AO21 -> 0 | AR21: =D21+F21+H21+J21+L21+N21+P21+R21+T21+V21+X21+Z21+AB21+AD21+AF21+AH21+AJ21+AL21+AN21+AP21 -> 0
A22: Personnel Classification | C22: 0 | D22: =B22*C22 -> 0 | E22: 0 | F22: =$B22*E22 -> 0 | G22: 0 | H22: =$B22*G22 -> 0 | I22: 0 | J22: =$B22*I22 -> 0 | K22: 0 | L22: =$B22*K22 -> 0 | M22: 0 | N22: =$B22*M22 -> 0 | O22: 0 | P22: =$B22*O22 -> 0 | Q22: 0 | R22: =$B22*Q22 -> 0 | S22: 0 | T22: =$B22*S22 -> 0 | U22: 0 | V22: =$B22*U22 -> 0 | W22: 0 | X22: =$B22*W22 -> 0 | Y22: 0 | Z22: =$B22*Y22 -> 0 | AA22: 0 | AB22: =$B22*AA22 -> 0 | AC22: 0 | AD22: =$B22*AC22 -> 0 | AE22: 0 | AF22: =$B22*AE22 -> 0 | AG22: 0 | AH22: =$B22*AG22 -> 0 | AI22: 0 | AJ22: =$B22*AI22 -> 0 | AK22: 0 | AL22: =$B22*AK22 -> 0 | AM22: 0 | AN22: =$B22*AM22 -> 0 | AO22: 0 | AP22: =$B22*AO22 -> 0 | AQ22: =C22+E22+G22+I22+K22+M22+O22+Q22+S22+U22+W22+Y22+AA22+AC22+AE22+AG22+AI22+AK22+AM22+AO22 -> 0 | AR22: =D22+F22+H22+J22+L22+N22+P22+R22+T22+V22+X22+Z22+AB22+AD22+AF22+AH22+AJ22+AL22+AN22+AP22 -> 0
A23: Personnel Classification | C23: 0 | D23: =B23*C23 -> 0 | E23: 0 | F23: =$B23*E23 -> 0 | G23: 0 | H23: =$B23*G23 -> 0 | I23: 0 | J23: =$B23*I23 -> 0 | K23: 0 | L23: =$B23*K23 -> 0 | M23: 0 | N23: =$B23*M23 -> 0 | O23: 0 | P23: =$B23*O23 -> 0 | Q23: 0 | R23: =$B23*Q23 -> 0 | S23: 0 | T23: =$B23*S23 -> 0 | U23: 0 | V23: =$B23*U23 -> 0 | W23: 0 | X23: =$B23*W23 -> 0 | Y23: 0 | Z23: =$B23*Y23 -> 0 | AA23: 0 | AB23: =$B23*AA23 -> 0 | AC23: 0 | AD23: =$B23*AC23 -> 0 | AE23: 0 | AF23: =$B23*AE23 -> 0 | AG23: 0 | AH23: =$B23*AG23 -> 0 | AI23: 0 | AJ23: =$B23*AI23 -> 0 | AK23: 0 | AL23: =$B23*AK23 -> 0 | AM23: 0 | AN23: =$B23*AM23 -> 0 | AO23: 0 | AP23: =$B23*AO23 -> 0 | AQ23: =C23+E23+G23+I23+K23+M23+O23+Q23+S23+U23+W23+Y23+AA23+AC23+AE23+AG23+AI23+AK23+AM23+AO23 -> 0 | AR23: =D23+F23+H23+J23+L23+N23+P23+R23+T23+V23+X23+Z23+AB23+AD23+AF23+AH23+AJ23+AL23+AN23+AP23 -> 0
... A36: Personnel Classification | C36: 0 | D36: =B36*C36 -> 0 | E36: 0 | F36: =$B36*E36 -> 0 | G36: 0 | H36: =$B36*G36 -> 0 | I36: 0 | J36: =$B36*I36 -> 0 | K36: 0 | L36: =$B36*K36 -> 0 | M36: 0 | N36: =$B36*M36 -> 0 | O36: 0 | P36: =$B36*O36 -> 0 | Q36: 0 | R36: =$B36*Q36 -> 0 | S36: 0 | T36: =$B36*S36 -> 0 | U36: 0 | V36: =$B36*U36 -> 0 | W36: 0 | X36: =$B36*W36 -> 0 | Y36: 0 | Z36: =$B36*Y36 -> 0 | AA36: 0 | AB36: =$B36*AA36 -> 0 | AC36: 0 | AD36: =$B36*AC36 -> 0 | AE36: 0 | AF36: =$B36*AE36 -> 0 | AG36: 0 | AH36: =$B36*AG36 -> 0 | AI36: 0 | AJ36: =$B36*AI36 -> 0 | AK36: 0 | AL36: =$B36*AK36 -> 0 | AM36: 0 | AN36: =$B36*AM36 -> 0 | AO36: 0 | AP36: =$B36*AO36 -> 0 | AQ36: =C36+E36+G36+I36+K36+M36+O36+Q36+S36+U36+W36+Y36+AA36+AC36+AE36+AG36+AI36+AK36+AM36+AO36 -> 0 | AR36: =D36+F36+H36+J36+L36+N36+P36+R36+T36+V36+X36+Z36+AB36+AD36+AF36+AH36+AJ36+AL36+AN36+AP36 -> 0
A37: Subtotal - Direct Labor | C37: =SUM(C11:C36) -> 0 | D37: =SUM(D11:D36) -> 0 | E37: =SUM(E11:E36) -> 0 | F37: =SUM(F11:F36) -> 0 | G37: =SUM(G11:G36) -> 0 | H37: =SUM(H11:H36) -> 0 | I37: =SUM(I11:I36) -> 0 | J37: =SUM(J11:J36) -> 0 | ... AR37: =SUM(AR11:AR36) -> 0
A38: Overhead & Fringe (inc. G & A)
A39: Overhead | B39: 0 | D39: =D37*$B39 -> 0 | F39: =F37*$B39 -> 0 | H39: =H37*$B39 -> 0 | J39: =J37*$B39 -> 0 | L39: =L37*$B39 -> 0 | N39: =N37*$B39 -> 0 | P39: =P37*$B39 -> 0 | R39: =R37*$B39 -> 0 | T39: =T37*$B39 -> 0 | V39: =V37*$B39 -> 0 | X39: =X37*$B39 -> 0 | Z39: =Z37*$B39 -> 0 | AB39: =AB37*$B39 -> 0 | AD39: =AD37*$B39 -> 0 | AF39: =AF37*$B39 -> 0 | AH39: =AH37*$B39 -> 0 | AJ39: =AJ37*$B39 -> 0 | AL39: =AL37*$B39 -> 0 | AN39: =AN37*$B39 -> 0 | AP39: =AP37*$B39 -> 0 | AR39: =D39+F39+H39+J39+L39+N39+P39+R39+T39+V39+X39+Z39+AB39+AD39+AF39+AH39+AJ39+AL39+AN39+AP39 -> 0
A40: Fringe | B40: 0 | D40: =$B40*D37 -> 0 | F40: =$B40*F37 -> 0 | H40: =$B40*H37 -> 0 | J40: =$B40*J37 -> 0 | L40: =$B40*L37 -> 0 | N40: =$B40*N37 -> 0 | P40: =$B40*P37 -> 0 | R40: =$B40*R37 -> 0 | T40: =$B40*T37 -> 0 | V40: =$B40*V37 -> 0 | X40: =$B40*X37 -> 0 | Z40: =$B40*Z37 -> 0 | AB40: =$B40*AB37 -> 0 | AD40: =$B40*AD37 -> 0 | AF40: =$B40*AF37 -> 0 | AH40: =$B40*AH37 -> 0 | AJ40: =$B40*AJ37 -> 0 | AL40: =$B40*AL37 -> 0 | AN40: =$B40*AN37 -> 0 | AP40: =$B40*AP37 -> 0 | AR40: =D40+F40+H40+J40+L40+N40+P40+R40+T40+V40+X40+Z40+AB40+AD40+AF40+AH40+AJ40+AL40+AN40+AP40 -> 0
AR41: =D41+F41+H41+J41+L41+N41+P41+R41+T41+V41+X41+Z41+AB41+AD41+AF41+AH41+AJ41+AL41+AN41+AP41 -> 0
A42: Subtotal - Overhead & Fringe (inc. G & A) | D42: =SUM(D38:D41) -> 0 | F42: =SUM(F38:F41) -> 0 | H42: =SUM(H38:H41) -> 0 | J42: =SUM(J38:J41) -> 0 | L42: =SUM(L38:L41) -> 0 | N42: =SUM(N38:N41) -> 0 | P42: =SUM(P38:P41) -> 0 | R42: =SUM(R38:R41) -> 0 | T42: =SUM(T38:T41) -> 0 | V42: =SUM(V38:V41) -> 0 | X42: =SUM(X38:X41) -> 0 | Z42: =SUM(Z38:Z41) -> 0 | AB42: =SUM(AB38:AB41) -> 0 | AD42: =SUM(AD38:AD41) -> 0 | AF42: =SUM(AF38:AF41) -> 0 | AH42: =SUM(AH38:AH41) -> 0 | AJ42: =SUM(AJ38:AJ41) -> 0 | AL42: =SUM(AL38:AL41) -> 0 | AN42: =SUM(AN38:AN41) -> 0 | AP42: =SUM(AP38:AP41) -> 0 | AR42: =SUM(AR38:AR41) -> 0
A43: Fixed Fee
A44: Fixed Fee | B44: 0 | D44: =$B44*(D37+D42) -> 0 | F44: =$B44*(F37+F42) -> 0 | H44: =$B44*(H37+H42) -> 0 | J44: =$B44*(J37+J42) -> 0 | L44: =$B44*(L37+L42) -> 0 | N44: =$B44*(N37+N42) -> 0 | P44: =$B44*(P37+P42) -> 0 | R44: =$B44*(R37+R42) -> 0 | T44: =$B44*(T37+T42) -> 0 | V44: =$B44*(V37+V42) -> 0 | X44: =$B44*(X37+X42) -> 0 | Z44: =$B44*(Z37+Z42) -> 0 | AB44: =$B44*(AB37+AB42) -> 0 | AD44: =$B44*(AD37+AD42) -> 0 | AF44: =$B44*(AF37+AF42) -> 0 | AH44: =$B44*(AH37+AH42) -> 0 | AJ44: =$B44*(AJ37+AJ42) -> 0 | AL44: =$B44*(AL37+AL42) -> 0 | AN44: =$B44*(AN37+AN42) -> 0 | AP44: =$B44*(AP37+AP42) -> 0 | AR44: =D44+F44+H44+J44+L44+N44+P44+R44+T44+V44+X44+Z44+AB44+AD44+AF44 -> 0
A45: Other Direct Costs (ODC's)
A46: Travel | D46: 0 | F46: 0 | H46: 0 | J46: 0 | L46: 0 | N46: 0 | P46: 0 | R46: 0 | T46: 0 | V46: 0 | X46: 0 | Z46: 0 | AB46: 0 | AD46: 0 | AF46: 0 | AH46: 0 | AJ46: 0 | AL46: 0 | AN46: 0 | AP46: 0 | AR46: =D46+F46+H46+J46+L46+N46+P46+R46+T46+V46+X46+Z46+AB46+AD46+AF46+AH46+AJ46+AL46+AN46+AP46 -> 0
A47: Printing - Directly Chargeable only | D47: 0 | F47: 0 | H47: 0 | J47: 0 | L47: 0 | N47: 0 | P47: 0 | R47: 0 | T47: 0 | V47: 0 | X47: 0 | Z47: 0 | AB47: 0 | AD47: 0 | AF47: 0 | AH47: 0 | AJ47: 0 | AL47: 0 | AN47: 0 | AP47: 0 | AR47: =D47+F47+H47+J47+L47+N47+P47+R47+T47+V47+X47+Z47+AB47+AD47+AF47+AH47+AJ47+AL47+AN47+AP47 -> 0
A48: Supplies & Materials - Directly Chargeable only | D48: 0 | F48: 0 | H48: 0 | J48: 0 | L48: 0 | N48: 0 | P48: 0 | R48: 0 | T48: 0 | V48: 0 | X48: 0 | Z48: 0 | AB48: 0 | AD48: 0 | AF48: 0 | AH48: 0 | AJ48: 0 | AL48: 0 | AN48: 0 | AP48: 0 | AR48: =D48+F48+H48+J48+L48+N48+P48+R48+T48+V48+X48+Z48+AB48+AD48+AF48+AH48+AJ48+AL48+AN48+AP48 -> 0
A49: ODC Description | D49: 0 | F49: 0 | H49: 0 | J49: 0 | L49: 0 | N49: 0 | P49: 0 | R49: 0 | T49: 0 | V49: 0 | X49: 0 | Z49: 0 | AB49: 0 | AD49: 0 | AF49: 0 | AH49: 0 | AJ49: 0 | AL49: 0 | AN49: 0 | AP49: 0 | AR49: =D49+F49+H49+J49+L49+N49+P49+R49+T49+V49+X49+Z49+AB49+AD49+AF49+AH49+AJ49+AL49+AN49+AP49 -> 0
A50: ODC Description | D50: 0 | F50: 0 | H50: 0 | J50: 0 | L50: 0 | N50: 0 | P50: 0 | R50: 0 | T50: 0 | V50: 0 | X50: 0 | Z50: 0 | AB50: 0 | AD50: 0 | AF50: 0 | AH50: 0 | AJ50: 0 | AL50: 0 | AN50: 0 | AP50: 0 | AR50: =D50+F50+H50+J50+L50+N50+P50+R50+T50+V50+X50+Z50+AB50+AD50+AF50+AH50+AJ50+AL50+AN50+AP50 -> 0
A51: ODC Description | D51: 0 | F51: 0 | H51: 0 | J51: 0 | L51: 0 | N51: 0 | P51: 0 | R51: 0 | T51: 0 | V51: 0 | X51: 0 | Z51: 0 | AB51: 0 | AD51: 0 | AF51: 0 | AH51: 0 | AJ51: 0 | AL51: 0 | AN51: 0 | AP51: 0 | AR51: =D51+F51+H51+J51+L51+N51+P51+R51+T51+V51+X51+Z51+AB51+AD51+AF51+AH51+AJ51+AL51+AN51+AP51 -> 0
A52: ODC Description | D52: 0 | F52: 0 | H52: 0 | J52: 0 | L52: 0 | N52: 0 | P52: 0 | R52: 0 | T52: 0 | V52: 0 | X52: 0 | Z52: 0 | AB52: 0 | AD52: 0 | AF52: 0 | AH52: 0 | AJ52: 0 | AL52: 0 | AN52: 0 | AP52: 0 | AR52: =D52+F52+H52+J52+L52+N52+P52+R52+T52+V52+X52+Z52+AB52+AD52+AF52+AH52+AJ52+AL52+AN52+AP52 -> 0
A53: ODC Description | D53: 0 | F53: 0 | H53: 0 | J53: 0 | L53: 0 | N53: 0 | P53: 0 | R53: 0 | T53: 0 | V53: 0 | X53: 0 | Z53: 0 | AB53: 0 | AD53: 0 | AF53: 0 | AH53: 0 | AJ53: 0 | AL53: 0 | AN53: 0 | AP53: 0 | AR53: =D53+F53+H53+J53+L53+N53+P53+R53+T53+V53+X53+Z53+AB53+AD53+AF53+AH53+AJ53+AL53+AN53+AP53 -> 0
...

Sheet Sub 2
A1: Sub 2 | E1: LINE ITEM BUDGET
A2: Address
A3: Address | H3: Title of Project: | R3: Title of Project: | S3: =I3 -> 0 | AB3: Title of Project: | AC3: =I3 -> 0 | AL3: Title of Project: | AM3: =S3 -> 0
A4: email
A5: Phone | H5: RFP Number: | R5: RFP Number: | S5: =I5 -> 0 | AB5: RFP Number: | AC5: =S5 -> 0 | AL5: RFP Number: | AM5: =AC5 -> 0
A7: (a) | B7: (b) | C7: (c) | D7: (d) | E7: (e) | F7: (f) | G7: (g) | H7: (h) | I7: (i) | J7: (j) | K7: (k) | L7: (l) | M7: (m) | N7: (n) | O7: (o) | P7: (p) | Q7: (q) | R7: (r) | S7: (s) | T7: (t) | U7: (u) | V7: (v) | W7: (w) | X7: (x) | Y7: (y) | Z7: (z) | AA7: (aa) | AB7: (ab) | AC7: (ac) | AD7: (ad) | AE7: (ae) | AF7: (af) | AG7: (ag) | AH7: (ah) | AI7: (ai) | AJ7: (aj) | AK7: (ak) | AL7: (al) | AM7: (am) | AN7: (an) | AO7: (ao) | AP7: (ap)
A8: Cost Categories | B8: Maximum Hourly Rate | C8: Task 1 | E8: Task 2 | G8: Task 3 | I8: Task 4 | K8: Task 5 | M8: Task 6 | O8: Task 7 | Q8: Task 8 | S8: Task 9 | U8: Task 10 | W8: Task 11 | Y8: Task 12 | AA8: Task 13 | AC8: Task 14 | AE8: Task 15 | AG8: Task 16 | AI8: Task 17 | AK8: Task 18 | AM8: Task 19 | AO8: Task 20 | AQ8: Grand Total (All Tasks)
C9: Task Name | E9: Task Name | G9: Task Name | I9: Task Name | K9: Task Name | M9: Task Name | O9: Task Name | Q9: Task Name | S9: Task Name | U9: Task Name | W9: Task Name | Y9: Task Name | AA9: Task Name | AC9: Task Name | AE9: Task Name | AG9: Task Name | AI9: Task Name | AK9: Task Name | AM9: Task Name | AO9: Task Name
C10: Hours | D10: Amount | E10: Hours | F10: Amount | G10: Hours | H10: Amount | I10: Hours | J10: Amount | K10: Hours | L10: Amount | M10: Hours | N10: Amount | O10: Hours | P10: Amount | Q10: Hours | R10: Amount | S10: Hours | T10: Amount | U10: Hours | V10: Amount | W10: Hours | X10: Amount | Y10: Hours | Z10: Amount | AA10: Hours | AB10: Amount | AC10: Hours | AD10: Amount | AE10: Hours | AF10: Amount | AG10: Hours | AH10: Amount | AI10: Hours | AJ10: Amount | AK10: Hours | AL10: Amount | AM10: Hours | AN10: Amount | AO10: Hours | AP10: Amount | AQ10: Hours | AR10: Amount
A11: Direct Labor Classification(s)
A12: Personnel Classification | C12: 0 | D12: =B12*C12 -> 0 | E12: 0 | F12: =$B12*E12 -> 0 | G12: 0 | H12: =$B12*G12 -> 0 | I12: 0 | J12: =$B12*I12 -> 0 | K12: 0 | L12: =$B12*K12 -> 0 | M12: 0 | N12: =$B12*M12 -> 0 | O12: 0 | P12: =$B12*O12 -> 0 | Q12: 0 | R12: =$B12*Q12 -> 0 | S12: 0 | T12: =$B12*S12 -> 0 | U12: 0 | V12: =$B12*U12 -> 0 | W12: 0 | X12: =$B12*W12 -> 0 | Y12: 0 | Z12: =$B12*Y12 -> 0 | AA12: 0 | AB12: =$B12*AA12 -> 0 | AC12: 0 | AD12: =$B12*AC12 -> 0 | AE12: 0 | AF12: =$B12*AE12 -> 0 | AG12: 0 | AH12: =$B12*AG12 -> 0 | AI12: 0 | AJ12: =$B12*AI12 -> 0 | AK12: 0 | AL12: =$B12*AK12 -> 0 | AM12: 0 | AN12: =$B12*AM12 -> 0 | AO12: 0 | AP12: =$B12*AO12 -> 0 | AQ12: =C12+E12+G12+I12+K12+M12+O12+Q12+S12+U12+W12+Y12+AA12+AC12+AE12+AG12+AI12+AK12+AM12+AO12 -> 0 | AR12: =D12+F12+H12+J12+L12+N12+P12+R12+T12+V12+X12+Z12+AB12+AD12+AF12+AH12+AJ12+AL12+AN12+AP12 -> 0
A13: Personnel Classification | C13: 0 | D13: =B13*C13 -> 0 | E13: 0 | F13: =$B13*E13 -> 0 | G13: 0 | H13: =$B13*G13 -> 0 | I13: 0 | J13: =$B13*I13 -> 0 | K13: 0 | L13: =$B13*K13 -> 0 | M13: 0 | N13: =$B13*M13 -> 0 | O13: 0 | P13: =$B13*O13 -> 0 | Q13: 0 | R13: =$B13*Q13 -> 0 | S13: 0 | T13: =$B13*S13 -> 0 | U13: 0 | V13: =$B13*U13 -> 0 | W13: 0 | X13: =$B13*W13 -> 0 | Y13: 0 | Z13: =$B13*Y13 -> 0 | AA13: 0 | AB13: =$B13*AA13 -> 0 | AC13: 0 | AD13: =$B13*AC13 -> 0 | AE13: 0 | AF13: =$B13*AE13 -> 0 | AG13: 0 | AH13: =$B13*AG13 -> 0 | AI13: 0 | AJ13: =$B13*AI13 -> 0 | AK13: 0 | AL13: =$B13*AK13 -> 0 | AM13: 0 | AN13: =$B13*AM13 -> 0 | AO13: 0 | AP13: =$B13*AO13 -> 0 | AQ13: =C13+E13+G13+I13+K13+M13+O13+Q13+S13+U13+W13+Y13+AA13+AC13+AE13+AG13+AI13+AK13+AM13+AO13 -> 0 | AR13: =D13+F13+H13+J13+L13+N13+P13+R13+T13+V13+X13+Z13+AB13+AD13+AF13+AH13+AJ13+AL13+AN13+AP13 -> 0
A14: Personnel Classification | C14: 0 | D14: =B14*C14 -> 0 | E14: 0 | F14: =$B14*E14 -> 0 | G14: 0 | H14: =$B14*G14 -> 0 | I14: 0 | J14: =$B14*I14 -> 0 | K14: 0 | L14: =$B14*K14 -> 0 | M14: 0 | N14: =$B14*M14 -> 0 | O14: 0 | P14: =$B14*O14 -> 0 | Q14: 0 | R14: =$B14*Q14 -> 0 | S14: 0 | T14: =$B14*S14 -> 0 | U14: 0 | V14: =$B14*U14 -> 0 | W14: 0 | X14: =$B14*W14 -> 0 | Y14: 0 | Z14: =$B14*Y14 -> 0 | AA14: 0 | AB14: =$B14*AA14 -> 0 | AC14: 0 | AD14: =$B14*AC14 -> 0 | AE14: 0 | AF14: =$B14*AE14 -> 0 | AG14: 0 | AH14: =$B14*AG14 -> 0 | AI14: 0 | AJ14: =$B14*AI14 -> 0 | AK14: 0 | AL14: =$B14*AK14 -> 0 | AM14: 0 | AN14: =$B14*AM14 -> 0 | AO14: 0 | AP14: =$B14*AO14 -> 0 | AQ14: =C14+E14+G14+I14+K14+M14+O14+Q14+S14+U14+W14+Y14+AA14+AC14+AE14+AG14+AI14+AK14+AM14+AO14 -> 0 | AR14: =D14+F14+H14+J14+L14+N14+P14+R14+T14+V14+X14+Z14+AB14+AD14+AF14+AH14+AJ14+AL14+AN14+AP14 -> 0
A15: Personnel Classification | C15: 0 | D15: =B15*C15 -> 0 | E15: 0 | F15: =$B15*E15 -> 0 | G15: 0 | H15: =$B15*G15 -> 0 | I15: 0 | J15: =$B15*I15 -> 0 | K15: 0 | L15: =$B15*K15 -> 0 | M15: 0 | N15: =$B15*M15 -> 0 | O15: 0 | P15: =$B15*O15 -> 0 | Q15: 0 | R15: =$B15*Q15 -> 0 | S15: 0 | T15: =$B15*S15 -> 0 | U15: 0 | V15: =$B15*U15 -> 0 | W15: 0 | X15: =$B15*W15 -> 0 | Y15: 0 | Z15: =$B15*Y15 -> 0 | AA15: 0 | AB15: =$B15*AA15 -> 0 | AC15: 0 | AD15: =$B15*AC15 -> 0 | AE15: 0 | AF15: =$B15*AE15 -> 0 | AG15: 0 | AH15: =$B15*AG15 -> 0 | AI15: 0 | AJ15: =$B15*AI15 -> 0 | AK15: 0 | AL15: =$B15*AK15 -> 0 | AM15: 0 | AN15: =$B15*AM15 -> 0 | AO15: 0 | AP15: =$B15*AO15 -> 0 | AQ15: =C15+E15+G15+I15+K15+M15+O15+Q15+S15+U15+W15+Y15+AA15+AC15+AE15+AG15+AI15+AK15+AM15+AO15 -> 0 | AR15: =D15+F15+H15+J15+L15+N15+P15+R15+T15+V15+X15+Z15+AB15+AD15+AF15+AH15+AJ15+AL15+AN15+AP15 -> 0
A16: Personnel Classification | C16: 0 | D16: =B16*C16 -> 0 | E16: 0 | F16: =$B16*E16 -> 0 | G16: 0 | H16: =$B16*G16 -> 0 | I16: 0 | J16: =$B16*I16 -> 0 | K16: 0 | L16: =$B16*K16 -> 0 | M16: 0 | N16: =$B16*M16 -> 0 | O16: 0 | P16: =$B16*O16 -> 0 | Q16: 0 | R16: =$B16*Q16 -> 0 | S16: 0 | T16: =$B16*S16 -> 0 | U16: 0 | V16: =$B16*U16 -> 0 | W16: 0 | X16: =$B16*W16 -> 0 | Y16: 0 | Z16: =$B16*Y16 -> 0 | AA16: 0 | AB16: =$B16*AA16 -> 0 | AC16: 0 | AD16: =$B16*AC16 -> 0 | AE16: 0 | AF16: =$B16*AE16 -> 0 | AG16: 0 | AH16: =$B16*AG16 -> 0 | AI16: 0 | AJ16: =$B16*AI16 -> 0 | AK16: 0 | AL16: =$B16*AK16 -> 0 | AM16: 0 | AN16: =$B16*AM16 -> 0 | AO16: 0 | AP16: =$B16*AO16 -> 0 | AQ16: =C16+E16+G16+I16+K16+M16+O16+Q16+S16+U16+W16+Y16+AA16+AC16+AE16+AG16+AI16+AK16+AM16+AO16 -> 0 | AR16: =D16+F16+H16+J16+L16+N16+P16+R16+T16+V16+X16+Z16+AB16+AD16+AF16+AH16+AJ16+AL16+AN16+AP16 -> 0
A17: Personnel Classification | C17: 0 | D17: =B17*C17 -> 0 | E17: 0 | F17: =$B17*E17 -> 0 | G17: 0 | H17: =$B17*G17 -> 0 | I17: 0 | J17: =$B17*I17 -> 0 | K17: 0 | L17: =$B17*K17 -> 0 | M17: 0 | N17: =$B17*M17 -> 0 | O17: 0 | P17: =$B17*O17 -> 0 | Q17: 0 | R17: =$B17*Q17 -> 0 | S17: 0 | T17: =$B17*S17 -> 0 | U17: 0 | V17: =$B17*U17 -> 0 | W17: 0 | X17: =$B17*W17 -> 0 | Y17: 0 | Z17: =$B17*Y17 -> 0 | AA17: 0 | AB17: =$B17*AA17 -> 0 | AC17: 0 | AD17: =$B17*AC17 -> 0 | AE17: 0 | AF17: =$B17*AE17 -> 0 | AG17: 0 | AH17: =$B17*AG17 -> 0 | AI17: 0 | AJ17: =$B17*AI17 -> 0 | AK17: 0 | AL17: =$B17*AK17 -> 0 | AM17: 0 | AN17: =$B17*AM17 -> 0 | AO17: 0 | AP17: =$B17*AO17 -> 0 | AQ17: =C17+E17+G17+I17+K17+M17+O17+Q17+S17+U17+W17+Y17+AA17+AC17+AE17+AG17+AI17+AK17+AM17+AO17 -> 0 | AR17: =D17+F17+H17+J17+L17+N17+P17+R17+T17+V17+X17+Z17+AB17+AD17+AF17+AH17+AJ17+AL17+AN17+AP17 -> 0
A18: Personnel Classification | C18: 0 | D18: =B18*C18 -> 0 | E18: 0 | F18: =$B18*E18 -> 0 | G18: 0 | H18: =$B18*G18 -> 0 | I18: 0 | J18: =$B18*I18 -> 0 | K18: 0 | L18: =$B18*K18 -> 0 | M18: 0 | N18: =$B18*M18 -> 0 | O18: 0 | P18: =$B18*O18 -> 0 | Q18: 0 | R18: =$B18*Q18 -> 0 | S18: 0 | T18: =$B18*S18 -> 0 | U18: 0 | V18: =$B18*U18 -> 0 | W18: 0 | X18: =$B18*W18 -> 0 | Y18: 0 | Z18: =$B18*Y18 -> 0 | AA18: 0 | AB18: =$B18*AA18 -> 0 | AC18: 0 | AD18: =$B18*AC18 -> 0 | AE18: 0 | AF18: =$B18*AE18 -> 0 | AG18: 0 | AH18: =$B18*AG18 -> 0 | AI18: 0 | AJ18: =$B18*AI18 -> 0 | AK18: 0 | AL18: =$B18*AK18 -> 0 | AM18: 0 | AN18: =$B18*AM18 -> 0 | AO18: 0 | AP18: =$B18*AO18 -> 0 | AQ18: =C18+E18+G18+I18+K18+M18+O18+Q18+S18+U18+W18+Y18+AA18+AC18+AE18+AG18+AI18+AK18+AM18+AO18 -> 0 | AR18: =D18+F18+H18+J18+L18+N18+P18+R18+T18+V18+X18+Z18+AB18+AD18+AF18+AH18+AJ18+AL18+AN18+AP18 -> 0
A19: Personnel Classification | C19: 0 | D19: =B19*C19 -> 0 | E19: 0 | F19: =$B19*E19 -> 0 | G19: 0 | H19: =$B19*G19 -> 0 | I19: 0 | J19: =$B19*I19 -> 0 | K19: 0 | L19: =$B19*K19 -> 0 | M19: 0 | N19: =$B19*M19 -> 0 | O19: 0 | P19: =$B19*O19 -> 0 | Q19: 0 | R19: =$B19*Q19 -> 0 | S19: 0 | T19: =$B19*S19 -> 0 | U19: 0 | V19: =$B19*U19 -> 0 | W19: 0 | X19: =$B19*W19 -> 0 | Y19: 0 | Z19: =$B19*Y19 -> 0 | AA19: 0 | AB19: =$B19*AA19 -> 0 | AC19: 0 | AD19: =$B19*AC19 -> 0 | AE19: 0 | AF19: =$B19*AE19 -> 0 | AG19: 0 | AH19: =$B19*AG19 -> 0 | AI19: 0 | AJ19: =$B19*AI19 -> 0 | AK19: 0 | AL19: =$B19*AK19 -> 0 | AM19: 0 | AN19: =$B19*AM19 -> 0 | AO19: 0 | AP19: =$B19*AO19 -> 0 | AQ19: =C19+E19+G19+I19+K19+M19+O19+Q19+S19+U19+W19+Y19+AA19+AC19+AE19+AG19+AI19+AK19+AM19+AO19 -> 0 | AR19: =D19+F19+H19+J19+L19+N19+P19+R19+T19+V19+X19+Z19+AB19+AD19+AF19+AH19+AJ19+AL19+AN19+AP19 -> 0
A20: Personnel Classification | C20: 0 | D20: =B20*C20 -> 0 | E20: 0 | F20: =$B20*E20 -> 0 | G20: 0 | H20: =$B20*G20 -> 0 | I20: 0 | J20: =$B20*I20 -> 0 | K20: 0 | L20: =$B20*K20 -> 0 | M20: 0 | N20: =$B20*M20 -> 0 | O20: 0 | P20: =$B20*O20 -> 0 | Q20: 0 | R20: =$B20*Q20 -> 0 | S20: 0 | T20: =$B20*S20 -> 0 | U20: 0 | V20: =$B20*U20 -> 0 | W20: 0 | X20: =$B20*W20 -> 0 | Y20: 0 | Z20: =$B20*Y20 -> 0 | AA20: 0 | AB20: =$B20*AA20 -> 0 | AC20: 0 | AD20: =$B20*AC20 -> 0 | AE20: 0 | AF20: =$B20*AE20 -> 0 | AG20: 0 | AH20: =$B20*AG20 -> 0 | AI20: 0 | AJ20: =$B20*AI20 -> 0 | AK20: 0 | AL20: =$B20*AK20 -> 0 | AM20: 0 | AN20: =$B20*AM20 -> 0 | AO20: 0 | AP20: =$B20*AO20 -> 0 | AQ20: =C20+E20+G20+I20+K20+M20+O20+Q20+S20+U20+W20+Y20+AA20+AC20+AE20+AG20+AI20+AK20+AM20+AO20 -> 0 | AR20: =D20+F20+H20+J20+L20+N20+P20+R20+T20+V20+X20+Z20+AB20+AD20+AF20+AH20+AJ20+AL20+AN20+AP20 -> 0
A21: Personnel Classification | C21: 0 | D21: =B21*C21 -> 0 | E21: 0 | F21: =$B21*E21 -> 0 | G21: 0 | H21: =$B21*G21 -> 0 | I21: 0 | J21: =$B21*I21 -> 0 | K21: 0 | L21: =$B21*K21 -> 0 | M21: 0 | N21: =$B21*M21 -> 0 | O21: 0 | P21: =$B21*O21 -> 0 | Q21: 0 | R21: =$B21*Q21 -> 0 | S21: 0 | T21: =$B21*S21 -> 0 | U21: 0 | V21: =$B21*U21 -> 0 | W21: 0 | X21: =$B21*W21 -> 0 | Y21: 0 | Z21: =$B21*Y21 -> 0 | AA21: 0 | AB21: =$B21*AA21 -> 0 | AC21: 0 | AD21: =$B21*AC21 -> 0 | AE21: 0 | AF21: =$B21*AE21 -> 0 | AG21: 0 | AH21: =$B21*AG21 -> 0 | AI21: 0 | AJ21: =$B21*AI21 -> 0 | AK21: 0 | AL21: =$B21*AK21 -> 0 | AM21: 0 | AN21: =$B21*AM21 -> 0 | AO21: 0 | AP21: =$B21*AO21 -> 0 | AQ21: =C21+E21+G21+I21+K21+M21+O21+Q21+S21+U21+W21+Y21+AA21+AC21+AE21+AG21+AI21+AK21+AM21+AO21 -> 0 | AR21: =D21+F21+H21+J21+L21+N21+P21+R21+T21+V21+X21+Z21+AB21+AD21+AF21+AH21+AJ21+AL21+AN21+AP21 -> 0
A22: Personnel Classification | C22: 0 | D22: =B22*C22 -> 0 | E22: 0 | F22: =$B22*E22 -> 0 | G22: 0 | H22: =$B22*G22 -> 0 | I22: 0 | J22: =$B22*I22 -> 0 | K22: 0 | L22: =$B22*K22 -> 0 | M22: 0 | N22: =$B22*M22 -> 0 | O22: 0 | P22: =$B22*O22 -> 0 | Q22: 0 | R22: =$B22*Q22 -> 0 | S22: 0 | T22: =$B22*S22 -> 0 | U22: 0 | V22: =$B22*U22 -> 0 | W22: 0 | X22: =$B22*W22 -> 0 | Y22: 0 | Z22: =$B22*Y22 -> 0 | AA22: 0 | AB22: =$B22*AA22 -> 0 | AC22: 0 | AD22: =$B22*AC22 -> 0 | AE22: 0 | AF22: =$B22*AE22 -> 0 | AG22: 0 | AH22: =$B22*AG22 -> 0 | AI22: 0 | AJ22: =$B22*AI22 -> 0 | AK22: 0 | AL22: =$B22*AK22 -> 0 | AM22: 0 | AN22: =$B22*AM22 -> 0 | AO22: 0 | AP22: =$B22*AO22 -> 0 | AQ22: =C22+E22+G22+I22+K22+M22+O22+Q22+S22+U22+W22+Y22+AA22+AC22+AE22+AG22+AI22+AK22+AM22+AO22 -> 0 | AR22: =D22+F22+H22+J22+L22+N22+P22+R22+T22+V22+X22+Z22+AB22+AD22+AF22+AH22+AJ22+AL22+AN22+AP22 -> 0
A23: Personnel Classification | C23: 0 | D23: =B23*C23 -> 0 | E23: 0 | F23: =$B23*E23 -> 0 | G23: 0 | H23: =$B23*G23 -> 0 | I23: 0 | J23: =$B23*I23 -> 0 | K23: 0 | L23: =$B23*K23 -> 0 | M23: 0 | N23: =$B23*M23 -> 0 | O23: 0 | P23: =$B23*O23 -> 0 | Q23: 0 | R23: =$B23*Q23 -> 0 | S23: 0 | T23: =$B23*S23 -> 0 | U23: 0 | V23: =$B23*U23 -> 0 | W23: 0 | X23: =$B23*W23 -> 0 | Y23: 0 | Z23: =$B23*Y23 -> 0 | AA23: 0 | AB23: =$B23*AA23 -> 0 | AC23: 0 | AD23: =$B23*AC23 -> 0 | AE23: 0 | AF23: =$B23*AE23 -> 0 | AG23: 0 | AH23: =$B23*AG23 -> 0 | AI23: 0 | AJ23: =$B23*AI23 -> 0 | AK23: 0 | AL23: =$B23*AK23 -> 0 | AM23: 0 | AN23: =$B23*AM23 -> 0 | AO23: 0 | AP23: =$B23*AO23 -> 0 | AQ23: =C23+E23+G23+I23+K23+M23+O23+Q23+S23+U23+W23+Y23+AA23+AC23+AE23+AG23+AI23+AK23+AM23+AO23 -> 0 | AR23: =D23+F23+H23+J23+L23+N23+P23+R23+T23+V23+X23+Z23+AB23+AD23+AF23+AH23+AJ23+AL23+AN23+AP23 -> 0
... A36: Personnel Classification | C36: 0 | D36: =B36*C36 -> 0 | E36: 0 | F36: =$B36*E36 -> 0 | G36: 0 | H36: =$B36*G36 -> 0 | I36: 0 | J36: =$B36*I36 -> 0 | K36: 0 | L36: =$B36*K36 -> 0 | M36: 0 | N36: =$B36*M36 -> 0 | O36: 0 | P36: =$B36*O36 -> 0 | Q36: 0 | R36: =$B36*Q36 -> 0 | S36: 0 | T36: =$B36*S36 -> 0 | U36: 0 | V36: =$B36*U36 -> 0 | W36: 0 | X36: =$B36*W36 -> 0 | Y36: 0 | Z36: =$B36*Y36 -> 0 | AA36: 0 | AB36: =$B36*AA36 -> 0 | AC36: 0 | AD36: =$B36*AC36 -> 0 | AE36: 0 | AF36: =$B36*AE36 -> 0 | AG36: 0 | AH36: =$B36*AG36 -> 0 | AI36: 0 | AJ36: =$B36*AI36 -> 0 | AK36: 0 | AL36: =$B36*AK36 -> 0 | AM36: 0 | AN36: =$B36*AM36 -> 0 | AO36: 0 | AP36: =$B36*AO36 -> 0 | AQ36: =C36+E36+G36+I36+K36+M36+O36+Q36+S36+U36+W36+Y36+AA36+AC36+AE36+AG36+AI36+AK36+AM36+AO36 -> 0 | AR36: =D36+F36+H36+J36+L36+N36+P36+R36+T36+V36+X36+Z36+AB36+AD36+AF36+AH36+AJ36+AL36+AN36+AP36 -> 0
A37: Subtotal - Direct Labor | C37: =SUM(C11:C36) -> 0 | D37: =SUM(D11:D36) -> 0 | E37: =SUM(E11:E36) -> 0 | F37: =SUM(F11:F36) -> 0 | G37: =SUM(G11:G36) -> 0 | H37: =SUM(H11:H36) -> 0 | I37: =SUM(I11:I36) -> 0 | J37: =SUM(J11:J36) -> 0 | ... AR37: =SUM(AR11:AR36) -> 0
A38: Overhead & Fringe (inc. G & A)
A39: Overhead | B39: 0 | D39: =D37*$B39 -> 0 | F39: =F37*$B39 -> 0 | H39: =H37*$B39 -> 0 | J39: =J37*$B39 -> 0 | L39: =L37*$B39 -> 0 | N39: =N37*$B39 -> 0 | P39: =P37*$B39 -> 0 | R39: =R37*$B39 -> 0 | T39: =T37*$B39 -> 0 | V39: =V37*$B39 -> 0 | X39: =X37*$B39 -> 0 | Z39: =Z37*$B39 -> 0 | AB39: =AB37*$B39 -> 0 | AD39: =AD37*$B39 -> 0 | AF39: =AF37*$B39 -> 0 | AH39: =AH37*$B39 -> 0 | AJ39: =AJ37*$B39 -> 0 | AL39: =AL37*$B39 -> 0 | AN39: =AN37*$B39 -> 0 | AP39: =AP37*$B39 -> 0 | AR39: =D39+F39+H39+J39+L39+N39+P39+R39+T39+V39+X39+Z39+AB39+AD39+AF39+AH39+AJ39+AL39+AN39+AP39 -> 0
A40: Fringe | B40: 0 | D40: =$B40*D37 -> 0 | F40: =$B40*F37 -> 0 | H40: =$B40*H37 -> 0 | J40: =$B40*J37 -> 0 | L40: =$B40*L37 -> 0 | N40: =$B40*N37 -> 0 | P40: =$B40*P37 -> 0 | R40: =$B40*R37 -> 0 | T40: =$B40*T37 -> 0 | V40: =$B40*V37 -> 0 | X40: =$B40*X37 -> 0 | Z40: =$B40*Z37 -> 0 | AB40: =$B40*AB37 -> 0 | AD40: =$B40*AD37 -> 0 | AF40: =$B40*AF37 -> 0 | AH40: =$B40*AH37 -> 0 | AJ40: =$B40*AJ37 -> 0 | AL40: =$B40*AL37 -> 0 | AN40: =$B40*AN37 -> 0 | AP40: =$B40*AP37 -> 0 | AR40: =D40+F40+H40+J40+L40+N40+P40+R40+T40+V40+X40+Z40+AB40+AD40+AF40+AH40+AJ40+AL40+AN40+AP40 -> 0
AR41: =D41+F41+H41+J41+L41+N41+P41+R41+T41+V41+X41+Z41+AB41+AD41+AF41+AH41+AJ41+AL41+AN41+AP41 -> 0
A42: Subtotal - Overhead & Fringe (inc. G & A) | D42: =SUM(D38:D41) -> 0 | F42: =SUM(F38:F41) -> 0 | H42: =SUM(H38:H41) -> 0 | J42: =SUM(J38:J41) -> 0 | L42: =SUM(L38:L41) -> 0 | N42: =SUM(N38:N41) -> 0 | P42: =SUM(P38:P41) -> 0 | R42: =SUM(R38:R41) -> 0 | T42: =SUM(T38:T41) -> 0 | V42: =SUM(V38:V41) -> 0 | X42: =SUM(X38:X41) -> 0 | Z42: =SUM(Z38:Z41) -> 0 | AB42: =SUM(AB38:AB41) -> 0 | AD42: =SUM(AD38:AD41) -> 0 | AF42: =SUM(AF38:AF41) -> 0 | AH42: =SUM(AH38:AH41) -> 0 | AJ42: =SUM(AJ38:AJ41) -> 0 | AL42: =SUM(AL38:AL41) -> 0 | AN42: =SUM(AN38:AN41) -> 0 | AP42: =SUM(AP38:AP41) -> 0 | AR42: =SUM(AR38:AR41) -> 0
A43: Fixed Fee
A44: Fixed Fee | B44: 0 | D44: =$B44*(D37+D42) -> 0 | F44: =$B44*(F37+F42) -> 0 | H44: =$B44*(H37+H42) -> 0 | J44: =$B44*(J37+J42) -> 0 | L44: =$B44*(L37+L42) -> 0 | N44: =$B44*(N37+N42) -> 0 | P44: =$B44*(P37+P42) -> 0 | R44: =$B44*(R37+R42) -> 0 | T44: =$B44*(T37+T42) -> 0 | V44: =$B44*(V37+V42) -> 0 | X44: =$B44*(X37+X42) -> 0 | Z44: =$B44*(Z37+Z42) -> 0 | AB44: =$B44*(AB37+AB42) -> 0 | AD44: =$B44*(AD37+AD42) -> 0 | AF44: =$B44*(AF37+AF42) -> 0 | AH44: =$B44*(AH37+AH42) -> 0 | AJ44: =$B44*(AJ37+AJ42) -> 0 | AL44: =$B44*(AL37+AL42) -> 0 | AN44: =$B44*(AN37+AN42) -> 0 | AP44: =$B44*(AP37+AP42) -> 0 | AR44: =D44+F44+H44+J44+L44+N44+P44+R44+T44+V44+X44+Z44+AB44+AD44+AF44 -> 0
A45: Other Direct Costs (ODC's)
A46: Travel | D46: 0 | F46: 0 | H46: 0 | J46: 0 | L46: 0 | N46: 0 | P46: 0 | R46: 0 | T46: 0 | V46: 0 | X46: 0 | Z46: 0 | AB46: 0 | AD46: 0 | AF46: 0 | AH46: 0 | AJ46: 0 | AL46: 0 | AN46: 0 | AP46: 0 | AR46: =D46+F46+H46+J46+L46+N46+P46+R46+T46+V46+X46+Z46+AB46+AD46+AF46+AH46+AJ46+AL46+AN46+AP46 -> 0
A47: Printing - Directly Chargeable only | D47: 0 | F47: 0 | H47: 0 | J47: 0 | L47: 0 | N47: 0 | P47: 0 | R47: 0 | T47: 0 | V47: 0 | X47: 0 | Z47: 0 | AB47: 0 | AD47: 0 | AF47: 0 | AH47: 0 | AJ47: 0 | AL47: 0 | AN47: 0 | AP47: 0 | AR47: =D47+F47+H47+J47+L47+N47+P47+R47+T47+V47+X47+Z47+AB47+AD47+AF47+AH47+AJ47+AL47+AN47+AP47 -> 0
A48: Supplies & Materials - Directly Chargeable only | D48: 0 | F48: 0 | H48: 0 | J48: 0 | L48: 0 | N48: 0 | P48: 0 | R48: 0 | T48: 0 | V48: 0 | X48: 0 | Z48: 0 | AB48: 0 | AD48: 0 | AF48: 0 | AH48: 0 | AJ48: 0 | AL48: 0 | AN48: 0 | AP48: 0 | AR48: =D48+F48+H48+J48+L48+N48+P48+R48+T48+V48+X48+Z48+AB48+AD48+AF48+AH48+AJ48+AL48+AN48+AP48 -> 0
A49: ODC Description | D49: 0 | F49: 0 | H49: 0 | J49: 0 | L49: 0 | N49: 0 | P49: 0 | R49: 0 | T49: 0 | V49: 0 | X49: 0 | Z49: 0 | AB49: 0 | AD49: 0 | AF49: 0 | AH49: 0 | AJ49: 0 | AL49: 0 | AN49: 0 | AP49: 0 | AR49: =D49+F49+H49+J49+L49+N49+P49+R49+T49+V49+X49+Z49+AB49+AD49+AF49+AH49+AJ49+AL49+AN49+AP49 -> 0
A50: ODC Description | D50: 0 | F50: 0 | H50: 0 | J50: 0 | L50: 0 | N50: 0 | P50: 0 | R50: 0 | T50: 0 | V50: 0 | X50: 0 | Z50: 0 | AB50: 0 | AD50: 0 | AF50: 0 | AH50: 0 | AJ50: 0 | AL50: 0 | AN50: 0 | AP50: 0 | AR50: =D50+F50+H50+J50+L50+N50+P50+R50+T50+V50+X50+Z50+AB50+AD50+AF50+AH50+AJ50+AL50+AN50+AP50 -> 0
A51: ODC Description | D51: 0 | F51: 0 | H51: 0 | J51: 0 | L51: 0 | N51: 0 | P51: 0 | R51: 0 | T51: 0 | V51: 0 | X51: 0 | Z51: 0 | AB51: 0 | AD51: 0 | AF51: 0 | AH51: 0 | AJ51: 0 | AL51: 0 | AN51: 0 | AP51: 0 | AR51: =D51+F51+H51+J51+L51+N51+P51+R51+T51+V51+X51+Z51+AB51+AD51+AF51+AH51+AJ51+AL51+AN51+AP51 -> 0
A52: ODC Description | D52: 0 | F52: 0 | H52: 0 | J52: 0 | L52: 0 | N52: 0 | P52: 0 | R52: 0 | T52: 0 | V52: 0 | X52: 0 | Z52: 0 | AB52: 0 | AD52: 0 | AF52: 0 | AH52: 0 | AJ52: 0 | AL52: 0 | AN52: 0 | AP52: 0 | AR52: =D52+F52+H52+J52+L52+N52+P52+R52+T52+V52+X52+Z52+AB52+AD52+AF52+AH52+AJ52+AL52+AN52+AP52 -> 0
A53: ODC Description | D53: 0 | F53: 0 | H53: 0 | J53: 0 | L53: 0 | N53: 0 | P53: 0 | R53: 0 | T53: 0 | V53: 0 | X53: 0 | Z53: 0 | AB53: 0 | AD53: 0 | AF53: 0 | AH53: 0 | AJ53: 0 | AL53: 0 | AN53: 0 | AP53: 0 | AR53: =D53+F53+H53+J53+L53+N53+P53+R53+T53+V53+X53+Z53+AB53+AD53+AF53+AH53+AJ53+AL53+AN53+AP53 -> 0
...

Sheet Sub 3
A1: Sub 3 | E1: LINE ITEM BUDGET
A2: Address
A3: Address | H3: Title of Project: | R3: Title of Project: | S3: =I3 -> 0 | AB3: Title of Project: | AC3: =I3 -> 0 | AL3: Title of Project: | AM3: =S3 -> 0
A4: email
A5: Phone | H5: RFP Number: | R5: RFP Number: | S5: =I5 -> 0 | AB5: RFP Number: | AC5: =S5 -> 0 | AL5: RFP Number: | AM5: =AC5 -> 0
A7: (a) | B7: (b) | C7: (c) | D7: (d) | E7: (e) | F7: (f) | G7: (g) | H7: (h) | I7: (i) | J7: (j) | K7: (k) | L7: (l) | M7: (m) | N7: (n) | O7: (o) | P7: (p) | Q7: (q) | R7: (r) | S7: (s) | T7: (t) | U7: (u) | V7: (v) | W7: (w) | X7: (x) | Y7: (y) | Z7: (z) | AA7: (aa) | AB7: (ab) | AC7: (ac) | AD7: (ad) | AE7: (ae) | AF7: (af) | AG7: (ag) | AH7: (ah) | AI7: (ai) | AJ7: (aj) | AK7: (ak) | AL7: (al) | AM7: (am) | AN7: (an) | AO7: (ao) | AP7: (ap)
A8: Cost Categories | B8: Maximum Hourly Rate | C8: Task 1 | E8: Task 2 | G8: Task 3 | I8: Task 4 | K8: Task 5 | M8: Task 6 | O8: Task 7 | Q8: Task 8 | S8: Task 9 | U8: Task 10 | W8: Task 11 | Y8: Task 12 | AA8: Task 13 | AC8: Task 14 | AE8: Task 15 | AG8: Task 16 | AI8: Task 17 | AK8: Task 18 | AM8: Task 19 | AO8: Task 20 | AQ8: Grand Total (All Tasks)
C9: Task Name | E9: Task Name | G9: Task Name | I9: Task Name | K9: Task Name | M9: Task Name | O9: Task Name | Q9: Task Name | S9: Task Name | U9: Task Name | W9: Task Name | Y9: Task Name | AA9: Task Name | AC9: Task Name | AE9: Task Name | AG9: Task Name | AI9: Task Name | AK9: Task Name | AM9: Task Name | AO9: Task Name
C10: Hours | D10: Amount | E10: Hours | F10: Amount | G10: Hours | H10: Amount | I10: Hours | J10: Amount | K10: Hours | L10: Amount | M10: Hours | N10: Amount | O10: Hours | P10: Amount | Q10: Hours | R10: Amount | S10: Hours | T10: Amount | U10: Hours | V10: Amount | W10: Hours | X10: Amount | Y10: Hours | Z10: Amount | AA10: Hours | AB10: Amount | AC10: Hours | AD10: Amount | AE10: Hours | AF10: Amount | AG10: Hours | AH10: Amount | AI10: Hours | AJ10: Amount | AK10: Hours | AL10: Amount | AM10: Hours | AN10: Amount | AO10: Hours | AP10: Amount | AQ10: Hours | AR10: Amount
A11: Direct Labor Classification(s)
A12: Personnel Classification | C12: 0 | D12: =B12*C12 -> 0 | E12: 0 | F12: =$B12*E12 -> 0 | G12: 0 | H12: =$B12*G12 -> 0 | I12: 0 | J12: =$B12*I12 -> 0 | K12: 0 | L12: =$B12*K12 -> 0 | M12: 0 | N12: =$B12*M12 -> 0 | O12: 0 | P12: =$B12*O12 -> 0 | Q12: 0 | R12: =$B12*Q12 -> 0 | S12: 0 | T12: =$B12*S12 -> 0 | U12: 0 | V12: =$B12*U12 -> 0 | W12: 0 | X12: =$B12*W12 -> 0 | Y12: 0 | Z12: =$B12*Y12 -> 0 | AA12: 0 | AB12: =$B12*AA12 -> 0 | AC12: 0 | AD12: =$B12*AC12 -> 0 | AE12: 0 | AF12: =$B12*AE12 -> 0 | AG12: 0 | AH12: =$B12*AG12 -> 0 | AI12: 0 | AJ12: =$B12*AI12 -> 0 | AK12: 0 | AL12: =$B12*AK12 -> 0 | AM12: 0 | AN12: =$B12*AM12 -> 0 | AO12: 0 | AP12: =$B12*AO12 -> 0 | AQ12: =C12+E12+G12+I12+K12+M12+O12+Q12+S12+U12+W12+Y12+AA12+AC12+AE12+AG12+AI12+AK12+AM12+AO12 -> 0 | AR12: =D12+F12+H12+J12+L12+N12+P12+R12+T12+V12+X12+Z12+AB12+AD12+AF12+AH12+AJ12+AL12+AN12+AP12 -> 0
